Workbook

Sheet Portada
G3: Área de Calidade
C5: Cadro de Mando da Facultade de Belas Artes
C7: Indicadores do Sistema de Garantía de Calidade
E8: Curso 23/24
C9: Índice
D10: Datos | F10: Resultados
D11: Indicadores de Centro | F11: Resumo dos Resultados
D12: Anexos do Cadro de Mando | F12: Resultados por procedementos
F13: =+CONCATENATE("Mapa de Procesos do Centro do ",Centro!E4) -> Mapa de Procesos do Centro do Curso 23-24
F14: =+CONCATENATE("Mapa de Procesos do Centro do ",Centro!I4) -> Mapa de Procesos do Centro do Curso X+1
F15: =+CONCATENATE("Mapa de Procesos do Centro do ",Centro!M4) -> Mapa de Procesos do Centro do Curso X+2
D16: Indicadores de Grao en Belas Artes
G19: Maio 2025

Sheet GBBAA
A2: Panel de indicadores- Cadro de mando do Grao en Belas Artes
A4: Indicadores | C4: Procedimientos asociados | E4: Curso 23/24 | I4: Curso X+1 | M4: Curso X+2
A5: Cod | B5: Denominación Indicador | C5: Denominación | D5: Descripción e Fonte de Información | E5: Meta | F5: Resultado | G5: Observacións | I5: Meta | J5: Resultado | K5: Observacións | M5: Meta | N5: Resultado | O5: Observacións
A6: Indicadores dos Programas de Calidade
A7: I1-I2 | B7: Nº Estudantes de novo ingreso (Grao e Máster) | C7: AC-01: Acceso, evolución e Expedición de Titulos Oficiais | D7: Cubrir Meta e Resultado Elixir o documento Grao ACC_1 ou Máster ACC_1, segundo o caso: https://secretaria.uvigo.gal/uv/web/transparencia/informe/show/5/51/63 Os resultados son do curso 23/24 | E7: 120 | F7: 135 | G7: =+IF(AND(ISBLANK(E7),ISBLANK(F7)),"Introducir Meta e Resultado",IF(ISBLANK(E7),"Introducir Meta",IF(ISBLANK(F7),"Introducir Resultado",IF(F7>=E7,"Meta Conseguida","Meta Non Conseguida")))) -> Meta Conseguida | K7: =+IF(AND(ISBLANK(I7),ISBLANK(J7)),"Introducir Meta e Resultado",IF(ISBLANK(I7),"Introducir Meta",IF(ISBLANK(J7),"Introducir Resultado",IF(J7>=I7,"Meta Conseguida","Meta Non Conseguida")))) -> Introducir Meta e Resultado | O7: =+IF(AND(ISBLANK(M7),ISBLANK(N7)),"Introducir Meta e Resultado",IF(ISBLANK(M7),"Introducir Meta",IF(ISBLANK(N7),"Introducir Resultado",IF(N7>=M7,"Meta Conseguida","Meta Non Conseguida")))) -> Introducir Meta e Resultado
A8: I3 | B8: Indicadores de mobilidade do estudantado | C8: DO-0205: Xestión da mobilidade | D8: Nº dos obxectivos I3-1 e I3-2 que se acadan | E8: =+COUNTA(E9:E10) -> 2 | F8: =+COUNTIF(G9:G10,"Meta Conseguida") -> 2 | G8: =+IF(F8=0,"Ningunha Meta Alcanzada",IF(F8>=E8,"Meta Totalmente Alcanzada",IF(F8>0,"Meta Parcialmente Alcanzada"))) -> Meta Totalmente Alcanzada | I8: =+COUNTA(I9:I10) -> 0 | J8: =+COUNTIF(K9:K10,"Meta Conseguida") -> 0 | K8: =+IF(J8=0,"Ningunha Meta Alcanzada",IF(J8>=I8,"Meta Totalmente Alcanzada",IF(J8>0,"Meta Parcialmente Alcanzada"))) -> Ningunha Meta Alcanzada | M8: =+COUNTA(M9:M10) -> 0 | N8: =+COUNTIF(O9:O10,"Meta Conseguida") -> 0 | O8: =+IF(N8=0,"Ningunha Meta Alcanzada",IF(N8>=M8,"Meta Totalmente Alcanzada",IF(N8>0,"Meta Parcialmente Alcanzada"))) -> Ningunha Meta Alcanzada
A9: I3-1 | B9: Nº Estudantes propios que participan en programas de mobilidade | C9: DO-0205: Xestión da mobilidade | D9: Cubrir Meta e Resultado Selecciónar o dato da titulación da columna "Total_SAÍNTE" da Folla Mobilidade_TOTAL do documento "Mobilidade" do portal de transparencia. https://secretaria.uvigo.gal/uv/web/transparencia/informe/show/5/4/19 Os resultados son do curso 23/24 | E9: 15 | F9: 24 | G9: =+IF(AND(ISBLANK(E9),ISBLANK(F9)),"Introducir Meta e Resultado",IF(ISBLANK(E9),"Introducir Meta",IF(ISBLANK(F9),"Introducir Resultado",IF(F9>=E9,"Meta Conseguida","Meta Non Conseguida")))) -> Meta Conseguida | K9: =+IF(AND(ISBLANK(I9),ISBLANK(J9)),"Introducir Meta e Resultado",IF(ISBLANK(I9),"Introducir Meta",IF(ISBLANK(J9),"Introducir Resultado",IF(J9>=I9,"Meta Conseguida","Meta Non Conseguida")))) -> Introducir Meta e Resultado | O9: =+IF(AND(ISBLANK(M9),ISBLANK(N9)),"Introducir Meta e Resultado",IF(ISBLANK(M9),"Introducir Meta",IF(ISBLANK(N9),"Introducir Resultado",IF(N9>=M9,"Meta Conseguida","Meta Non Conseguida")))) -> Introducir Meta e Resultado
A10: I3-2 | B10: % Estudantes que participan en programas de mobilidade | C10: DO-0205: Xestión da mobilidade | D10: Só Cubrir a Meta. O Resultado calcúlase de xeito automático % Estudantado que participa en programas de mobilidade con relación ao estudantado matriculado. Porcentaxe que se calcula de xeito automático, a partir do indicador I3-1 e I45 | E10: =+E9/F87 -> 0.030549898 | F10: =+IFERROR(F$9/F$87,0) -> 0.048879837 | G10: =+IF(AND(ISBLANK(E10),ISBLANK(F10)),"Introducir Meta e Resultado",IF(ISBLANK(E10),"Introducir Meta",IF(ISBLANK(F10),"Introducir Resultado",IF(F10>=E10,"Meta Conseguida","Meta Non Conseguida")))) -> Meta Conseguida | J10: =+IFERROR(J$9/J$87,0) -> 0 | K10: =+IF(AND(ISBLANK(I10),ISBLANK(J10)),"Introducir Meta e Resultado",IF(ISBLANK(I10),"Introducir Meta",IF(ISBLANK(J10),"Introducir Resultado",IF(J10>=I10,"Meta Conseguida","Meta Non Conseguida")))) -> Introducir Meta | N10: =+IFERROR(N$9/N$87,0) -> 0 | O10: =+IF(AND(ISBLANK(M10),ISBLANK(N10)),"Introducir Meta e Resultado",IF(ISBLANK(M10),"Introducir Meta",IF(ISBLANK(N10),"Introducir Resultado",IF(N10>=M10,"Meta Conseguida","Meta Non Conseguida")))) -> Introducir Meta
A11: I4 | B11: Resultados dos indicadores do SGC | C11: DE-02 Seguimento e Medición | D11: Non Cubrir a Meta nin o Resultado. Calcúlanse de xeito automático Este indicador mostra a porcentaxe dos obxectivos que acadan as súas metas establecidas. | E11: =+F11+COUNTIF(G$7:G$10,"Meta non Conseguida")+COUNTIF(G$12:G$102,"Meta non Conseguida") -> 62 | F11: =+COUNTIF(G$6:G$10,"Meta Conseguida")+COUNTIF(G$12:G$102,"Meta Conseguida") -> 62 | G11: =+IFERROR(F11/E11,"Introducir Meta") -> 1 | I11: =+J11+COUNTIF(K$7:K$10,"Meta non Conseguida")+COUNTIF(K$12:K$102,"Meta non Conseguida") -> 0 | J11: =+COUNTIF(K$6:K$10,"Meta Conseguida")+COUNTIF(K$12:K$102,"Meta Conseguida") -> 0 | K11: =+IFERROR(J11/I11,"Introducir Meta") -> Introducir Meta | M11: =+N11+COUNTIF(O$7:O$10,"Meta non Conseguida")+COUNTIF(O$12:O$102,"Meta non Conseguida") -> 0 | N11: =+COUNTIF(O$6:O$10,"Meta Conseguida")+COUNTIF(O$12:O$102,"Meta Conseguida") -> 0 | O11: =+IFERROR(N11/M11,"Introducir Meta") -> Introducir Meta
A12: I5 | B12: Indicadores de formación do PDI | C12: PE-02 Xestión de PDI | D12: Nº dos obxectivos I5-1 e I5-2 que se acadan | E12: =+COUNTA(E13:E14) -> 1 | F12: =+COUNTIF(G13:G14,"Meta Conseguida") -> 1 | G12: =+IF(F12=0,"Ningunha Meta Alcanzada",IF(F12>=E12,"Meta Totalmente Alcanzada",IF(F12>0,"Meta Parcialmente Alcanzada"))) -> Meta Totalmente Alcanzada | I12: =+COUNTA(I13:I14) -> 0 | J12: =+COUNTIF(K13:K14,"Meta Conseguida") -> 0 | K12: =+IF(J12=0,"Ningunha Meta Alcanzada",IF(J12>=I12,"Meta Totalmente Alcanzada",IF(J12>0,"Meta Parcialmente Alcanzada"))) -> Ningunha Meta Alcanzada | M12: =+COUNTA(M13:M14) -> 0 | N12: =+COUNTIF(O13:O14,"Meta Conseguida") -> 0 | O12: =+IF(N12=0,"Ningunha Meta Alcanzada",IF(N12>=M12,"Meta Totalmente Alcanzada",IF(N12>0,"Meta Parcialmente Alcanzada"))) -> Ningunha Meta Alcanzada
A13: I5-1 | B13: Nº PDI en plans de formación do título | C13: PE-02 Xestión de PDI | D13: Cubrir Meta e Resultado Seleccionar o dato na consulta "FOR.Formación e mobilidade do PDI" do portal de transparencia https://secretaria.uvigo.gal/uv/web/transparencia/informe/show/5/34/68 Os resultados son do curso 23/24 | E13: 3 | F13: 4 | G13: =+IF(AND(ISBLANK(E13),ISBLANK(F13)),"Introducir Meta e Resultado",IF(ISBLANK(E13),"Introducir Meta",IF(ISBLANK(F13),"Introducir Resultado",IF(F13>=E13,"Meta Conseguida","Meta Non Conseguida")))) -> Meta Conseguida | K13: =+IF(AND(ISBLANK(I13),ISBLANK(J13)),"Introducir Meta e Resultado",IF(ISBLANK(I13),"Introducir Meta",IF(ISBLANK(J13),"Introducir Resultado",IF(J13>=I13,"Meta Conseguida","Meta Non Conseguida")))) -> Introducir Meta e Resultado | O13: =+IF(AND(ISBLANK(M13),ISBLANK(N13)),"Introducir Meta e Resultado",IF(ISBLANK(M13),"Introducir Meta",IF(ISBLANK(N13),"Introducir Resultado",IF(N13>=M13,"Meta Conseguida","Meta Non Conseguida")))) -> Introducir Meta e Resultado
A14: I5-2 | B14: % Participación do PDI do título en plans de formación | C14: PE-02 Xestión de PDI | D14: Cubrir a Meta. O Resultado calcúlase de xeito automático. É a porcentaxe do PDI que participa en plans de formación, que se calcula de xeito automático a partir do indicador I5-1 e I46 | F14: =+IFERROR(F$13/F$88,0) -> 0.057971014 | G14: =+IF(AND(ISBLANK(E14),ISBLANK(F14)),"Introducir Meta e Resultado",IF(ISBLANK(E14),"Introducir Meta",IF(ISBLANK(F14),"Introducir Resultado",IF(F14>=E14,"Meta Conseguida","Meta Non Conseguida")))) -> Introducir Meta | J14: =+IFERROR(J$13/J$88,0) -> 0 | K14: =+IF(AND(ISBLANK(I14),ISBLANK(J14)),"Introducir Meta e Resultado",IF(ISBLANK(I14),"Introducir Meta",IF(ISBLANK(J14),"Introducir Resultado",IF(J14>=I14,"Meta Conseguida","Meta Non Conseguida")))) -> Introducir Meta | N14: =+IFERROR(N$13/N$88,0) -> 0 | O14: =+IF(AND(ISBLANK(M14),ISBLANK(N14)),"Introducir Meta e Resultado",IF(ISBLANK(M14),"Introducir Meta",IF(ISBLANK(N14),"Introducir Resultado",IF(N14>=M14,"Meta Conseguida","Meta Non Conseguida")))) -> Introducir Meta
A15: I6-AI | B15: % Participación do PDI en Grupos de Innovación Docente | C15: PE-02 Xestión de PDI | D15: Só cubrir o Resultado, é un indicador informativo E a porcentaxe do PDI que participa en Grupos de innovación docente | E15: ---- | F15: 0 | G15: =+IF(ISBLANK(F15),"Introducir Resultado","Resultado Introducido") -> Resultado Introducido | I15: ---- | K15: =+IF(ISBLANK(J15),"Introducir Resultado","Resultado Introducido") -> Introducir Resultado | M15: ---- | O15: =+IF(ISBLANK(N15),"Introducir Resultado","Resultado Introducido") -> Introducir Resultado
A16: I7 | B16: % PDI do título avaliado polo programa DOCENTIA e resultados obtidos | C16: PE-02 Xestión de PDI | D16: Nº dos obxectivos (I7-1 e I7-2) que se acadan | E16: =+COUNTA(E17:E18) -> 2 | F16: =+COUNTIF(G17:G18,"Meta Conseguida") -> 2 | G16: =+IF(F16=0,"Ningunha Meta Alcanzada",IF(F16>=E16,"Meta Totalmente Alcanzada",IF(F16>0,"Meta Parcialmente Alcanzada"))) -> Meta Totalmente Alcanzada | I16: =+COUNTA(I17:I18) -> 0 | J16: =+COUNTIF(K17:K18,"Meta Conseguida") -> 0 | K16: =+IF(J16=0,"Ningunha Meta Alcanzada",IF(J16>=I16,"Meta Totalmente Alcanzada",IF(J16>0,"Meta Parcialmente Alcanzada"))) -> Ningunha Meta Alcanzada | M16: =+COUNTA(M17:M18) -> 0 | N16: =+COUNTIF(O17:O18,"Meta Conseguida") -> 0 | O16: =+IF(N16=0,"Ningunha Meta Alcanzada",IF(N16>=M16,"Meta Totalmente Alcanzada",IF(N16>0,"Meta Parcialmente Alcanzada"))) -> Ningunha Meta Alcanzada
A17: I7-1 | B17: Nº PDI avaliado en DOCENTIA | C17: PE-02 Xestión de PDI | D17: Cubrir Meta e Resultado Nº acumulado do PDI avaliado en todas as convocatorias do Docentia. Sumar o PDI avaliado do conxunto das convocatorias de avaliación (Suma das 4 convocatorias) | E17: 1 | F17: 1 | G17: =+IF(AND(ISBLANK(E17),ISBLANK(F17)),"Introducir Meta e Resultado",IF(ISBLANK(E17),"Introducir Meta",IF(ISBLANK(F17),"Introducir Resultado",IF(F17>=E17,"Meta Conseguida","Meta Non Conseguida")))) -> Meta Conseguida | K17: =+IF(AND(ISBLANK(I17),ISBLANK(J17)),"Introducir Meta e Resultado",IF(ISBLANK(I17),"Introducir Meta",IF(ISBLANK(J17),"Introducir Resultado",IF(J17>=I17,"Meta Conseguida","Meta Non Conseguida")))) -> Introducir Meta e Resultado | O17: =+IF(AND(ISBLANK(M17),ISBLANK(N17)),"Introducir Meta e Resultado",IF(ISBLANK(M17),"Introducir Meta",IF(ISBLANK(N17),"Introducir Resultado",IF(N17>=M17,"Meta Conseguida","Meta Non Conseguida")))) -> Introducir Meta e Resultado
A18: I7-2 | B18: % PDI que participa en DOCENTIA | C18: PE-02 Xestión de PDI | D18: Só Cubrir a Meta. O Resultado calcúlase de xeito automático. % do PDI avaliado entre o Nº total de PDI que imparte docencia na titulación, que se calcula a partir do indicador I7-1 e I46. | E18: 0.01 | F18: =+IFERROR(F$17/F$88,0) -> 0.014492754 | G18: =+IF(AND(ISBLANK(E18),ISBLANK(F18)),"Introducir Meta e Resultado",IF(ISBLANK(E18),"Introducir Meta",IF(ISBLANK(F18),"Introducir Resultado",IF(F18>=E18,"Meta Conseguida","Meta Non Conseguida")))) -> Meta Conseguida | J18: =+IFERROR(J$17/J$88,0) -> 0 | K18: =+IF(AND(ISBLANK(I18),ISBLANK(J18)),"Introducir Meta e Resultado",IF(ISBLANK(I18),"Introducir Meta",IF(ISBLANK(J18),"Introducir Resultado",IF(J18>=I18,"Meta Conseguida","Meta Non Conseguida")))) -> Introducir Meta | N18: =+IFERROR(N$17/N$88,0) -> 0 | O18: =+IF(AND(ISBLANK(M18),ISBLANK(N18)),"Introducir Meta e Resultado",IF(ISBLANK(M18),"Introducir Meta",IF(ISBLANK(N18),"Introducir Resultado",IF(N18>=M18,"Meta Conseguida","Meta Non Conseguida")))) -> Introducir Meta
A19: I7-3 | B19: Resultados do PDI avaliado | C19: PE-02 Xestión de PDI | D19: Engadir a información da titulación da táboa "2.7 Resultados por centro" do informe institucional de resultados na folla de anexos https://www.uvigo.gal/universidade/calidade/programas-calidade/docencia/programa-docentia | E19: 100 | F19: 97 | G19: ---- | I19: ---- | J19: ---- | K19: ---- | M19: ---- | N19: ---- | O19: ----
A20: I8 | B20: Indicadores de mobilidade do PDI | C20: PE-02 Xestión de PDI | D20: Nº dos obxectivos (I8-1 e I8-2) que se acadan | E20: =+COUNTA(E21:E22) -> 1 | F20: =+COUNTIF(G21:G22,"Meta Conseguida") -> 1 | G20: =+IF(F20=0,"Ningunha Meta Alcanzada",IF(F20>=E20,"Meta Totalmente Alcanzada",IF(F20>0,"Meta Parcialmente Alcanzada"))) -> Meta Totalmente Alcanzada | I20: =+COUNTA(I21:I22) -> 0 | J20: =+COUNTIF(K21:K22,"Meta Conseguida") -> 0 | K20: =+IF(J20=0,"Ningunha Meta Alcanzada",IF(J20>=I20,"Meta Totalmente Alcanzada",IF(J20>0,"Meta Parcialmente Alcanzada"))) -> Ningunha Meta Alcanzada | M20: =+COUNTA(M21:M22) -> 0 | N20: =+COUNTIF(O21:O22,"Meta Conseguida") -> 0 | O20: =+IF(N20=0,"Ningunha Meta Alcanzada",IF(N20>=M20,"Meta Totalmente Alcanzada",IF(N20>0,"Meta Parcialmente Alcanzada"))) -> Ningunha Meta Alcanzada
A21: I8-1 | B21: Nº PDI propio que participa en programas de mobilidade | C21: PE-02 Xestión de PDI | D21: Cubrir Meta e Resultado Seleccionar o dato na consulta "FOR. Formación e mobilidade do PDI" do portal de transparencia https://secretaria.uvigo.gal/uv/web/transparencia/informe/show/5/34/68 Os resultados son do curso 23/24 | E21: 1 | F21: 1 | G21: =+IF(AND(ISBLANK(E21),ISBLANK(F21)),"Introducir Meta e Resultado",IF(ISBLANK(E21),"Introducir Meta",IF(ISBLANK(F21),"Introducir Resultado",IF(F21>=E21,"Meta Conseguida","Meta Non Conseguida")))) -> Meta Conseguida | K21: =+IF(AND(ISBLANK(I21),ISBLANK(J21)),"Introducir Meta e Resultado",IF(ISBLANK(I21),"Introducir Meta",IF(ISBLANK(J21),"Introducir Resultado",IF(J21>=I21,"Meta Conseguida","Meta Non Conseguida")))) -> Introducir Meta e Resultado | O21: =+IF(AND(ISBLANK(M21),ISBLANK(N21)),"Introducir Meta e Resultado",IF(ISBLANK(M21),"Introducir Meta",IF(ISBLANK(N21),"Introducir Resultado",IF(N21>=M21,"Meta Conseguida","Meta Non Conseguida")))) -> Introducir Meta e Resultado
A22: I8-2 | B22: % de PDI que participa en programas de mobilidade | C22: PE-02 Xestión de PDI | D22: Só Cubrir a Meta. O Resultado calcúlase de xeito automático. % de PDI que participa en programas de mobilidade con relación ao PDI total, que se calcula a partir dos indicadores I8-1 e I46 | F22: =+IFERROR(F$21/F$88,0) -> 0.014492754 | G22: =+IF(AND(ISBLANK(E22),ISBLANK(F22)),"Introducir Meta e Resultado",IF(ISBLANK(E22),"Introducir Meta",IF(ISBLANK(F22),"Introducir Resultado",IF(F22>=E22,"Meta Conseguida","Meta Non Conseguida")))) -> Introducir Meta | J22: =+IFERROR(J$21/J$88,0) -> 0 | K22: =+IF(AND(ISBLANK(I22),ISBLANK(J22)),"Introducir Meta e Resultado",IF(ISBLANK(I22),"Introducir Meta",IF(ISBLANK(J22),"Introducir Resultado",IF(J22>=I22,"Meta Conseguida","Meta Non Conseguida")))) -> Introducir Meta | N22: =+IFERROR(N$21/N$88,0) -> 0 | O22: =+IF(AND(ISBLANK(M22),ISBLANK(N22)),"Introducir Meta e Resultado",IF(ISBLANK(M22),"Introducir Meta",IF(ISBLANK(N22),"Introducir Resultado",IF(N22>=M22,"Meta Conseguida","Meta Non Conseguida")))) -> Introducir Meta
A23: I9 | B23: Distribución de alumnado por centros de prácticas | C23: DO-0204 Xestión de prácticas | D23: Este indicador atópase no rexistro "R1 DO-0204" na aplicación SGIC da secretaría virtual: https://secretaria.uvigo.gal/uv/web/sgic/admin/evidencias/list | E23: ---- | F23: ---- | G23: ---- | I23: ---- | J23: ---- | K23: ---- | M23: ---- | N23: ---- | O23: ----
A24: I10 | B24: Indicadores de resultados | C24: DE-02 Seguimento e Medición; DE-03 Revisión do sistema pola dirección | D24: Nº dos obxectivos (I10-1 ata I10-12) que se acadan | E24: =+COUNTA(E25:E30)+COUNTA(E32:E33)+COUNTA(E35:E36) -> 9 | F24: =+COUNTIF(G25:G36,"Meta Conseguida") -> 9 | G24: =+IF(F24=0,"Ningunha Meta Alcanzada",IF(F24>=E24,"Meta Totalmente Alcanzada",IF(F24>0,"Meta Parcialmente Alcanzada"))) -> Meta Totalmente Alcanzada | I24: =+COUNTA(I25:I30)+COUNTA(I32:I33)+COUNTA(I35:I36) -> 0 | J24: =+COUNTIF(K25:K36,"Meta Conseguida") -> 0 | K24: =+IF(J24=0,"Ningunha Meta Alcanzada",IF(J24>=I24,"Meta Totalmente Alcanzada",IF(J24>0,"Meta Parcialmente Alcanzada"))) -> Ningunha Meta Alcanzada | M24: =+COUNTA(M25:M30)+COUNTA(M32:M33)+COUNTA(M35:M36) -> 0 | N24: =+COUNTIF(O25:O36,"Meta Conseguida") -> 0 | O24: =+IF(N24=0,"Ningunha Meta Alcanzada",IF(N24>=M24,"Meta Totalmente Alcanzada",IF(N24>0,"Meta Parcialmente Alcanzada"))) -> Ningunha Meta Alcanzada
A25: I10-1 | B25: Taxa de graduación da titulación | C25: DE-02 Seguimento e Medición; DE-03 Revisión do sistema pola dirección | D25: Cubrir Meta e Resultado Escoller o documento excel do grao ou máster segundo o caso, do menú de GRA. Graduación https://secretaria.uvigo.gal/uv/web/transparencia/informe/show/5/51/66 Os resultados son do curso 22/23 | E25: 0.6 | F25: 0.66129032 | G25: =+IF(AND(ISBLANK(E25),ISBLANK(F25)),"Introducir Meta e Resultado",IF(ISBLANK(E25),"Introducir Meta",IF(ISBLANK(F25),"Introducir Resultado",IF(F25>=E25,"Meta Conseguida","Meta Non Conseguida")))) -> Meta Conseguida | K25: =+IF(AND(ISBLANK(I25),ISBLANK(J25)),"Introducir Meta e Resultado",IF(ISBLANK(I25),"Introducir Meta",IF(ISBLANK(J25),"Introducir Resultado",IF(J25>=I25,"Meta Conseguida","Meta Non Conseguida")))) -> Introducir Meta e Resultado | O25: =+IF(AND(ISBLANK(M25),ISBLANK(N25)),"Introducir Meta e Resultado",IF(ISBLANK(M25),"Introducir Meta",IF(ISBLANK(N25),"Introducir Resultado",IF(N25>=M25,"Meta Conseguida","Meta Non Conseguida")))) -> Introducir Meta e Resultado
A26: I10-2 | B26: Taxa de abandono da titulación (CURSA) | C26: DE-02 Seguimento e Medición; DE-03 Revisión do sistema pola dirección | D26: Cubrir Meta e Resultado. O indicador acádase se o resultado é igual ou inferior á meta Escoller o documento excel do grao ou máster segundo o caso, do menú ABA: abandono https://secretaria.uvigo.gal/uv/web/transparencia/informe/show/5/51/65 Os resultados son do curso 23/24 | E26: 0.13 | F26: 0.12396694 | G26: =+IF(AND(ISBLANK(E26),ISBLANK(F26)),"Introducir Meta e Resultado",IF(ISBLANK(E26),"Introducir Meta",IF(ISBLANK(F26),"Introducir Resultado",IF(F26<=E26,"Meta Conseguida","Meta Non Conseguida")))) -> Meta Conseguida | K26: =+IF(AND(ISBLANK(I26),ISBLANK(J26)),"Introducir Meta e Resultado",IF(ISBLANK(I26),"Introducir Meta",IF(ISBLANK(J26),"Introducir Resultado",IF(J26<=I26,"Meta Conseguida","Meta Non Conseguida")))) -> Introducir Meta e Resultado | O26: =+IF(AND(ISBLANK(M26),ISBLANK(N26)),"Introducir Meta e Resultado",IF(ISBLANK(M26),"Introducir Meta",IF(ISBLANK(N26),"Introducir Resultado",IF(N26<=M26,"Meta Conseguida","Meta Non Conseguida")))) -> Introducir Meta e Resultado
A27: I10-3 | B27: Taxa de eficiencia | C27: DE-02 Seguimento e Medición; DE-03 Revisión do sistema pola dirección | D27: Cubrir Meta e Resultado Escoller o documento excel do grao ou máster segundo o caso, do menú de GRA. Graduación https://secretaria.uvigo.gal/uv/web/transparencia/informe/show/5/51/66 Os resultados son do curso 22/23 | E27: 0.9 | F27: 0.93271523 | G27: =+IF(AND(ISBLANK(E27),ISBLANK(F27)),"Introducir Meta e Resultado",IF(ISBLANK(E27),"Introducir Meta",IF(ISBLANK(F27),"Introducir Resultado",IF(F27>=E27,"Meta Conseguida","Meta Non Conseguida")))) -> Meta Conseguida | K27: =+IF(AND(ISBLANK(I27),ISBLANK(J27)),"Introducir Meta e Resultado",IF(ISBLANK(I27),"Introducir Meta",IF(ISBLANK(J27),"Introducir Resultado",IF(J27>=I27,"Meta Conseguida","Meta Non Conseguida")))) -> Introducir Meta e Resultado | O27: =+IF(AND(ISBLANK(M27),ISBLANK(N27)),"Introducir Meta e Resultado",IF(ISBLANK(M27),"Introducir Meta",IF(ISBLANK(N27),"Introducir Resultado",IF(N27>=M27,"Meta Conseguida","Meta Non Conseguida")))) -> Introducir Meta e Resultado
A28: I10-4 | B28: Taxa de Rendemento | C28: DE-02 Seguimento e Medición; DE-03 Revisión do sistema pola dirección | D28: Cubrir Meta e Resultado Elixir o documento excel do grao ou máster segundo o caso, do menú REN Rendemento https://secretaria.uvigo.gal/uv/web/transparencia/informe/show/5/51/64 Os resultados son do curso 23/24 | E28: 0.8 | F28: 0.85078092 | G28: =+IF(AND(ISBLANK(E28),ISBLANK(F28)),"Introducir Meta e Resultado",IF(ISBLANK(E28),"Introducir Meta",IF(ISBLANK(F28),"Introducir Resultado",IF(F28>=E28,"Meta Conseguida","Meta Non Conseguida")))) -> Meta Conseguida | K28: =+IF(AND(ISBLANK(I28),ISBLANK(J28)),"Introducir Meta e Resultado",IF(ISBLANK(I28),"Introducir Meta",IF(ISBLANK(J28),"Introducir Resultado",IF(J28>=I28,"Meta Conseguida","Meta Non Conseguida")))) -> Introducir Meta e Resultado | O28: =+IF(AND(ISBLANK(M28),ISBLANK(N28)),"Introducir Meta e Resultado",IF(ISBLANK(M28),"Introducir Meta",IF(ISBLANK(N28),"Introducir Resultado",IF(N28>=M28,"Meta Conseguida","Meta Non Conseguida")))) -> Introducir Meta e Resultado
A29: I10-5 | B29: Taxa de éxito | C29: DE-02 Seguimento e Medición; DE-03 Revisión do sistema pola dirección | D29: Cubrir Meta e Resultado Elixir o documento excel do grao ou máster segundo o caso, do menú REN Rendemento https://secretaria.uvigo.gal/uv/web/transparencia/informe/show/5/51/64 Os resultados son do curso 23/24 | E29: 0.9 | F29: 0.96713052 | G29: =+IF(AND(ISBLANK(E29),ISBLANK(F29)),"Introducir Meta e Resultado",IF(ISBLANK(E29),"Introducir Meta",IF(ISBLANK(F29),"Introducir Resultado",IF(F29>=E29,"Meta Conseguida","Meta Non Conseguida")))) -> Meta Conseguida | K29: =+IF(AND(ISBLANK(I29),ISBLANK(J29)),"Introducir Meta e Resultado",IF(ISBLANK(I29),"Introducir Meta",IF(ISBLANK(J29),"Introducir Resultado",IF(J29>=I29,"Meta Conseguida","Meta Non Conseguida")))) -> Introducir Meta e Resultado | O29: =+IF(AND(ISBLANK(M29),ISBLANK(N29)),"Introducir Meta e Resultado",IF(ISBLANK(M29),"Introducir Meta",IF(ISBLANK(N29),"Introducir Resultado",IF(N29>=M29,"Meta Conseguida","Meta Non Conseguida")))) -> Introducir Meta e Resultado
A30: I10-6 | B30: Taxa de avaliación | C30: DE-02 Seguimento e Medición; DE-03 Revisión do sistema pola dirección | D30: Cubrir Meta e Resultado Elixir o documento excel do grao ou máster segundo o caso, do menú REN Rendemento https://secretaria.uvigo.gal/uv/web/transparencia/informe/show/5/51/64 Os resultados son do curso 23/24 | E30: 0.8 | F30: 0.87969607 | G30: =+IF(AND(ISBLANK(E30),ISBLANK(F30)),"Introducir Meta e Resultado",IF(ISBLANK(E30),"Introducir Meta",IF(ISBLANK(F30),"Introducir Resultado",IF(F30>=E30,"Meta Conseguida","Meta Non Conseguida")))) -> Meta Conseguida | K30: =+IF(AND(ISBLANK(I30),ISBLANK(J30)),"Introducir Meta e Resultado",IF(ISBLANK(I30),"Introducir Meta",IF(ISBLANK(J30),"Introducir Resultado",IF(J30>=I30,"Meta Conseguida","Meta Non Conseguida")))) -> Introducir Meta e Resultado | O30: =+IF(AND(ISBLANK(M30),ISBLANK(N30)),"Introducir Meta e Resultado",IF(ISBLANK(M30),"Introducir Meta",IF(ISBLANK(N30),"Introducir Resultado",IF(N30>=M30,"Meta Conseguida","Meta Non Conseguida")))) -> Introducir Meta e Resultado
A31: I10-7 | B31: Taxa de Rendemento por materia | C31: DE-02 Seguimento e Medición; DE-03 Revisión do sistema pola dirección | D31: Engadir a información na Folla Anexos do Cadro de Mando, sobre as taxas de rendemento das titulación que se pode obter na consulta REN. Rendemento por materia https://secretaria.uvigo.gal/uv/web/transparencia/informe/show/5/51/64 | E31: ---- | F31: ---- | G31: ---- | I31: ---- | J31: ---- | K31: ---- | M31: ---- | N31: ---- | O31: ----
A32: I10-8 | B32: Valor mínimo das taxas de Rendemento dunha materia da titulación | C32: DE-02 Seguimento e Medición; DE-03 Revisión do sistema pola dirección | D32: Só Cubrir a Meta. O Resultado calcúlase de xeito automático. Indicar o valor mínimo das taxas de rendemento das materias da titulación, do indicador I10-7 | E32: 0.6 | F32: =+MIN(Anexos!$R$6:$R$100) -> 0.64596273 | G32: =+IF(AND(ISBLANK(E32),ISBLANK(F32)),"Introducir Meta e Resultado",IF(ISBLANK(E32),"Introducir Meta",IF(ISBLANK(F32),"Introducir Resultado",IF(F32>=E32,"Meta Conseguida","Meta Non Conseguida")))) -> Meta Conseguida | J32: =+MIN(Anexos!$AR$6:$AR$100) -> 0.63636364 | K32: =+IF(AND(ISBLANK(I32),ISBLANK(J32)),"Introducir Meta e Resultado",IF(ISBLANK(I32),"Introducir Meta",IF(ISBLANK(J32),"Introducir Resultado",IF(J32>=I32,"Meta Conseguida","Meta Non Conseguida")))) -> Introducir Meta | N32: =+MIN(Anexos!$BR$6:$BR$100) -> 0 | O32: =+IF(AND(ISBLANK(M32),ISBLANK(N32)),"Introducir Meta e Resultado",IF(ISBLANK(M32),"Introducir Meta",IF(ISBLANK(N32),"Introducir Resultado",IF(N32>=M32,"Meta Conseguida","Meta Non Conseguida")))) -> Introducir Meta
A33: I10-9 | B33: % de materias que acadan unha Taxa de Rendemento de XX% | C33: DE-02 Seguimento e Medición; DE-03 Revisión do sistema pola dirección | D33: Só Cubrir a Meta. O Resultado calcúlase de xeito automático. Indicar a % de materias cunha taxa de rendemento igual ou superior a un valor establecido (Por exemplo o 50%). O Resultado calcúlase de xeito automático, indicando na columna T da folla "Anexos" o valor establecido da taxa de cada materia | F33: =Anexos!$V$3 -> 0.078947368 | G33: =+IF(AND(ISBLANK(E33),ISBLANK(F33)),"Introducir Meta e Resultado",IF(ISBLANK(E33),"Introducir Meta",IF(ISBLANK(F33),"Introducir Resultado",IF(F33>=E33,"Meta Conseguida","Meta Non Conseguida")))) -> Introducir Meta | J33: =Anexos!$AV$3 -> 1 | K33: =+IF(AND(ISBLANK(I33),ISBLANK(J33)),"Introducir Meta e Resultado",IF(ISBLANK(I33),"Introducir Meta",IF(ISBLANK(J33),"Introducir Resultado",IF(J33>=I33,"Meta Conseguida","Meta Non Conseguida")))) -> Introducir Meta | N33: =Anexos!$BV$3 -> 0 | O33: =+IF(AND(ISBLANK(M33),ISBLANK(N33)),"Introducir Meta e Resultado",IF(ISBLANK(M33),"Introducir Meta",IF(ISBLANK(N33),"Introducir Resultado",IF(N33>=M33,"Meta Conseguida","Meta Non Conseguida")))) -> Introducir Meta
A34: I10-10 | B34: Taxa de éxito por materia | C34: DE-02 Seguimento e Medición; DE-03 Revisión do sistema pola dirección | D34: Engadir a información na Folla Anexos do Cadro de Mando, sobre as taxas de Éxito das titulación que se pode obter na consulta REN. Rendemento por materia https://secretaria.uvigo.gal/uv/web/transparencia/informe/show/5/51/64 | E34: ---- | F34: ---- | G34: ---- | I34: ---- | J34: ---- | K34: ---- | M34: ---- | N34: ---- | O34: ----
A35: I10-11 | B35: Valor mínimo das taxas de Éxito dunha materia da titulación | C35: DE-02 Seguimento e Medición; DE-03 Revisión do sistema pola dirección | D35: Só Cubrir a Meta. O Resultado calcúlase de xeito automático. Indicar o valor mínimo das taxas de Éxito das materias da titulación, do indicador I10-10 | E35: 0.7 | F35: =+MIN(Anexos!$Q$6:$Q$100) -> 0.80620155 | G35: =+IF(AND(ISBLANK(E35),ISBLANK(F35)),"Introducir Meta e Resultado",IF(ISBLANK(E35),"Introducir Meta",IF(ISBLANK(F35),"Introducir Resultado",IF(F35>=E35,"Meta Conseguida","Meta Non Conseguida")))) -> Meta Conseguida | J35: =+MIN(Anexos!$AQ$6:$AQ$100) -> 0.76767677 | K35: =+IF(AND(ISBLANK(I35),ISBLANK(J35)),"Introducir Meta e Resultado",IF(ISBLANK(I35),"Introducir Meta",IF(ISBLANK(J35),"Introducir Resultado",IF(J35>=I35,"Meta Conseguida","Meta Non Conseguida")))) -> Introducir Meta | N35: =+MIN(Anexos!$BQ$6:$BQ$100) -> 0 | O35: =+IF(AND(ISBLANK(M35),ISBLANK(N35)),"Introducir Meta e Resultado",IF(ISBLANK(M35),"Introducir Meta",IF(ISBLANK(N35),"Introducir Resultado",IF(N35>=M35,"Meta Conseguida","Meta Non Conseguida")))) -> Introducir Meta
A36: I10-12 | B36: Xº de materias que acadan unha Taxa de Éxito de XX% | C36: DE-02 Seguimento e Medición; DE-03 Revisión do sistema pola dirección | D36: Só Cubrir a Meta. O Resultado calcúlase de xeito automático. Indicar a % de materias cunha taxa de Éxito igual ou superior a un valor establecido (Por exemplo o 50%). O Resultado calcúlase de xeito automático, indicando na columna S da folla "Anexos" o valor establecido da taxa de cada materia | E36: 1 | F36: =Anexos!$U$3 -> 1 | G36: =+IF(AND(ISBLANK(E36),ISBLANK(F36)),"Introducir Meta e Resultado",IF(ISBLANK(E36),"Introducir Meta",IF(ISBLANK(F36),"Introducir Resultado",IF(F36>=E36,"Meta Conseguida","Meta Non Conseguida")))) -> Meta Conseguida | J36: =Anexos!$AU$3 -> 1 | K36: =+IF(AND(ISBLANK(I36),ISBLANK(J36)),"Introducir Meta e Resultado",IF(ISBLANK(I36),"Introducir Meta",IF(ISBLANK(J36),"Introducir Resultado",IF(J36>=I36,"Meta Conseguida","Meta Non Conseguida")))) -> Introducir Meta | N36: =Anexos!$BU$3 -> 0 | O36: =+IF(AND(ISBLANK(M36),ISBLANK(N36)),"Introducir Meta e Resultado",IF(ISBLANK(M36),"Introducir Meta",IF(ISBLANK(N36),"Introducir Resultado",IF(N36>=M36,"Meta Conseguida","Meta Non Conseguida")))) -> Introducir Meta
A37: I11 | B37: Relación de Oferta / Demanda de prazas | C37: AC-01: Acceso, evolución e Expedición de Titulos Oficiais | D37: Nº dos obxectivos (I11-1, I11-2 e I11-3) que se acadan | E37: =+COUNTA(E38:E40) -> 3 | F37: =+COUNTIF(G38:G40,"Meta Conseguida") -> 3 | G37: =+IF(F37=0,"Ningunha Meta Alcanzada",IF(F37>=E37,"Meta Totalmente Alcanzada",IF(F37>0,"Meta Parcialmente Alcanzada"))) -> Meta Totalmente Alcanzada | I37: =+COUNTA(I38:I40) -> 0 | J37: =+COUNTIF(K38:K40,"Meta Conseguida") -> 0 | K37: =+IF(J37=0,"Ningunha Meta Alcanzada",IF(J37>=I37,"Meta Totalmente Alcanzada",IF(J37>0,"Meta Parcialmente Alcanzada"))) -> Ningunha Meta Alcanzada | M37: =+COUNTA(M38:M40) -> 0 | N37: =+COUNTIF(O38:O40,"Meta Conseguida") -> 0 | O37: =+IF(N37=0,"Ningunha Meta Alcanzada",IF(N37>=M37,"Meta Totalmente Alcanzada",IF(N37>0,"Meta Parcialmente Alcanzada"))) -> Ningunha Meta Alcanzada
A38: I11-1 | B38: Taxa de Ocupación | C38: AC-01: Acceso, evolución e Expedición de Titulos Oficiais | D38: Cubrir Meta e Resultado (só Graos) Acceder á consulta de PRE.GRA Admisión de Grao, https://secretaria.uvigo.gal/uv/web/transparencia/informe/show/5/51/3 Posteriormente elixir a folla de Taxas de ocupación, preferencia e adecuación Son os resultados do curso 23-24 | E38: 1 | F38: 1.0230769 | G38: =+IF(AND(ISBLANK(E38),ISBLANK(F38)),"Introducir Meta e Resultado",IF(ISBLANK(E38),"Introducir Meta",IF(ISBLANK(F38),"Introducir Resultado",IF(F38>=E38,"Meta Conseguida","Meta Non Conseguida")))) -> Meta Conseguida | K38: =+IF(AND(ISBLANK(I38),ISBLANK(J38)),"Introducir Meta e Resultado",IF(ISBLANK(I38),"Introducir Meta",IF(ISBLANK(J38),"Introducir Resultado",IF(J38>=I38,"Meta Conseguida","Meta Non Conseguida")))) -> Introducir Meta e Resultado | O38: =+IF(AND(ISBLANK(M38),ISBLANK(N38)),"Introducir Meta e Resultado",IF(ISBLANK(M38),"Introducir Meta",IF(ISBLANK(N38),"Introducir Resultado",IF(N38>=M38,"Meta Conseguida","Meta Non Conseguida")))) -> Introducir Meta e Resultado
A39: I11-2 | B39: Taxa de Preferencia (só Graos) | C39: AC-01: Acceso, evolución e Expedición de Titulos Oficiais | D39: Cubrir Meta e Resultado (só Graos) Acceder á consulta de PRE.GRA Admisión de Grao, https://secretaria.uvigo.gal/uv/web/transparencia/informe/show/5/51/3 Posteriormente elixir a folla de Taxas de ocupación, preferencia e adecuación Son os resultados do curso 23-24 | E39: 1 | F39: 1.5307692 | G39: =+IF(AND(ISBLANK(E39),ISBLANK(F39)),"Introducir Meta e Resultado",IF(ISBLANK(E39),"Introducir Meta",IF(ISBLANK(F39),"Introducir Resultado",IF(F39>=E39,"Meta Conseguida","Meta Non Conseguida")))) -> Meta Conseguida | K39: =+IF(AND(ISBLANK(I39),ISBLANK(J39)),"Introducir Meta e Resultado",IF(ISBLANK(I39),"Introducir Meta",IF(ISBLANK(J39),"Introducir Resultado",IF(J39>=I39,"Meta Conseguida","Meta Non Conseguida")))) -> Introducir Meta e Resultado | O39: =+IF(AND(ISBLANK(M39),ISBLANK(N39)),"Introducir Meta e Resultado",IF(ISBLANK(M39),"Introducir Meta",IF(ISBLANK(N39),"Introducir Resultado",IF(N39>=M39,"Meta Conseguida","Meta Non Conseguida")))) -> Introducir Meta e Resultado
A40: I11-3 | B40: Taxa de Adecuación (só Graos) | C40: AC-01: Acceso, evolución e Expedición de Titulos Oficiais | D40: Cubrir Meta e Resultado (só Graos) Acceder á consulta de PRE.GRA Admisión de Grao, https://secretaria.uvigo.gal/uv/web/transparencia/informe/show/5/51/3 Posteriormente elixir a folla de Taxas de ocupación, preferencia e adecuación Son os resultados do curso 23-24 | E40: 0.8 | F40: 0.90225564 | G40: =+IF(AND(ISBLANK(E40),ISBLANK(F40)),"Introducir Meta e Resultado",IF(ISBLANK(E40),"Introducir Meta",IF(ISBLANK(F40),"Introducir Resultado",IF(F40>=E40,"Meta Conseguida","Meta Non Conseguida")))) -> Meta Conseguida | K40: =+IF(AND(ISBLANK(I40),ISBLANK(J40)),"Introducir Meta e Resultado",IF(ISBLANK(I40),"Introducir Meta",IF(ISBLANK(J40),"Introducir Resultado",IF(J40>=I40,"Meta Conseguida","Meta Non Conseguida")))) -> Introducir Meta e Resultado | O40: =+IF(AND(ISBLANK(M40),ISBLANK(N40)),"Introducir Meta e Resultado",IF(ISBLANK(M40),"Introducir Meta",IF(ISBLANK(N40),"Introducir Resultado",IF(N40>=M40,"Meta Conseguida","Meta Non Conseguida")))) -> Introducir Meta e Resultado
A41: I12 | B41: Resultados de inserción laboral | C41: DE-02 Seguimento e Medición; DE-03 Revisión do sistema pola dirección | D41: Só cubrir o Resultado, é un indicador informativo Introducir a inserción laboral da da titulación da secretaría virtual https://secretaria.uvigo.gal/uv/web/transparencia/grupo/show/5/69 Son os resultados do informe da UVIGO do 2020/21 | E41: 0.38 | F41: 0.385 | G41: =+IF(ISBLANK(F41),"Introducir Resultado","Indicador Completado") -> Indicador Completado | I41: ---- | K41: =+IF(ISBLANK(J41),"Introducir Resultado","Indicador Completado") -> Introducir Resultado | M41: ---- | O41: =+IF(ISBLANK(N41),"Introducir Resultado","Indicador Completado") -> Introducir Resultado
A42: I13 | B42: Media alumnos por grupo de docencia ou PDA | C42: DO-0201 Planificación e desenvolvemento da ensinanza | D42: Este indicador atópase no rexistro "R1 DO-0201 PDA" na aplicación SGIC da secretaría virtual: https://secretaria.uvigo.gal/uv/web/sgic/admin/evidencias/list | E42: 30 | F42: 30 | G42: ---- | I42: ---- | J42: ---- | K42: ---- | M42: ---- | N42: ---- | O42: ----
A44: Indicadores institucionais da Universidade de Vigo
A46: I20 | B46: Índice das enquisas de satisfacción coas titulacións | C46: MC-05 Medición satisfacción | D46: Nº dos obxectivos (I20-1, I20-2, I20-3 e I20-4) que se acadan | E46: =+COUNTA(E47:E51) -> 5 | F46: =+COUNTIF(G47:G51,"Meta Conseguida") -> 5 | G46: =+IF(F46=0,"Ningunha Meta Alcanzada",IF(F46>=E46,"Meta Totalmente Alcanzada",IF(F46>0,"Meta Parcialmente Alcanzada"))) -> Meta Totalmente Alcanzada | I46: =+COUNTA(I47:I51) -> 0 | J46: =+COUNTIF(K47:K51,"Meta Conseguida") -> 0 | K46: =+IF(J46=0,"Ningunha Meta Alcanzada",IF(J46>=I46,"Meta Totalmente Alcanzada",IF(J46>0,"Meta Parcialmente Alcanzada"))) -> Ningunha Meta Alcanzada | M46: =+COUNTA(M47:M51) -> 0 | N46: =+COUNTIF(O47:O51,"Meta Conseguida") -> 0 | O46: =+IF(N46=0,"Ningunha Meta Alcanzada",IF(N46>=M46,"Meta Totalmente Alcanzada",IF(N46>0,"Meta Parcialmente Alcanzada"))) -> Ningunha Meta Alcanzada
A47: I20-1 | B47: Índice de satisfacción do Estudantado coas titulacións | C47: MC-05 Medición satisfacción | D47: Cubrir Meta e Resultado. A meta poderá estar entre os valores [1-5] Introducir o Grao de satisfacción do estudantado coa titulación, que se atopa na folla "Titulación", na columna "Resultado" na fila de "ValoraciónTotal" da titulación do informe do portal de transparencia. https://secretaria.uvigo.gal/uv/web/transparencia/grupo/show/5/28 Os resultados son do curso 23-24 | E47: 2 | F47: 2.5146199 | G47: =+IF(AND(ISBLANK(E47),ISBLANK(F47)),"Introducir Meta e Resultado",IF(ISBLANK(E47),"Introducir Meta",IF(ISBLANK(F47),"Introducir Resultado",IF(F47>=E47,"Meta Conseguida","Meta Non Conseguida")))) -> Meta Conseguida | K47: =+IF(AND(ISBLANK(I47),ISBLANK(J47)),"Introducir Meta e Resultado",IF(ISBLANK(I47),"Introducir Meta",IF(ISBLANK(J47),"Introducir Resultado",IF(J47>=I47,"Meta Conseguida","Meta Non Conseguida")))) -> Introducir Meta e Resultado | O47: =+IF(AND(ISBLANK(M47),ISBLANK(N47)),"Introducir Meta e Resultado",IF(ISBLANK(M47),"Introducir Meta",IF(ISBLANK(N47),"Introducir Resultado",IF(N47>=M47,"Meta Conseguida","Meta Non Conseguida")))) -> Introducir Meta e Resultado
A48: I20-2 | B48: Índice de satisfacción do Profesorado coas titulacións | C48: MC-05 Medición satisfacción | D48: Cubrir Meta e Resultado. A meta poderá estar entre os valores [1-5] Introducir o Grao de satisfacción do PDI coa titulación, que se atopa na folla "Titulación", na columna "Resultado" na fila de "Valoración Total" da titulación do informe do portal de transparencia. https://secretaria.uvigo.gal/uv/web/transparencia/grupo/show/5/28 No caso que no curso de referencia non houbera resultados, seleccionar o índice do curso pasado Os resultados son do curso 22-23 | E48: 3 | F48: 3.3573883 | G48: =+IF(AND(ISBLANK(E48),ISBLANK(F48)),"Introducir Meta e Resultado",IF(ISBLANK(E48),"Introducir Meta",IF(ISBLANK(F48),"Introducir Resultado",IF(F48>=E48,"Meta Conseguida","Meta Non Conseguida")))) -> Meta Conseguida | K48: =+IF(AND(ISBLANK(I48),ISBLANK(J48)),"Introducir Meta e Resultado",IF(ISBLANK(I48),"Introducir Meta",IF(ISBLANK(J48),"Introducir Resultado",IF(J48>=I48,"Meta Conseguida","Meta Non Conseguida")))) -> Introducir Meta e Resultado | O48: =+IF(AND(ISBLANK(M48),ISBLANK(N48)),"Introducir Meta e Resultado",IF(ISBLANK(M48),"Introducir Meta",IF(ISBLANK(N48),"Introducir Resultado",IF(N48>=M48,"Meta Conseguida","Meta Non Conseguida")))) -> Introducir Meta e Resultado
A49: I20-3 | B49: Índice de satisfacción das Persoas tituladas coas titulacións | C49: MC-05 Medición satisfacción | D49: Cubrir Meta e Resultado. A meta poderá estar entre os valores [1-5] Introducir o Grao de satisfacción das Persoas Tituladas coa titulación, que se atopa na folla "Titulación", na columna "Resultado" na fila de "Valoración Total" da titulación do informe do portal de transparencia. https://secretaria.uvigo.gal/uv/web/transparencia/grupo/show/5/28 Os resultados son do curso 23-24 | E49: 2 | F49: 2.626087 | G49: =+IF(AND(ISBLANK(E49),ISBLANK(F49)),"Introducir Meta e Resultado",IF(ISBLANK(E49),"Introducir Meta",IF(ISBLANK(F49),"Introducir Resultado",IF(F49>=E49,"Meta Conseguida","Meta Non Conseguida")))) -> Meta Conseguida | K49: =+IF(AND(ISBLANK(I49),ISBLANK(J49)),"Introducir Meta e Resultado",IF(ISBLANK(I49),"Introducir Meta",IF(ISBLANK(J49),"Introducir Resultado",IF(J49>=I49,"Meta Conseguida","Meta Non Conseguida")))) -> Introducir Meta e Resultado | O49: =+IF(AND(ISBLANK(M49),ISBLANK(N49)),"Introducir Meta e Resultado",IF(ISBLANK(M49),"Introducir Meta",IF(ISBLANK(N49),"Introducir Resultado",IF(N49>=M49,"Meta Conseguida","Meta Non Conseguida")))) -> Introducir Meta e Resultado
A50: I20-4 | B50: Índice de satisfacción do PTXAS coas titulacións | C50: MC-05 Medición satisfacción | D50: Cubrir Meta e Resultado. A meta poderá estar entre os valores [1-5] Introducir o Grao de satisfacción do PTXAS coa titulación, que se atopa na folla "Titulación", na columna "Resultado" na fila de "Valoración Total" da titulación do informe do portal de transparencia. https://secretaria.uvigo.gal/uv/web/transparencia/grupo/show/5/28 No caso que no curso de referencia non houbera resultados, seleccionar o índice do curso pasado Os resultados son do curso 22-23 | E50: 3 | F50: 3.0243902 | G50: =+IF(AND(ISBLANK(E50),ISBLANK(F50)),"Introducir Meta e Resultado",IF(ISBLANK(E50),"Introducir Meta",IF(ISBLANK(F50),"Introducir Resultado",IF(F50>=E50,"Meta Conseguida","Meta Non Conseguida")))) -> Meta Conseguida | K50: =+IF(AND(ISBLANK(I50),ISBLANK(J50)),"Introducir Meta e Resultado",IF(ISBLANK(I50),"Introducir Meta",IF(ISBLANK(J50),"Introducir Resultado",IF(J50>=I50,"Meta Conseguida","Meta Non Conseguida")))) -> Introducir Meta e Resultado | O50: =+IF(AND(ISBLANK(M50),ISBLANK(N50)),"Introducir Meta e Resultado",IF(ISBLANK(M50),"Introducir Meta",IF(ISBLANK(N50),"Introducir Resultado",IF(N50>=M50,"Meta Conseguida","Meta Non Conseguida")))) -> Introducir Meta e Resultado
A51: I20-5 | B51: Índice de satisfacción de entidades empregadoras coas titulacións | C51: MC-05 Medición satisfacción | D51: Cubrir Meta e Resultado. A meta poderá estar entre os valores [1-5] Introducir o Grao de satisfacción das entidades empregadoras coa titulación, que se atopa na folla "Titulación", na columna "Resultado" do informe achegado pola Área de Calidade. No caso que no curso de referencia non houbera resultados, seleccionar o índice do curso pasado Os resultados son do curso 23-24 | E51: 4 | F51: 4 | G51: =+IF(AND(ISBLANK(E51),ISBLANK(F51)),"Introducir Meta e Resultado",IF(ISBLANK(E51),"Introducir Meta",IF(ISBLANK(F51),"Introducir Resultado",IF(F51>=E51,"Meta Conseguida","Meta Non Conseguida")))) -> Meta Conseguida | K51: =+IF(AND(ISBLANK(I51),ISBLANK(J51)),"Introducir Meta e Resultado",IF(ISBLANK(I51),"Introducir Meta",IF(ISBLANK(J51),"Introducir Resultado",IF(J51>=I51,"Meta Conseguida","Meta Non Conseguida")))) -> Introducir Meta e Resultado | O51: =+IF(AND(ISBLANK(M51),ISBLANK(N51)),"Introducir Meta e Resultado",IF(ISBLANK(M51),"Introducir Meta",IF(ISBLANK(N51),"Introducir Resultado",IF(N51>=M51,"Meta Conseguida","Meta Non Conseguida")))) -> Introducir Meta e Resultado
A52: I21 | B52: Taxa de abandono (Egreso) | C52: DE-02 Seguimento e Medición; DE-03 Revisión do sistema pola dirección | D52: Cubrir Meta e Resultado. O indicador acádase se o resultado é igual ou inferior á meta Elixir o documento excel do grao ou máster segundo o caso, do menú ABA. abandono https://secretaria.uvigo.gal/uv/web/transparencia/informe/show/5/51/65 Os resultados son do curso 23-24 | E52: 10 | F52: 0.12396694 | G52: =+IF(AND(ISBLANK(E52),ISBLANK(F52)),"Introducir Meta e Resultado",IF(ISBLANK(E52),"Introducir Meta",IF(ISBLANK(F52),"Introducir Resultado",IF(F52<=E52,"Meta Conseguida","Meta Non Conseguida")))) -> Meta Conseguida | K52: =+IF(AND(ISBLANK(I52),ISBLANK(J52)),"Introducir Meta e Resultado",IF(ISBLANK(I52),"Introducir Meta",IF(ISBLANK(J52),"Introducir Resultado",IF(J52<=I52,"Meta Conseguida","Meta Non Conseguida")))) -> Introducir Meta e Resultado | O52: =+IF(AND(ISBLANK(M52),ISBLANK(N52)),"Introducir Meta e Resultado",IF(ISBLANK(M52),"Introducir Meta",IF(ISBLANK(N52),"Introducir Resultado",IF(N52<=M52,"Meta Conseguida","Meta Non Conseguida")))) -> Introducir Meta e Resultado
A53: I22 | B53: Taxa de cambio de estudo | C53: DE-02 Seguimento e Medición; DE-03 Revisión do sistema pola dirección | D53: Cubrir Meta e Resultado. O indicador acádase se o resultado é igual ou inferior á meta Elixir o documento excel do grao ou máster segundo o caso, do menú ABA. abandono https://secretaria.uvigo.gal/uv/web/transparencia/informe/show/5/51/65 Os resultados son do curso 23-24 | E53: 0 | F53: 0 | G53: =+IF(AND(ISBLANK(E53),ISBLANK(F53)),"Introducir Meta e Resultado",IF(ISBLANK(E53),"Introducir Meta",IF(ISBLANK(F53),"Introducir Resultado",IF(F53<=E53,"Meta Conseguida","Meta Non Conseguida")))) -> Meta Conseguida | K53: =+IF(AND(ISBLANK(I53),ISBLANK(J53)),"Introducir Meta e Resultado",IF(ISBLANK(I53),"Introducir Meta",IF(ISBLANK(J53),"Introducir Resultado",IF(J53<=I53,"Meta Conseguida","Meta Non Conseguida")))) -> Introducir Meta e Resultado | O53: =+IF(AND(ISBLANK(M53),ISBLANK(N53)),"Introducir Meta e Resultado",IF(ISBLANK(M53),"Introducir Meta",IF(ISBLANK(N53),"Introducir Resultado",IF(N53<=M53,"Meta Conseguida","Meta Non Conseguida")))) -> Introducir Meta e Resultado
A54: I23 | B54: Índice de satisfacción cos recursos materiais e servizos | C54: IA-01: Xestión dos recursos materiais e dos servizos | D54: Nº dos obxectivos (I23-1, I23-2, I23-3 e I23-4) que se acadan | E54: =+COUNTA(E55:E58) -> 4 | F54: =+COUNTIF(G55:G58,"Meta Conseguida") -> 4 | G54: =+IF(F54=0,"Ningunha Meta Alcanzada",IF(F54>=E54,"Meta Totalmente Alcanzada",IF(F54>0,"Meta Parcialmente Alcanzada"))) -> Meta Totalmente Alcanzada | I54: =+COUNTA(I55:I58) -> 0 | J54: =+COUNTIF(K55:K58,"Meta Conseguida") -> 0 | K54: =+IF(J54=0,"Ningunha Meta Alcanzada",IF(J54>=I54,"Meta Totalmente Alcanzada",IF(J54>0,"Meta Parcialmente Alcanzada"))) -> Ningunha Meta Alcanzada | M54: =+COUNTA(M55:M58) -> 0 | N54: =+COUNTIF(O55:O58,"Meta Conseguida") -> 0 | O54: =+IF(N54=0,"Ningunha Meta Alcanzada",IF(N54>=M54,"Meta Totalmente Alcanzada",IF(N54>0,"Meta Parcialmente Alcanzada"))) -> Ningunha Meta Alcanzada
A55: I23-1 | B55: Satisfacción do Estudantado cos recursos materiais e servizos | C55: IA-01: Xestión dos recursos materiais e dos servizos | D55: Cubrir Meta e Resultado. A meta poderá estar entre os valores [1-5] Introducir o valor que se atopa na folla de "Bloque", na columna "Resultado" na fila "Valoración Total" do "Bloque 5 Recursos materiais e servizos" da titulación do informe de "Enquisas de Satisfacción de estudantado" do portal de transparencia. https://secretaria.uvigo.gal/uv/web/transparencia/grupo/show/5/28 Os resultados son do curso 23-24 | E55: 2 | F55: 2.7307692 | G55: =+IF(AND(ISBLANK(E55),ISBLANK(F55)),"Introducir Meta e Resultado",IF(ISBLANK(E55),"Introducir Meta",IF(ISBLANK(F55),"Introducir Resultado",IF(F55>=E55,"Meta Conseguida","Meta Non Conseguida")))) -> Meta Conseguida | K55: =+IF(AND(ISBLANK(I55),ISBLANK(J55)),"Introducir Meta e Resultado",IF(ISBLANK(I55),"Introducir Meta",IF(ISBLANK(J55),"Introducir Resultado",IF(J55>=I55,"Meta Conseguida","Meta Non Conseguida")))) -> Introducir Meta e Resultado | O55: =+IF(AND(ISBLANK(M55),ISBLANK(N55)),"Introducir Meta e Resultado",IF(ISBLANK(M55),"Introducir Meta",IF(ISBLANK(N55),"Introducir Resultado",IF(N55>=M55,"Meta Conseguida","Meta Non Conseguida")))) -> Introducir Meta e Resultado
A56: I23-2 | B56: Satisfacción do Profesorado cos recursos materiais e servizos | C56: IA-01: Xestión dos recursos materiais e dos servizos | D56: Cubrir Meta e Resultado. A meta poderá estar entre os valores [1-5] Introducir o valor que se atopa na folla de "Bloque", na columna "Resultado" na fila "Valoración Total" do "Bloque 5 Recursos materiais e servizos" da titulación do informe de "Enquisas de Satisfacción do Profesorado" do portal de transparencia. https://secretaria.uvigo.gal/uv/web/transparencia/grupo/show/5/28 No caso que no curso de referencia non houbera resultados, seleccionar o índice do curso pasado Os resultados son do curso 22-23 | E56: 3 | F56: 3.3548387 | G56: =+IF(AND(ISBLANK(E56),ISBLANK(F56)),"Introducir Meta e Resultado",IF(ISBLANK(E56),"Introducir Meta",IF(ISBLANK(F56),"Introducir Resultado",IF(F56>=E56,"Meta Conseguida","Meta Non Conseguida")))) -> Meta Conseguida | K56: =+IF(AND(ISBLANK(I56),ISBLANK(J56)),"Introducir Meta e Resultado",IF(ISBLANK(I56),"Introducir Meta",IF(ISBLANK(J56),"Introducir Resultado",IF(J56>=I56,"Meta Conseguida","Meta Non Conseguida")))) -> Introducir Meta e Resultado | O56: =+IF(AND(ISBLANK(M56),ISBLANK(N56)),"Introducir Meta e Resultado",IF(ISBLANK(M56),"Introducir Meta",IF(ISBLANK(N56),"Introducir Resultado",IF(N56>=M56,"Meta Conseguida","Meta Non Conseguida")))) -> Introducir Meta e Resultado
A57: I23-3 | B57: Satisfacción das Persoas tituladas cos recursos materiais e servizos | C57: IA-01: Xestión dos recursos materiais e dos servizos | D57: Cubrir Meta e Resultado. A meta poderá estar entre os valores [1-5] Introducir o valor que se atopa na folla de "Bloque", na columna "Resultado" na fila "Valoración Total" do "Bloque 5 Recursos materiais e servizos" da titulación do informe de "Enquisas de Satisfacción dos/das egresados/as " do portal de transparencia. https://secretaria.uvigo.gal/uv/web/transparencia/grupo/show/5/28 Os resultados son do curso 23-24 | E57: 3 | F57: 3.047619 | G57: =+IF(AND(ISBLANK(E57),ISBLANK(F57)),"Introducir Meta e Resultado",IF(ISBLANK(E57),"Introducir Meta",IF(ISBLANK(F57),"Introducir Resultado",IF(F57>=E57,"Meta Conseguida","Meta Non Conseguida")))) -> Meta Conseguida | K57: =+IF(AND(ISBLANK(I57),ISBLANK(J57)),"Introducir Meta e Resultado",IF(ISBLANK(I57),"Introducir Meta",IF(ISBLANK(J57),"Introducir Resultado",IF(J57>=I57,"Meta Conseguida","Meta Non Conseguida")))) -> Introducir Meta e Resultado | O57: =+IF(AND(ISBLANK(M57),ISBLANK(N57)),"Introducir Meta e Resultado",IF(ISBLANK(M57),"Introducir Meta",IF(ISBLANK(N57),"Introducir Resultado",IF(N57>=M57,"Meta Conseguida","Meta Non Conseguida")))) -> Introducir Meta e Resultado
A58: I23-4 | B58: Satisfacción do PTXAS cos recursos materiais e servizos | C58: IA-01: Xestión dos recursos materiais e dos servizos | D58: Cubrir Meta e Resultado. A meta poderá estar entre os valores [1-5] Introducir o valor que se atopa na folla de "Bloque", na columna "Resultado" na fila "Valoración Total" do "Bloque 4 Recursos materiais e servizos" da titulación do informe de "Enquisas de Satisfacción do PTXAS" do portal de transparencia. https://secretaria.uvigo.gal/uv/web/transparencia/grupo/show/5/28 No caso que no curso de referencia non houbera resultados, seleccionar o índice do curso pasado Os resultados son do curso 22-23 | E58: 3 | F58: 3 | G58: =+IF(AND(ISBLANK(E58),ISBLANK(F58)),"Introducir Meta e Resultado",IF(ISBLANK(E58),"Introducir Meta",IF(ISBLANK(F58),"Introducir Resultado",IF(F58>=E58,"Meta Conseguida","Meta Non Conseguida")))) -> Meta Conseguida | K58: =+IF(AND(ISBLANK(I58),ISBLANK(J58)),"Introducir Meta e Resultado",IF(ISBLANK(I58),"Introducir Meta",IF(ISBLANK(J58),"Introducir Resultado",IF(J58>=I58,"Meta Conseguida","Meta Non Conseguida")))) -> Introducir Meta e Resultado | O58: =+IF(AND(ISBLANK(M58),ISBLANK(N58)),"Introducir Meta e Resultado",IF(ISBLANK(M58),"Introducir Meta",IF(ISBLANK(N58),"Introducir Resultado",IF(N58>=M58,"Meta Conseguida","Meta Non Conseguida")))) -> Introducir Meta e Resultado
A59: I24 | B59: Índice de satisfacción coa orientación recibida no centro | C59: DO-0203: Orientación do estudantado e atención ás NEAE | D59: Nº dos obxectivos (I24-1, I24-2, I24-3 e I24-4) que se acadan | E59: =+COUNTA(E60:E63) -> 4 | F59: =+COUNTIF(G60:G63,"Meta Conseguida") -> 4 | G59: =+IF(F59=0,"Ningunha Meta Alcanzada",IF(F59=E59,"Meta Totalmente Alcanzada",IF(F59>0,"Meta Parcialmente Alcanzada"))) -> Meta Totalmente Alcanzada | I59: =+COUNTA(I60:I63) -> 0 | J59: =+COUNTIF(K60:K63,"Meta Conseguida") -> 0 | K59: =+IF(J59=0,"Ningunha Meta Alcanzada",IF(J59=I59,"Meta Totalmente Alcanzada",IF(J59>0,"Meta Parcialmente Alcanzada"))) -> Ningunha Meta Alcanzada | M59: =+COUNTA(M60:M63) -> 0 | N59: =+COUNTIF(O60:O63,"Meta Conseguida") -> 0 | O59: =+IF(N59=0,"Ningunha Meta Alcanzada",IF(N59=M59,"Meta Totalmente Alcanzada",IF(N59>0,"Meta Parcialmente Alcanzada"))) -> Ningunha Meta Alcanzada
A60: I24-1 | B60: Satisfacción do Estudantado coa orientación recibida no centro | C60: DO-0203: Orientación do estudantado e atención ás NEAE | D60: Cubrir Meta e Resultado. A meta poderá estar entre os valores [1-5] Introducir o Valor que se atopa na folla "Preguntas", na columna "Resultado" na fila "Valoración Total" da pregunta Nº 6 "Orientación académica recibida no PAT"do informe "Enquisas de Satisfacción de estudantado", do portal de transparencia. https://secretaria.uvigo.gal/uv/web/transparencia/grupo/show/5/28 Os resultados son do curso 23-24 | E60: 2 | F60: 2.1176471 | G60: =+IF(AND(ISBLANK(E60),ISBLANK(F60)),"Introducir Meta e Resultado",IF(ISBLANK(E60),"Introducir Meta",IF(ISBLANK(F60),"Introducir Resultado",IF(F60>=E60,"Meta Conseguida","Meta Non Conseguida")))) -> Meta Conseguida | K60: =+IF(AND(ISBLANK(I60),ISBLANK(J60)),"Introducir Meta e Resultado",IF(ISBLANK(I60),"Introducir Meta",IF(ISBLANK(J60),"Introducir Resultado",IF(J60>=I60,"Meta Conseguida","Meta Non Conseguida")))) -> Introducir Meta e Resultado | O60: =+IF(AND(ISBLANK(M60),ISBLANK(N60)),"Introducir Meta e Resultado",IF(ISBLANK(M60),"Introducir Meta",IF(ISBLANK(N60),"Introducir Resultado",IF(N60>=M60,"Meta Conseguida","Meta Non Conseguida")))) -> Introducir Meta e Resultado
A61: I24-2 | B61: Satisfacción do Profesorado coa orientación académica recibida no centro | C61: DO-0203: Orientación do estudantado e atención ás NEAE | D61: Cubrir Meta e Resultado. A meta poderá estar entre os valores [1-5] Introducir o Valor que se atopa na folla "Preguntas", na columna "Resultado" na fila "Valoración Total" da pregunta Nº 6 "Orientación académica programada no PAT"do informe "Enquisas de Satisfacción de profesorado do portal de transparencia. https://secretaria.uvigo.gal/uv/web/transparencia/grupo/show/5/28 Os resultados son do curso 22-23 | E61: 3 | F61: 3.3548387 | G61: =+IF(AND(ISBLANK(E61),ISBLANK(F61)),"Introducir Meta e Resultado",IF(ISBLANK(E61),"Introducir Meta",IF(ISBLANK(F61),"Introducir Resultado",IF(F61>=E61,"Meta Conseguida","Meta Non Conseguida")))) -> Meta Conseguida | K61: =+IF(AND(ISBLANK(I61),ISBLANK(J61)),"Introducir Meta e Resultado",IF(ISBLANK(I61),"Introducir Meta",IF(ISBLANK(J61),"Introducir Resultado",IF(J61>=I61,"Meta Conseguida","Meta Non Conseguida")))) -> Introducir Meta e Resultado | O61: =+IF(AND(ISBLANK(M61),ISBLANK(N61)),"Introducir Meta e Resultado",IF(ISBLANK(M61),"Introducir Meta",IF(ISBLANK(N61),"Introducir Resultado",IF(N61>=M61,"Meta Conseguida","Meta Non Conseguida")))) -> Introducir Meta e Resultado
A62: I24-3 | B62: Satisfacción das Persoas tituladas coa orientación académica recibida no centro | C62: DO-0203: Orientación do estudantado e atención ás NEAE | D62: Cubrir Meta e Resultado. A meta poderá estar entre os valores [1-5] Introducir o valor que se atopa na folla "Preguntas", na columna "Resultado" nas filas "Valoración Total da pregunta Nº4 "Orientación académica recibida" do informe "Enquisas de Satisfacción dos/das egresados/as", do portal de transparencia. https://secretaria.uvigo.gal/uv/web/transparencia/grupo/show/5/28 Os resultados son do curso 23-24 | E62: 2 | F62: 2.4285714 | G62: =+IF(AND(ISBLANK(E62),ISBLANK(F62)),"Introducir Meta e Resultado",IF(ISBLANK(E62),"Introducir Meta",IF(ISBLANK(F62),"Introducir Resultado",IF(F62>=E62,"Meta Conseguida","Meta Non Conseguida")))) -> Meta Conseguida | K62: =+IF(AND(ISBLANK(I62),ISBLANK(J62)),"Introducir Meta e Resultado",IF(ISBLANK(I62),"Introducir Meta",IF(ISBLANK(J62),"Introducir Resultado",IF(J62>=I62,"Meta Conseguida","Meta Non Conseguida")))) -> Introducir Meta e Resultado | O62: =+IF(AND(ISBLANK(M62),ISBLANK(N62)),"Introducir Meta e Resultado",IF(ISBLANK(M62),"Introducir Meta",IF(ISBLANK(N62),"Introducir Resultado",IF(N62>=M62,"Meta Conseguida","Meta Non Conseguida")))) -> Introducir Meta e Resultado
A63: I24-4 | B63: Satisfacción das Persoas tituladas coa orientación profesional e laboral recibida no centro | C63: DO-0203: Orientación do estudantado e atención ás NEAE | D63: Cubrir Meta e Resultado Introducir o valor que se atopa na folla "Preguntas", na columna "Resultado" nas filas "Valoración Total da pregunta Nº5 "Orientación profesional e laboral recibida", do informe "Enquisas de Satisfacción dos/das egresados/as", do portal de transparencia" https://secretaria.uvigo.gal/uv/web/transparencia/grupo/show/5/28 Os resultados son do curso 23-24 | E63: 1 | F63: 1.5714286 | G63: =+IF(AND(ISBLANK(E63),ISBLANK(F63)),"Introducir Meta e Resultado",IF(ISBLANK(E63),"Introducir Meta",IF(ISBLANK(F63),"Introducir Resultado",IF(F63>=E63,"Meta Conseguida","Meta Non Conseguida")))) -> Meta Conseguida | K63: =+IF(AND(ISBLANK(I63),ISBLANK(J63)),"Introducir Meta e Resultado",IF(ISBLANK(I63),"Introducir Meta",IF(ISBLANK(J63),"Introducir Resultado",IF(J63>=I63,"Meta Conseguida","Meta Non Conseguida")))) -> Introducir Meta e Resultado | O63: =+IF(AND(ISBLANK(M63),ISBLANK(N63)),"Introducir Meta e Resultado",IF(ISBLANK(M63),"Introducir Meta",IF(ISBLANK(N63),"Introducir Resultado",IF(N63>=M63,"Meta Conseguida","Meta Non Conseguida")))) -> Introducir Meta e Resultado
A64: I25 | B64: % Alumnado en prácticas académicas | C64: DO-0204: Xestión das prácticas académicas | D64: Cubrir Meta e Resultado % estudantes en prácticas sobre matrícula da titulación do documentos "prácticas" https://secretaria.uvigo.gal/uv/web/transparencia/informe/show/5/5/9 | E64: 4 | F64: 4 | G64: =+IF(AND(ISBLANK(E64),ISBLANK(F64)),"Introducir Meta e Resultado",IF(ISBLANK(E64),"Introducir Meta",IF(ISBLANK(F64),"Introducir Resultado",IF(F64>=E64,"Meta Conseguida","Meta Non Conseguida")))) -> Meta Conseguida | K64: =+IF(AND(ISBLANK(I64),ISBLANK(J64)),"Introducir Meta e Resultado",IF(ISBLANK(I64),"Introducir Meta",IF(ISBLANK(J64),"Introducir Resultado",IF(J64>=I64,"Meta Conseguida","Meta Non Conseguida")))) -> Introducir Meta e Resultado | O64: =+IF(AND(ISBLANK(M64),ISBLANK(N64)),"Introducir Meta e Resultado",IF(ISBLANK(M64),"Introducir Meta",IF(ISBLANK(N64),"Introducir Resultado",IF(N64>=M64,"Meta Conseguida","Meta Non Conseguida")))) -> Introducir Meta e Resultado
A65: I26 | B65: Índice de satisfacción coa promoción da titulación e a información pública na web | C65: DO-0301 Información Pública | D65: Nº dos obxectivos (I26-1, I26-2, I26-3 e I26-4) que se acadan | E65: =+COUNTA(E66:E69) -> 4 | F65: =+COUNTIF(G66:G69,"Meta Conseguida") -> 4 | G65: =+IF(F65=0,"Ningunha Meta Alcanzada",IF(F65=E65,"Meta Totalmente Alcanzada",IF(F65>0,"Meta Parcialmente Alcanzada"))) -> Meta Totalmente Alcanzada | I65: =+COUNTA(I66:I69) -> 0 | J65: =+COUNTIF(K66:K69,"Meta Conseguida") -> 0 | K65: =+IF(J65=0,"Ningunha Meta Alcanzada",IF(J65=I65,"Meta Totalmente Alcanzada",IF(J65>0,"Meta Parcialmente Alcanzada"))) -> Ningunha Meta Alcanzada | M65: =+COUNTA(M66:M69) -> 0 | N65: =+COUNTIF(O66:O69,"Meta Conseguida") -> 0 | O65: =+IF(N65=0,"Ningunha Meta Alcanzada",IF(N65=M65,"Meta Totalmente Alcanzada",IF(N65>0,"Meta Parcialmente Alcanzada"))) -> Ningunha Meta Alcanzada
A66: I26-1 | B66: Satisfacción do Estudantado coa promoción da titulación e a información pública na web | C66: DO-0301 Información Pública | D66: Cubrir Meta e Resultado. A meta poderá estar entre os valores [1-5] Indicar o Valor que se atopa na folla de "Bloque", na columna "Resultado" na fila "Valoración Total" do "Bloque 2 Información e Transparencia" da titulación correspondente do informe de "Enquisas de Satisfacción de estudantado" do portal de transparencia. https://secretaria.uvigo.gal/uv/web/transparencia/grupo/show/5/28 Os resultados son do curso 23-24 | E66: 2 | F66: 2.2241379 | G66: =+IF(AND(ISBLANK(E66),ISBLANK(F66)),"Introducir Meta e Resultado",IF(ISBLANK(E66),"Introducir Meta",IF(ISBLANK(F66),"Introducir Resultado",IF(F66>=E66,"Meta Conseguida","Meta Non Conseguida")))) -> Meta Conseguida | K66: =+IF(AND(ISBLANK(I66),ISBLANK(J66)),"Introducir Meta e Resultado",IF(ISBLANK(I66),"Introducir Meta",IF(ISBLANK(J66),"Introducir Resultado",IF(J66>=I66,"Meta Conseguida","Meta Non Conseguida")))) -> Introducir Meta e Resultado | O66: =+IF(AND(ISBLANK(M66),ISBLANK(N66)),"Introducir Meta e Resultado",IF(ISBLANK(M66),"Introducir Meta",IF(ISBLANK(N66),"Introducir Resultado",IF(N66>=M66,"Meta Conseguida","Meta Non Conseguida")))) -> Introducir Meta e Resultado
A67: I26-2 | B67: Satisfacción do Profesorado coa promoción da titulación e a información pública na web | C67: DO-0301 Información Pública | D67: Cubrir Meta e Resultado. A meta poderá estar entre os valores [1-5] Indicar o Valor que se atopa na folla de "Bloque", na columna "Resultado" na fila "Valoración Total" do "Bloque 2 Información e Transparencia" da titulación correspondente do informe de "Enquisas de Satisfacción do Profesorado" do portal de transparencia. https://secretaria.uvigo.gal/uv/web/transparencia/grupo/show/5/28 No caso que no curso de referencia non houbera resultados, seleccionar o índice do curso pasado Os resultados son do curso 22-23 | E67: 3 | F67: 3.4166667 | G67: =+IF(AND(ISBLANK(E67),ISBLANK(F67)),"Introducir Meta e Resultado",IF(ISBLANK(E67),"Introducir Meta",IF(ISBLANK(F67),"Introducir Resultado",IF(F67>=E67,"Meta Conseguida","Meta Non Conseguida")))) -> Meta Conseguida | K67: =+IF(AND(ISBLANK(I67),ISBLANK(J67)),"Introducir Meta e Resultado",IF(ISBLANK(I67),"Introducir Meta",IF(ISBLANK(J67),"Introducir Resultado",IF(J67>=I67,"Meta Conseguida","Meta Non Conseguida")))) -> Introducir Meta e Resultado | O67: =+IF(AND(ISBLANK(M67),ISBLANK(N67)),"Introducir Meta e Resultado",IF(ISBLANK(M67),"Introducir Meta",IF(ISBLANK(N67),"Introducir Resultado",IF(N67>=M67,"Meta Conseguida","Meta Non Conseguida")))) -> Introducir Meta e Resultado
A68: I26-3 | B68: Satisfacción das Persoas tituladas coa promoción da titulación e a información pública na web | C68: DO-0301 Información Pública | D68: Cubrir Meta e Resultado. A meta poderá estar entre os valores [1-5] Indicar o Valor que se atopa na folla de "Bloque", na columna "Resultado" na fila "Valoración Total" do "Bloque 2 Información e Transparencia" da titulación correspondente do informe de "Enquisas de Satisfacción dos/das egresados/as " do portal de transparencia. https://secretaria.uvigo.gal/uv/web/transparencia/grupo/show/5/28 Os resultados son do curso 23-24 | E68: 3 | F68: 3.2857143 | G68: =+IF(AND(ISBLANK(E68),ISBLANK(F68)),"Introducir Meta e Resultado",IF(ISBLANK(E68),"Introducir Meta",IF(ISBLANK(F68),"Introducir Resultado",IF(F68>=E68,"Meta Conseguida","Meta Non Conseguida")))) -> Meta Conseguida | K68: =+IF(AND(ISBLANK(I68),ISBLANK(J68)),"Introducir Meta e Resultado",IF(ISBLANK(I68),"Introducir Meta",IF(ISBLANK(J68),"Introducir Resultado",IF(J68>=I68,"Meta Conseguida","Meta Non Conseguida")))) -> Introducir Meta e Resultado | O68: =+IF(AND(ISBLANK(M68),ISBLANK(N68)),"Introducir Meta e Resultado",IF(ISBLANK(M68),"Introducir Meta",IF(ISBLANK(N68),"Introducir Resultado",IF(N68>=M68,"Meta Conseguida","Meta Non Conseguida")))) -> Introducir Meta e Resultado
A69: I26-4 | B69: Satisfacción do PTXAS coa promoción da titulación e a información pública na web | C69: DO-0301 Información Pública | D69: Cubrir Meta e Resultado. A meta poderá estar entre os valores [1-5] Indicar o Valor que se atopa na folla de "Bloque", na columna "Resultado" na fila "Valoración Total" do "Bloque 1 Información Xeral" da titulación do informe de "Enquisas de Satisfacción do PAS" do portal de transparencia. https://secretaria.uvigo.gal/uv/web/transparencia/grupo/show/5/28 No caso que no curso de referencia non houbera resultados, seleccionar o índice do curso pasado Os resultados son do curso 22-23 | E69: 3 | F69: 3 | G69: =+IF(AND(ISBLANK(E69),ISBLANK(F69)),"Introducir Meta e Resultado",IF(ISBLANK(E69),"Introducir Meta",IF(ISBLANK(F69),"Introducir Resultado",IF(F69>=E69,"Meta Conseguida","Meta Non Conseguida")))) -> Meta Conseguida | K69: =+IF(AND(ISBLANK(I69),ISBLANK(J69)),"Introducir Meta e Resultado",IF(ISBLANK(I69),"Introducir Meta",IF(ISBLANK(J69),"Introducir Resultado",IF(J69>=I69,"Meta Conseguida","Meta Non Conseguida")))) -> Introducir Meta e Resultado | O69: =+IF(AND(ISBLANK(M69),ISBLANK(N69)),"Introducir Meta e Resultado",IF(ISBLANK(M69),"Introducir Meta",IF(ISBLANK(N69),"Introducir Resultado",IF(N69>=M69,"Meta Conseguida","Meta Non Conseguida")))) -> Introducir Meta e Resultado
A70: I34 | B70: Nº Accións de mellora definidas neste curso | C70: DO-0102: Seguimento e mellora das titulacións | D70: Só cubrir o Resultado, é un indicador informativo Nº de melloras rexistradas asociadas á titulación na aplicación SGIC neste curso | E70: ---- | G70: =+IF(ISBLANK(F70),"Introducir Resultado","Indicador Completado") -> Introducir Resultado | I70: ---- | K70: =+IF(ISBLANK(J70),"Introducir Resultado","Indicador Completado") -> Introducir Resultado | M70: ---- | O70: =+IF(ISBLANK(N70),"Introducir Resultado","Indicador Completado") -> Introducir Resultado
A71: I35 | B71: Nota media do acceso | C71: DO-0202 Promoción das titulacións | D71: Cubrir Meta e Resultado Escoller o documento de Nota Media dos graos ou másters segundo o caso: https://secretaria.uvigo.gal/uv/web/transparencia/informe/show/5/51/63 Posteriormente elixir a columna "Nota media de acceso" da fila "Título de Bacharelato do Sistema Educativo Español" da titulación. Son os resultados do curso 23-24 | E71: 8 | F71: 8.8991404 | G71: =+IF(AND(ISBLANK(E71),ISBLANK(F71)),"Introducir Meta e Resultado",IF(ISBLANK(E71),"Introducir Meta",IF(ISBLANK(F71),"Introducir Resultado",IF(F71>=E71,"Meta Conseguida","Meta Non Conseguida")))) -> Meta Conseguida | K71: =+IF(AND(ISBLANK(I71),ISBLANK(J71)),"Introducir Meta e Resultado",IF(ISBLANK(I71),"Introducir Meta",IF(ISBLANK(J71),"Introducir Resultado",IF(J71>=I71,"Meta Conseguida","Meta Non Conseguida")))) -> Introducir Meta e Resultado | O71: =+IF(AND(ISBLANK(M71),ISBLANK(N71)),"Introducir Meta e Resultado",IF(ISBLANK(M71),"Introducir Meta",IF(ISBLANK(N71),"Introducir Resultado",IF(N71>=M71,"Meta Conseguida","Meta Non Conseguida")))) -> Introducir Meta e Resultado
A72: I36 | B72: Nº Estudantado titorizado | C72: DO-0203: Orientación do estudantado e atención ás NEAE | D72: Só cubrir o Resultado, é un indicador informativo Nº de estudantado incluído no PAT | E72: 1 | F72: 1 | G72: =+IF(ISBLANK(F72),"Introducir Resultado","Indicador Completado") -> Indicador Completado | I72: ---- | K72: =+IF(ISBLANK(J72),"Introducir Resultado","Indicador Completado") -> Introducir Resultado | M72: ---- | O72: =+IF(ISBLANK(N72),"Introducir Resultado","Indicador Completado") -> Introducir Resultado
A73: I37 | B73: Grao de Satisfacción do estudantado co PAT | C73: DO-0203: Orientación do estudantado e atención ás NEAE | D73: Cubrir Meta e Resultado. Introducir o Grao de satisfacción do estudantado co PAT, mediante unha enquisa de realización propia. No caso de utilizar a enquisa do Anexo IV-A da "Guía para a elaboración do PAT", incluiríase o valor do ítem 4 " Valore o grao de utilidade do PAT" | E73: 8 | F73: 8 | G73: =+IF(AND(ISBLANK(E73),ISBLANK(F73)),"Introducir Meta e Resultado",IF(ISBLANK(E73),"Introducir Meta",IF(ISBLANK(F73),"Introducir Resultado",IF(F73>=E73,"Meta Conseguida","Meta Non Conseguida")))) -> Meta Conseguida | K73: =+IF(AND(ISBLANK(I73),ISBLANK(J73)),"Introducir Meta e Resultado",IF(ISBLANK(I73),"Introducir Meta",IF(ISBLANK(J73),"Introducir Resultado",IF(J73>=I73,"Meta Conseguida","Meta Non Conseguida")))) -> Introducir Meta e Resultado | O73: =+IF(AND(ISBLANK(M73),ISBLANK(N73)),"Introducir Meta e Resultado",IF(ISBLANK(M73),"Introducir Meta",IF(ISBLANK(N73),"Introducir Resultado",IF(N73>=M73,"Meta Conseguida","Meta Non Conseguida")))) -> Introducir Meta e Resultado
A74: I38 | B74: Grao de satisfacción das Persoas Tituladas coas Prácticas | C74: DO-0204: Xestión das prácticas académicas | D74: Cubrir Meta e Resultado. A meta poderá estar entre os valores [1-5] Indicar o Valor que se atopa na Folla de "Bloque", na columna "Resultado" na fila "Valoración Total" do "Bloque 7 Prácticas Externas" da titulación correspondente do informe de "Enquisas de satisfacción de egresados/as" do portal de transparencia https://secretaria.uvigo.gal/uv/web/transparencia/grupo/show/5/28 Son os resultados do curso 23-24 | E74: 4 | F74: 4 | G74: =+IF(AND(ISBLANK(E74),ISBLANK(F74)),"Introducir Meta e Resultado",IF(ISBLANK(E74),"Introducir Meta",IF(ISBLANK(F74),"Introducir Resultado",IF(F74>=E74,"Meta Conseguida","Meta Non Conseguida")))) -> Meta Conseguida | K74: =+IF(AND(ISBLANK(I74),ISBLANK(J74)),"Introducir Meta e Resultado",IF(ISBLANK(I74),"Introducir Meta",IF(ISBLANK(J74),"Introducir Resultado",IF(J74>=I74,"Meta Conseguida","Meta Non Conseguida")))) -> Introducir Meta e Resultado | O74: =+IF(AND(ISBLANK(M74),ISBLANK(N74)),"Introducir Meta e Resultado",IF(ISBLANK(M74),"Introducir Meta",IF(ISBLANK(N74),"Introducir Resultado",IF(N74>=M74,"Meta Conseguida","Meta Non Conseguida")))) -> Introducir Meta e Resultado
A75: I39 | B75: Grao de satisfacción cos RRHH | C75: PE-01 Xestión do PAS | D75: Nº dos obxectivos (I39-1, I39-2, I39-3 e I39-4) que se acadan | E75: =+COUNTA(E76:E79) -> 4 | F75: =+COUNTIF(G76:G79,"Meta Conseguida") -> 4 | G75: =+IF(F75=0,"Ningunha Meta Alcanzada",IF(F75=E75,"Meta Totalmente Alcanzada",IF(F75>0,"Meta Parcialmente Alcanzada"))) -> Meta Totalmente Alcanzada | I75: =+COUNTA(I76:I79) -> 0 | J75: =+COUNTIF(K76:K79,"Meta Conseguida") -> 0 | K75: =+IF(J75=0,"Ningunha Meta Alcanzada",IF(J75=I75,"Meta Totalmente Alcanzada",IF(J75>0,"Meta Parcialmente Alcanzada"))) -> Ningunha Meta Alcanzada | M75: =+COUNTA(M76:M79) -> 0 | N75: =+COUNTIF(O76:O79,"Meta Conseguida") -> 0 | O75: =+IF(N75=0,"Ningunha Meta Alcanzada",IF(N75=M75,"Meta Totalmente Alcanzada",IF(N75>0,"Meta Parcialmente Alcanzada"))) -> Ningunha Meta Alcanzada
A76: I39-1 | B76: Satisfacción do Estudantado cos RRHH da titulación | C76: PE-01 Xestión do PAS | D76: Cubrir Meta e Resultado. A meta poderá estar entre os valores [1-5] Introducir o Valor que se atopa na folla de "Bloque", na columna "Resultado" na fila "Valoración Total" do "Bloque 4 Recursos Humanos" da titulación de "Enquisas de Satisfacción de estudantado" do portal de transparencia. https://secretaria.uvigo.gal/uv/web/transparencia/grupo/show/5/28 Os resultados son do curso 23-24 | E76: 2 | F76: 2.8888889 | G76: =+IF(AND(ISBLANK(E76),ISBLANK(F76)),"Introducir Meta e Resultado",IF(ISBLANK(E76),"Introducir Meta",IF(ISBLANK(F76),"Introducir Resultado",IF(F76>=E76,"Meta Conseguida","Meta Non Conseguida")))) -> Meta Conseguida | K76: =+IF(AND(ISBLANK(I76),ISBLANK(J76)),"Introducir Meta e Resultado",IF(ISBLANK(I76),"Introducir Meta",IF(ISBLANK(J76),"Introducir Resultado",IF(J76>=I76,"Meta Conseguida","Meta Non Conseguida")))) -> Introducir Meta e Resultado | O76: =+IF(AND(ISBLANK(M76),ISBLANK(N76)),"Introducir Meta e Resultado",IF(ISBLANK(M76),"Introducir Meta",IF(ISBLANK(N76),"Introducir Resultado",IF(N76>=M76,"Meta Conseguida","Meta Non Conseguida")))) -> Introducir Meta e Resultado
A77: I39-2 | B77: Satisfacción do Profesorado cos RRHH da titulación | C77: PE-01 Xestión do PAS | D77: Cubrir Meta e Resultado. A meta poderá estar entre os valores [1-5] Introducir o valor que se atopa na folla de "Bloque", na columna "Resultado" na fila "Valoración Total" do "Bloque 4 Recursos Humanos" da titulación de "Enquisas de Satisfacción do Profesorado" do portal de transparencia. https://secretaria.uvigo.gal/uv/web/transparencia/grupo/show/5/28 Os resultados son do curso 22-23 | E77: 0 | F77: 3.1333333 | G77: =+IF(AND(ISBLANK(E77),ISBLANK(F77)),"Introducir Meta e Resultado",IF(ISBLANK(E77),"Introducir Meta",IF(ISBLANK(F77),"Introducir Resultado",IF(F77>=E77,"Meta Conseguida","Meta Non Conseguida")))) -> Meta Conseguida | K77: =+IF(AND(ISBLANK(I77),ISBLANK(J77)),"Introducir Meta e Resultado",IF(ISBLANK(I77),"Introducir Meta",IF(ISBLANK(J77),"Introducir Resultado",IF(J77>=I77,"Meta Conseguida","Meta Non Conseguida")))) -> Introducir Meta e Resultado | O77: =+IF(AND(ISBLANK(M77),ISBLANK(N77)),"Introducir Meta e Resultado",IF(ISBLANK(M77),"Introducir Meta",IF(ISBLANK(N77),"Introducir Resultado",IF(N77>=M77,"Meta Conseguida","Meta Non Conseguida")))) -> Introducir Meta e Resultado
A78: I39-3 | B78: Satisfacción das Persoas tituladas cos RRHH da titulación | C78: PE-01 Xestión do PAS | D78: Cubrir Meta e Resultado. A meta poderá estar entre os valores [1-5] Introducir o valor que se atopa na folla de "Bloque", na columna "Resultado" na fila "Valoración Total" do "Bloque 4 Recursos Humanos" da titulación de "Enquisas de Satisfacción dos/das egresados/as " do portal de transparencia. https://secretaria.uvigo.gal/uv/web/transparencia/grupo/show/5/28 Os resultados son do curso 23-24 | E78: 0 | F78: 2.5833333 | G78: =+IF(AND(ISBLANK(E78),ISBLANK(F78)),"Introducir Meta e Resultado",IF(ISBLANK(E78),"Introducir Meta",IF(ISBLANK(F78),"Introducir Resultado",IF(F78>=E78,"Meta Conseguida","Meta Non Conseguida")))) -> Meta Conseguida | K78: =+IF(AND(ISBLANK(I78),ISBLANK(J78)),"Introducir Meta e Resultado",IF(ISBLANK(I78),"Introducir Meta",IF(ISBLANK(J78),"Introducir Resultado",IF(J78>=I78,"Meta Conseguida","Meta Non Conseguida")))) -> Introducir Meta e Resultado | O78: =+IF(AND(ISBLANK(M78),ISBLANK(N78)),"Introducir Meta e Resultado",IF(ISBLANK(M78),"Introducir Meta",IF(ISBLANK(N78),"Introducir Resultado",IF(N78>=M78,"Meta Conseguida","Meta Non Conseguida")))) -> Introducir Meta e Resultado
A79: I39-4 | B79: Satisfacción do PTXAS cos RRHH da titulación | C79: PE-01 Xestión do PAS | D79: Cubrir Meta e Resultado. A meta poderá estar entre os valores [1-5] Introducir o valor que se atopa na folla de "Bloque", na columna "Resultado" na fila "Valoración Total" do "Bloque 3 Recursos Humanos " da titulación de "Enquisas de Satisfacción do PTXAS" do portal de transparencia. https://secretaria.uvigo.gal/uv/web/transparencia/grupo/show/5/28 Os resultados son do curso 22-23 | E79: 0 | F79: 2.3333333 | G79: =+IF(AND(ISBLANK(E79),ISBLANK(F79)),"Introducir Meta e Resultado",IF(ISBLANK(E79),"Introducir Meta",IF(ISBLANK(F79),"Introducir Resultado",IF(F79>=E79,"Meta Conseguida","Meta Non Conseguida")))) -> Meta Conseguida | K79: =+IF(AND(ISBLANK(I79),ISBLANK(J79)),"Introducir Meta e Resultado",IF(ISBLANK(I79),"Introducir Meta",IF(ISBLANK(J79),"Introducir Resultado",IF(J79>=I79,"Meta Conseguida","Meta Non Conseguida")))) -> Introducir Meta e Resultado | O79: =+IF(AND(ISBLANK(M79),ISBLANK(N79)),"Introducir Meta e Resultado",IF(ISBLANK(M79),"Introducir Meta",IF(ISBLANK(N79),"Introducir Resultado",IF(N79>=M79,"Meta Conseguida","Meta Non Conseguida")))) -> Introducir Meta e Resultado
A80: I42 | B80: % Accións de Mellora finalizadas en prazo | C80: XD-01: Control dos documentos e dos rexistros | D80: Cubrir Meta e Resultado Porcentaxe das accións de mellora que está prevista a súa finalización neste curso, e efectivamente están finalizadas, sobre o total das accións de mellora que finalizaban o curso de referencia. | E80: 0.01 | F80: 0.01 | G80: =+IF(AND(ISBLANK(E80),ISBLANK(F80)),"Introducir Meta e Resultado",IF(ISBLANK(E80),"Introducir Meta",IF(ISBLANK(F80),"Introducir Resultado",IF(F80>=E80,"Meta Conseguida","Meta Non Conseguida")))) -> Meta Conseguida | K80: =+IF(AND(ISBLANK(I80),ISBLANK(J80)),"Introducir Meta e Resultado",IF(ISBLANK(I80),"Introducir Meta",IF(ISBLANK(J80),"Introducir Resultado",IF(J80>=I80,"Meta Conseguida","Meta Non Conseguida")))) -> Introducir Meta e Resultado | O80: =+IF(AND(ISBLANK(M80),ISBLANK(N80)),"Introducir Meta e Resultado",IF(ISBLANK(M80),"Introducir Meta",IF(ISBLANK(N80),"Introducir Resultado",IF(N80>=M80,"Meta Conseguida","Meta Non Conseguida")))) -> Introducir Meta e Resultado
A81: I43 | B81: Resultados EAD | C81: PE-02 Xestión de PDI | D81: Cubrir Meta e Resultado. A meta poderá estar entre os valores [1-5] Indicar o valor que se atopa na columna "Global" e na filla "GLOBAL", do informe de avaliación docente por titulación que se atopa na secretaría virtual. https://secretaria.uvigo.gal/uvigo.sv/index.php?modulo=informes&accion=InformeEadTitulacion Os resultados son do curso 22-23 | E81: 3 | F81: 4.05 | G81: =+IF(AND(ISBLANK(E81),ISBLANK(F81)),"Introducir Meta e Resultado",IF(ISBLANK(E81),"Introducir Meta",IF(ISBLANK(F81),"Introducir Resultado",IF(F81>=E81,"Meta Conseguida","Meta Non Conseguida")))) -> Meta Conseguida | K81: =+IF(AND(ISBLANK(I81),ISBLANK(J81)),"Introducir Meta e Resultado",IF(ISBLANK(I81),"Introducir Meta",IF(ISBLANK(J81),"Introducir Resultado",IF(J81>=I81,"Meta Conseguida","Meta Non Conseguida")))) -> Introducir Meta e Resultado | O81: =+IF(AND(ISBLANK(M81),ISBLANK(N81)),"Introducir Meta e Resultado",IF(ISBLANK(M81),"Introducir Meta",IF(ISBLANK(N81),"Introducir Resultado",IF(N81>=M81,"Meta Conseguida","Meta Non Conseguida")))) -> Introducir Meta e Resultado
A82: I44 | B82: Índice de satisfacción coa organización e o desenvolvemento | C82: DO-0201 Planificación e desenvolvemento da ensinanza | D82: Nº dos obxectivos (I44-1, I44-2, I44-3 e I44-4) que se acadan | E82: =+COUNTA(E83:E86) -> 4 | F82: =+COUNTIF(G83:G86,"Meta Conseguida") -> 4 | G82: =+IF(F82=0,"Ningunha Meta Alcanzada",IF(F82=E82,"Meta Totalmente Alcanzada",IF(F82>0,"Meta Parcialmente Alcanzada"))) -> Meta Totalmente Alcanzada | I82: =+COUNTA(I83:I86) -> 0 | J82: =+COUNTIF(K83:K86,"Meta Conseguida") -> 0 | K82: =+IF(J82=0,"Ningunha Meta Alcanzada",IF(J82=I82,"Meta Totalmente Alcanzada",IF(J82>0,"Meta Parcialmente Alcanzada"))) -> Ningunha Meta Alcanzada | M82: =+COUNTA(M83:M86) -> 0 | N82: =+COUNTIF(O83:O86,"Meta Conseguida") -> 0 | O82: =+IF(N82=0,"Ningunha Meta Alcanzada",IF(N82=M82,"Meta Totalmente Alcanzada",IF(N82>0,"Meta Parcialmente Alcanzada"))) -> Ningunha Meta Alcanzada
A83: I44-1 | B83: Satisfacción do Estudantado coa organización e o desenvolvemento | C83: DO-0201 Planificación e desenvolvemento da ensinanza | D83: Cubrir Meta e Resultado. A meta poderá estar entre os valores [1-5] Introducir o Valor que se atopa na folla de "Bloque", na columna "Resultado" na fila "Valoración Total" do "Bloque 1 Organización e Desenvolvemento" da titulación do informe de "Enquisas de Satisfacción de estudantado" do portal de transparencia. https://secretaria.uvigo.gal/uv/web/transparencia/grupo/show/5/28 Os resultados son do curso 23-24 | E83: 2 | F83: 2.5982143 | G83: =+IF(AND(ISBLANK(E83),ISBLANK(F83)),"Introducir Meta e Resultado",IF(ISBLANK(E83),"Introducir Meta",IF(ISBLANK(F83),"Introducir Resultado",IF(F83>=E83,"Meta Conseguida","Meta Non Conseguida")))) -> Meta Conseguida | K83: =+IF(AND(ISBLANK(I83),ISBLANK(J83)),"Introducir Meta e Resultado",IF(ISBLANK(I83),"Introducir Meta",IF(ISBLANK(J83),"Introducir Resultado",IF(J83>=I83,"Meta Conseguida","Meta Non Conseguida")))) -> Introducir Meta e Resultado | O83: =+IF(AND(ISBLANK(M83),ISBLANK(N83)),"Introducir Meta e Resultado",IF(ISBLANK(M83),"Introducir Meta",IF(ISBLANK(N83),"Introducir Resultado",IF(N83>=M83,"Meta Conseguida","Meta Non Conseguida")))) -> Introducir Meta e Resultado
A84: I44-2 | B84: Satisfacción do Profesorado coa organización e o desenvolvemento | C84: DO-0201 Planificación e desenvolvemento da ensinanza | D84: Cubrir Meta e Resultado. A meta poderá estar entre os valores [1-5] Introducir o Valor que se atopa na folla de "Bloque", na columna "Resultado" na fila "Valoración Total" do "Bloque 1 Organización e Desenvolvemento" da titulación do informe de "Enquisas de Satisfacción do Profesorado" do portal de transparencia. https://secretaria.uvigo.gal/uv/web/transparencia/grupo/show/5/28 Os resultados son do curso 22-23 | E84: 3 | F84: 3.4347826 | G84: =+IF(AND(ISBLANK(E84),ISBLANK(F84)),"Introducir Meta e Resultado",IF(ISBLANK(E84),"Introducir Meta",IF(ISBLANK(F84),"Introducir Resultado",IF(F84>=E84,"Meta Conseguida","Meta Non Conseguida")))) -> Meta Conseguida | K84: =+IF(AND(ISBLANK(I84),ISBLANK(J84)),"Introducir Meta e Resultado",IF(ISBLANK(I84),"Introducir Meta",IF(ISBLANK(J84),"Introducir Resultado",IF(J84>=I84,"Meta Conseguida","Meta Non Conseguida")))) -> Introducir Meta e Resultado | O84: =+IF(AND(ISBLANK(M84),ISBLANK(N84)),"Introducir Meta e Resultado",IF(ISBLANK(M84),"Introducir Meta",IF(ISBLANK(N84),"Introducir Resultado",IF(N84>=M84,"Meta Conseguida","Meta Non Conseguida")))) -> Introducir Meta e Resultado
A85: I44-3 | B85: Satisfacción das Persoas tituladas coa organización e o desenvolvemento | C85: DO-0201 Planificación e desenvolvemento da ensinanza | D85: Cubrir Meta e Resultado. A meta poderá estar entre os valores [1-5] Introducir o Valor que se atopa na folla de "Bloque", na columna "Resultado" na fila "Valoración Total" do "Bloque 1 Organización e Desenvolvemento" da titulación corresponden do informe de "Enquisas de Satisfacción dos/das egresados/as " do portal de transparencia. https://secretaria.uvigo.gal/uv/web/transparencia/grupo/show/5/28 Os resultados son do curso 23-24 | E85: 2 | F85: 2.3157895 | G85: =+IF(AND(ISBLANK(E85),ISBLANK(F85)),"Introducir Meta e Resultado",IF(ISBLANK(E85),"Introducir Meta",IF(ISBLANK(F85),"Introducir Resultado",IF(F85>=E85,"Meta Conseguida","Meta Non Conseguida")))) -> Meta Conseguida | K85: =+IF(AND(ISBLANK(I85),ISBLANK(J85)),"Introducir Meta e Resultado",IF(ISBLANK(I85),"Introducir Meta",IF(ISBLANK(J85),"Introducir Resultado",IF(J85>=I85,"Meta Conseguida","Meta Non Conseguida")))) -> Introducir Meta e Resultado | O85: =+IF(AND(ISBLANK(M85),ISBLANK(N85)),"Introducir Meta e Resultado",IF(ISBLANK(M85),"Introducir Meta",IF(ISBLANK(N85),"Introducir Resultado",IF(N85>=M85,"Meta Conseguida","Meta Non Conseguida")))) -> Introducir Meta e Resultado
A86: I44-3 | B86: Satisfacción do PTXAS coa organización e o desenvolvemento | C86: DO-0201 Planificación e desenvolvemento da ensinanza | D86: Cubrir Meta e Resultado. A meta poderá estar entre os valores [1-5] Introducir o Valor que se atopa na folla de "Preguntas", na columna "Resultado" na fila "Valoración Total" da "Pregunta 15 a xestión das titulacións" da titulación correspondente do informe de "Enquisas de Satisfacción do PTXAS" do portal de transparencia. https://secretaria.uvigo.gal/uv/web/transparencia/grupo/show/5/28 Os resultados son do curso 22-23 | E86: 3 | F86: 3.6666667 | G86: =+IF(AND(ISBLANK(E86),ISBLANK(F86)),"Introducir Meta e Resultado",IF(ISBLANK(E86),"Introducir Meta",IF(ISBLANK(F86),"Introducir Resultado",IF(F86>=E86,"Meta Conseguida","Meta Non Conseguida")))) -> Meta Conseguida | K86: =+IF(AND(ISBLANK(I86),ISBLANK(J86)),"Introducir Meta e Resultado",IF(ISBLANK(I86),"Introducir Meta",IF(ISBLANK(J86),"Introducir Resultado",IF(J86>=I86,"Meta Conseguida","Meta Non Conseguida")))) -> Introducir Meta e Resultado | O86: =+IF(AND(ISBLANK(M86),ISBLANK(N86)),"Introducir Meta e Resultado",IF(ISBLANK(M86),"Introducir Meta",IF(ISBLANK(N86),"Introducir Resultado",IF(N86>=M86,"Meta Conseguida","Meta Non Conseguida")))) -> Introducir Meta e Resultado
A87: I45 | B87: Nº Estudantado matriculado | C87: AC-01 | D87: Só Cubrir o Resultado. Este indicador utilizase para calcular outros indicadores Elixir o documento estudantes matriculados de Grao ou Máster segundo sea o caso. https://secretaria.uvigo.gal/uv/web/transparencia/informe/show/5/51/61 Indicar o Nº total de Estudantes matriculados da titulación e neste curso Os resultados son do curso 23-24 | E87: ---- | F87: 491 | G87: =+IF(ISBLANK(F87),"Introducir Resultado","Indicador Completado") -> Indicador Completado | I87: ---- | K87: =+IF(ISBLANK(J87),"Introducir Resultado","Indicador Completado") -> Introducir Resultado | M87: ---- | O87: =+IF(ISBLANK(N87),"Introducir Resultado","Indicador Completado") -> Introducir Resultado
A88: I46 | B88: Nº PDI que imparte docencia en titulación | C88: PE-02 Xestión de PDI | D88: Só Cubrir o Resultado. Este indicador utilizase para calcular outros indicadores Acceder á consulta DOC. Profesorado con Docencia, do portal de transparencia. https://secretaria.uvigo.gal/uv/web/transparencia/informe/show/5/34/25 Posteriormente indicar o Nº de profesorado da titulación e neste curso. Os resultados son do curso 23-24 | E88: ---- | F88: 69 | G88: =+IF(ISBLANK(F88),"Introducir Resultado","Indicador Completado") -> Indicador Completado | I88: ---- | K88: =+IF(ISBLANK(J88),"Introducir Resultado","Indicador Completado") -> Introducir Resultado | M88: ---- | O88: =+IF(ISBLANK(N88),"Introducir Resultado","Indicador Completado") -> Introducir Resultado
A90: Indicadores do programa estratéxico de centro
A92: I50 | B92: Indicadores do programa estratexico do centro asociado á Titulación | C92: DE-01: Programación e desenvolvemento estratéxico | D92: Nº dos obxectivos I50-11 ata I50-20 que se acadan | E92: =+COUNTA(G93:G102)-COUNTIF(G93:G102,"Non hai indicador")-COUNTIF(G93:G102,"Introducir Meta e Resultado") -> 10 | F92: =+COUNTIF(G93:G102,"Meta Conseguida") -> 10 | G92: =+IF(F92=0,"Ningunha Meta Alcanzada",IF(F92=E92,"Meta Totalmente Alcanzada",IF(F92>0,"Meta Parcialmente Alcanzada"))) -> Meta Totalmente Alcanzada | I92: =+COUNTA(K93:K102)-COUNTIF(K93:K102,"Non hai indicador")-COUNTIF(K93:K102,"Introducir Meta e Resultado") -> 0 | J92: =+COUNTIF(K93:K102,"Meta Conseguida") -> 0 | K92: =+IF(J92=0,"Ningunha Meta Alcanzada",IF(J92=I92,"Meta Totalmente Alcanzada",IF(J92>0,"Meta Parcialmente Alcanzada"))) -> Ningunha Meta Alcanzada | M92: =+COUNTA(O93:O102)-COUNTIF(O93:O102,"Non hai indicador")-COUNTIF(O93:O102,"Introducir Meta e Resultado") -> 0 | N92: =+COUNTIF(O93:O102,"Meta Conseguida") -> 0 | O92: =+IF(N92=0,"Ningunha Meta Alcanzada",IF(N92=M92,"Meta Totalmente Alcanzada",IF(N92>0,"Meta Parcialmente Alcanzada"))) -> Ningunha Meta Alcanzada
A93: I50-11 | B93: Indicador 11 | C93: DE-01: Programación e desenvolvemento estratéxico | D93: Cubrir Meta e Resultado Este indicador está establecido polo centro, e está asociado a esta titulación. | E93: 5 | F93: 5 | G93: =+IF(AND(ISBLANK(E93),ISBLANK(F93)),"Introducir Meta e Resultado",IF(ISBLANK(E93),"Introducir Meta",IF(ISBLANK(F93),"Introducir Resultado",IF(F93>=E93,"Meta Conseguida","Meta Non Conseguida")))) -> Meta Conseguida | K93: =+IF(AND(ISBLANK(I93),ISBLANK(J93)),"Introducir Meta e Resultado",IF(ISBLANK(I93),"Introducir Meta",IF(ISBLANK(J93),"Introducir Resultado",IF(J93>=I93,"Meta Conseguida","Meta Non Conseguida")))) -> Introducir Meta e Resultado | O93: =+IF(AND(ISBLANK(M93),ISBLANK(N93)),"Introducir Meta e Resultado",IF(ISBLANK(M93),"Introducir Meta",IF(ISBLANK(N93),"Introducir Resultado",IF(N93>=M93,"Meta Conseguida","Meta Non Conseguida")))) -> Introducir Meta e Resultado
A94: I50-12 | B94: Indicador 12 | C94: DE-01: Programación e desenvolvemento estratéxico | D94: Cubrir Meta e Resultado Este indicador está establecido polo centro, e está asociado a esta titulación. | E94: 107 | F94: 108 | G94: =+IF(AND(ISBLANK(E94),ISBLANK(F94)),"Introducir Meta e Resultado",IF(ISBLANK(E94),"Introducir Meta",IF(ISBLANK(F94),"Introducir Resultado",IF(F94>=E94,"Meta Conseguida","Meta Non Conseguida")))) -> Meta Conseguida | K94: =+IF(AND(ISBLANK(I94),ISBLANK(J94)),"Introducir Meta e Resultado",IF(ISBLANK(I94),"Introducir Meta",IF(ISBLANK(J94),"Introducir Resultado",IF(J94>=I94,"Meta Conseguida","Meta Non Conseguida")))) -> Introducir Meta e Resultado | O94: =+IF(AND(ISBLANK(M94),ISBLANK(N94)),"Introducir Meta e Resultado",IF(ISBLANK(M94),"Introducir Meta",IF(ISBLANK(N94),"Introducir Resultado",IF(N94>=M94,"Meta Conseguida","Meta Non Conseguida")))) -> Introducir Meta e Resultado
A95: I50-13 | B95: Indicador 13 | C95: DE-01: Programación e desenvolvemento estratéxico | D95: Cubrir Meta e Resultado Este indicador está establecido polo centro, e está asociado a esta titulación. | E95: 93 | F95: 95 | G95: =+IF(AND(ISBLANK(E95),ISBLANK(F95)),"Introducir Meta e Resultado",IF(ISBLANK(E95),"Introducir Meta",IF(ISBLANK(F95),"Introducir Resultado",IF(F95>=E95,"Meta Conseguida","Meta Non Conseguida")))) -> Meta Conseguida | K95: =+IF(AND(ISBLANK(I95),ISBLANK(J95)),"Introducir Meta e Resultado",IF(ISBLANK(I95),"Introducir Meta",IF(ISBLANK(J95),"Introducir Resultado",IF(J95>=I95,"Meta Conseguida","Meta Non Conseguida")))) -> Introducir Meta e Resultado | O95: =+IF(AND(ISBLANK(M95),ISBLANK(N95)),"Introducir Meta e Resultado",IF(ISBLANK(M95),"Introducir Meta",IF(ISBLANK(N95),"Introducir Resultado",IF(N95>=M95,"Meta Conseguida","Meta Non Conseguida")))) -> Introducir Meta e Resultado
A96: I50-14 | B96: Indicador 14 | C96: DE-01: Programación e desenvolvemento estratéxico | D96: Cubrir Meta e Resultado Este indicador está establecido polo centro, e está asociado a esta titulación. | E96: 66 | F96: 66 | G96: =+IF(AND(ISBLANK(E96),ISBLANK(F96)),"Introducir Meta e Resultado",IF(ISBLANK(E96),"Introducir Meta",IF(ISBLANK(F96),"Introducir Resultado",IF(F96>=E96,"Meta Conseguida","Meta Non Conseguida")))) -> Meta Conseguida | K96: =+IF(AND(ISBLANK(I96),ISBLANK(J96)),"Introducir Meta e Resultado",IF(ISBLANK(I96),"Introducir Meta",IF(ISBLANK(J96),"Introducir Resultado",IF(J96>=I96,"Meta Conseguida","Meta Non Conseguida")))) -> Introducir Meta e Resultado | O96: =+IF(AND(ISBLANK(M96),ISBLANK(N96)),"Introducir Meta e Resultado",IF(ISBLANK(M96),"Introducir Meta",IF(ISBLANK(N96),"Introducir Resultado",IF(N96>=M96,"Meta Conseguida","Meta Non Conseguida")))) -> Introducir Meta e Resultado
A97: I50-15 | B97: Indicador 15 | C97: DE-01: Programación e desenvolvemento estratéxico | D97: Cubrir Meta e Resultado Este indicador está establecido polo centro, e está asociado a esta titulación. | E97: 30 | F97: 30 | G97: =+IF(AND(ISBLANK(E97),ISBLANK(F97)),"Introducir Meta e Resultado",IF(ISBLANK(E97),"Introducir Meta",IF(ISBLANK(F97),"Introducir Resultado",IF(F97>=E97,"Meta Conseguida","Meta Non Conseguida")))) -> Meta Conseguida | K97: =+IF(AND(ISBLANK(I97),ISBLANK(J97)),"Introducir Meta e Resultado",IF(ISBLANK(I97),"Introducir Meta",IF(ISBLANK(J97),"Introducir Resultado",IF(J97>=I97,"Meta Conseguida","Meta Non Conseguida")))) -> Introducir Meta e Resultado | O97: =+IF(AND(ISBLANK(M97),ISBLANK(N97)),"Introducir Meta e Resultado",IF(ISBLANK(M97),"Introducir Meta",IF(ISBLANK(N97),"Introducir Resultado",IF(N97>=M97,"Meta Conseguida","Meta Non Conseguida")))) -> Introducir Meta e Resultado
A98: I50-16 | B98: Indicador 16 | C98: DE-01: Programación e desenvolvemento estratéxico | D98: Cubrir Meta e Resultado Este indicador está establecido polo centro, e está asociado a esta titulación. | E98: 0 | F98: 0 | G98: =+IF(AND(ISBLANK(E98),ISBLANK(F98)),"Introducir Meta e Resultado",IF(ISBLANK(E98),"Introducir Meta",IF(ISBLANK(F98),"Introducir Resultado",IF(F98>=E98,"Meta Conseguida","Meta Non Conseguida")))) -> Meta Conseguida | K98: =+IF(AND(ISBLANK(I98),ISBLANK(J98)),"Introducir Meta e Resultado",IF(ISBLANK(I98),"Introducir Meta",IF(ISBLANK(J98),"Introducir Resultado",IF(J98>=I98,"Meta Conseguida","Meta Non Conseguida")))) -> Introducir Meta e Resultado | O98: =+IF(AND(ISBLANK(M98),ISBLANK(N98)),"Introducir Meta e Resultado",IF(ISBLANK(M98),"Introducir Meta",IF(ISBLANK(N98),"Introducir Resultado",IF(N98>=M98,"Meta Conseguida","Meta Non Conseguida")))) -> Introducir Meta e Resultado
A99: I50-17 | B99: Indicador 17 | C99: DE-01: Programación e desenvolvemento estratéxico | D99: Cubrir Meta e Resultado Este indicador está establecido polo centro, e está asociado a esta titulación. | E99: 4 | F99: 4 | G99: =+IF(AND(ISBLANK(E99),ISBLANK(F99)),"Introducir Meta e Resultado",IF(ISBLANK(E99),"Introducir Meta",IF(ISBLANK(F99),"Introducir Resultado",IF(F99>=E99,"Meta Conseguida","Meta Non Conseguida")))) -> Meta Conseguida | K99: =+IF(AND(ISBLANK(I99),ISBLANK(J99)),"Introducir Meta e Resultado",IF(ISBLANK(I99),"Introducir Meta",IF(ISBLANK(J99),"Introducir Resultado",IF(J99>=I99,"Meta Conseguida","Meta Non Conseguida")))) -> Introducir Meta e Resultado | O99: =+IF(AND(ISBLANK(M99),ISBLANK(N99)),"Introducir Meta e Resultado",IF(ISBLANK(M99),"Introducir Meta",IF(ISBLANK(N99),"Introducir Resultado",IF(N99>=M99,"Meta Conseguida","Meta Non Conseguida")))) -> Introducir Meta e Resultado
A100: I50-18 | B100: Indicador 18 | C100: DE-01: Programación e desenvolvemento estratéxico | D100: Cubrir Meta e Resultado Este indicador está establecido polo centro, e está asociado a esta titulación. | E100: 0 | F100: 0 | G100: =+IF(AND(ISBLANK(E100),ISBLANK(F100)),"Introducir Meta e Resultado",IF(ISBLANK(E100),"Introducir Meta",IF(ISBLANK(F100),"Introducir Resultado",IF(F100>=E100,"Meta Conseguida","Meta Non Conseguida")))) -> Meta Conseguida | K100: =+IF(AND(ISBLANK(I100),ISBLANK(J100)),"Introducir Meta e Resultado",IF(ISBLANK(I100),"Introducir Meta",IF(ISBLANK(J100),"Introducir Resultado",IF(J100>=I100,"Meta Conseguida","Meta Non Conseguida")))) -> Introducir Meta e Resultado | O100: =+IF(AND(ISBLANK(M100),ISBLANK(N100)),"Introducir Meta e Resultado",IF(ISBLANK(M100),"Introducir Meta",IF(ISBLANK(N100),"Introducir Resultado",IF(N100>=M100,"Meta Conseguida","Meta Non Conseguida")))) -> Introducir Meta e Resultado
A101: I50-19 | B101: Indicador 19 | C101: DE-01: Programación e desenvolvemento estratéxico | D101: Cubrir Meta e Resultado Este indicador está establecido polo centro, e está asociado a esta titulación. | E101: 0 | F101: 0 | G101: =+IF(AND(ISBLANK(E101),ISBLANK(F101)),"Introducir Meta e Resultado",IF(ISBLANK(E101),"Introducir Meta",IF(ISBLANK(F101),"Introducir Resultado",IF(F101>=E101,"Meta Conseguida","Meta Non Conseguida")))) -> Meta Conseguida | K101: =+IF(AND(ISBLANK(I101),ISBLANK(J101)),"Introducir Meta e Resultado",IF(ISBLANK(I101),"Introducir Meta",IF(ISBLANK(J101),"Introducir Resultado",IF(J101>=I101,"Meta Conseguida","Meta Non Conseguida")))) -> Introducir Meta e Resultado | O101: =+IF(AND(ISBLANK(M101),ISBLANK(N101)),"Introducir Meta e Resultado",IF(ISBLANK(M101),"Introducir Meta",IF(ISBLANK(N101),"Introducir Resultado",IF(N101>=M101,"Meta Conseguida","Meta Non Conseguida")))) -> Introducir Meta e Resultado
A102: I50-20 | B102: Indicador 20 | C102: DE-01: Programación e desenvolvemento estratéxico | D102: Cubrir Meta e Resultado Este indicador está establecido polo centro, e está asociado a esta titulación. | E102: 0 | F102: 0 | G102: =+IF(AND(ISBLANK(E102),ISBLANK(F102)),"Introducir Meta e Resultado",IF(ISBLANK(E102),"Introducir Meta",IF(ISBLANK(F102),"Introducir Resultado",IF(F102>=E102,"Meta Conseguida","Meta Non Conseguida")))) -> Meta Conseguida | K102: =+IF(AND(ISBLANK(I102),ISBLANK(J102)),"Introducir Meta e Resultado",IF(ISBLANK(I102),"Introducir Meta",IF(ISBLANK(J102),"Introducir Resultado",IF(J102>=I102,"Meta Conseguida","Meta Non Conseguida")))) -> Introducir Meta e Resultado | O102: =+IF(AND(ISBLANK(M102),ISBLANK(N102)),"Introducir Meta e Resultado",IF(ISBLANK(M102),"Introducir Meta",IF(ISBLANK(N102),"Introducir Resultado",IF(N102>=M102,"Meta Conseguida","Meta Non Conseguida")))) -> Introducir Meta e Resultado

Sheet Centro
A2: Panel de indicadores - Cadro de mando da Facultade de Belas Artes
A4: Indicadores | C4: Procedimientos asociados | E4: Curso 23-24 | I4: Curso X+1 | M4: Curso X+2
A5: Cod | B5: Denominación Indicador | C5: Denominación | D5: Descripción e Fonte de Información | E5: Meta | F5: Resultado | G5: Observacións | I5: Meta | J5: Resultado | K5: Observacións | M5: Meta | N5: Resultado | O5: Observacións
A6: Indicadores dos Programas de Calidade | E6: =+COUNTIF(G$7:G$36,"meta Conseguida")+COUNTIF(G$7:G$36,"meta Non Conseguida") -> 15 | F6: =+COUNTIF(G$7:G$36,"meta Conseguida") -> 15 | G6: =+IFERROR(F6/E6,0) -> 1 | I6: =+COUNTIF(K$7:K$36,"meta Conseguida")+COUNTIF(K$7:K$36,"meta Non Conseguida") -> 0 | J6: =+COUNTIF(K$7:K$36,"meta Conseguida") -> 0 | K6: =+IFERROR(J6/I6,0) -> 0 | M6: =+COUNTIF(O$7:O$36,"meta Conseguida")+COUNTIF(O$7:O$36,"meta Non Conseguida") -> 0 | N6: =+COUNTIF(O$7:O$36,"meta Conseguida") -> 0 | O6: =+IFERROR(N6/M6,0) -> 0
A7: I6 | B7: % Participación do PAS do centro en plans de formación | C7: PE-01 Xestión do PAS | D7: Só cubrir o Resultado, é un indicador informativo. Indicar a % do centro da columna "% Formación Si" do documento do "PAS_Formación" do portal de transparencia: https://secretaria.uvigo.gal/uv/web/transparencia/informe/show/5/37/86 Son os resultados do curso 23-24 | E7: ---- | F7: 0.55209953 | G7: =+IF(ISBLANK(F7),"Introducir Resultado","Resultado Introducido") -> Resultado Introducido | I7: ---- | K7: =+IF(ISBLANK(J7),"Introducir Resultado","Resultado Introducido") -> Introducir Resultado | M7: ---- | O7: =+IF(ISBLANK(N7),"Introducir Resultado","Resultado Introducido") -> Introducir Resultado
A9: Indicadores institucionais da Universidade de Vigo
A10: I27 | B10: Nº Queixas recibidas | C10: MC-02: Xestión das queixas, suxestións e parabéns | D10: Cubrir Meta e Resultado. O indicador acádase se o resultado é igual ou inferior á meta. Indicar o Nº de queixas recibidas no curso e que sexan competencia do centro ou das súas titulacións. https://secretaria.uvigo.gal/uv/web/qsp/ | E10: 26 | F10: 10 | G10: =+IF(AND(ISBLANK(E10),ISBLANK(F10)),"Introducir Meta e Resultado",IF(ISBLANK(E10),"Introducir Meta",IF(ISBLANK(F10),"Introducir Resultado",IF(F10<=E10,"Meta Conseguida","Meta Non Conseguida")))) -> Meta Conseguida | K10: =+IF(AND(ISBLANK(I10),ISBLANK(J10)),"Introducir Meta e Resultado",IF(ISBLANK(I10),"Introducir Meta",IF(ISBLANK(J10),"Introducir Resultado",IF(J10<=I10,"Meta Conseguida","Meta Non Conseguida")))) -> Introducir Meta e Resultado | O10: =+IF(AND(ISBLANK(M10),ISBLANK(N10)),"Introducir Meta e Resultado",IF(ISBLANK(M10),"Introducir Meta",IF(ISBLANK(N10),"Introducir Resultado",IF(N10<=M10,"Meta Conseguida","Meta Non Conseguida")))) -> Introducir Meta e Resultado
A11: I28 | B11: % de Titulacións que renovaron a súa acreditación | C11: DO-0101: Deseño, verificación, modificación e acreditación das titulacións oficiais | D11: Cubrir Meta e Resultado Indicar a % de titulacións que se imparten no centro que renovaron a súa acreditación sobre o total das titulacións que participaron na renovación da acreditación. Ter en conta únicamente as titulacións que recibiron o informe definitivo neste curso. | E11: 0 | F11: 0 | G11: =+IF(AND(ISBLANK(E11),ISBLANK(F11)),"Introducir Meta e Resultado",IF(ISBLANK(E11),"Introducir Meta",IF(ISBLANK(F11),"Introducir Resultado",IF(F11>=E11,"Meta Conseguida","Meta Non Conseguida")))) -> Meta Conseguida | K11: =+IF(AND(ISBLANK(I11),ISBLANK(J11)),"Introducir Meta e Resultado",IF(ISBLANK(I11),"Introducir Meta",IF(ISBLANK(J11),"Introducir Resultado",IF(J11>=I11,"Meta Conseguida","Meta Non Conseguida")))) -> Introducir Meta e Resultado | O11: =+IF(AND(ISBLANK(M11),ISBLANK(N11)),"Introducir Meta e Resultado",IF(ISBLANK(M11),"Introducir Meta",IF(ISBLANK(N11),"Introducir Resultado",IF(N11>=M11,"Meta Conseguida","Meta Non Conseguida")))) -> Introducir Meta e Resultado
A12: I29-1 | B12: Nº Titulacións en proceso de verificación | C12: DO-0101: Deseño, verificación, modificación e acreditación das titulacións oficiais | D12: Só cubrir o Resultado, é un indicador informativo Indicar o Nº de titulacións que se imparten no centro que estan en proceso de verificación. | E12: 0 | F12: 0 | G12: =+IF(ISBLANK(F12),"Introducir Resultado","Resultado Introducido") -> Resultado Introducido | I12: ---- | K12: =+IF(ISBLANK(J12),"Introducir Resultado","Resultado Introducido") -> Introducir Resultado | M12: ---- | O12: =+IF(ISBLANK(N12),"Introducir Resultado","Resultado Introducido") -> Introducir Resultado
A13: I29-2 | B13: Nº Titulacións en proceso de modificación substancial | C13: DO-0101: Deseño, verificación, modificación e acreditación das titulacións oficiais | D13: Só cubrir o Resultado, é un indicador informativo Indicar o Nº de titulacións que se imparten no centro que estan en proceso de modificación substancial. | E13: 0 | F13: 0 | G13: =+IF(ISBLANK(F13),"Introducir Resultado","Resultado Introducido") -> Resultado Introducido | I13: ---- | K13: =+IF(ISBLANK(J13),"Introducir Resultado","Resultado Introducido") -> Introducir Resultado | M13: ---- | O13: =+IF(ISBLANK(N13),"Introducir Resultado","Resultado Introducido") -> Introducir Resultado
A14: I29-3 | B14: Nº Titulacións en proceso de renovación da acreditación | C14: DO-0101: Deseño, verificación, modificación e acreditación das titulacións oficiais | D14: Só cubrir o Resultado, é un indicador informativo Indicar o Nº de titulacións que se imparten no centro que estan en proceso de renovación da acreditación. | E14: 0 | F14: 0 | G14: =+IF(ISBLANK(F14),"Introducir Resultado","Resultado Introducido") -> Resultado Introducido | I14: ---- | K14: =+IF(ISBLANK(J14),"Introducir Resultado","Resultado Introducido") -> Introducir Resultado | M14: ---- | O14: =+IF(ISBLANK(N14),"Introducir Resultado","Resultado Introducido") -> Introducir Resultado
A15: I30 | B15: % Titulacións con avaliación favorable en Seguimento | C15: DO-0102: Seguimento e mellora das titulacións | D15: Cubrir Meta e Resultado Indicar a % de titulacións que se imparten no centro que obtiveron unha avaliación Favorable no Informe de definitivo do Seguimento da ACSUG sobre o total das titulacións que participaron. Incluír únicamente as titulacións que recibiron o informe final neste curso. | E15: 0 | F15: 0 | G15: =+IF(AND(ISBLANK(E15),ISBLANK(F15)),"Introducir Meta e Resultado",IF(ISBLANK(E15),"Introducir Meta",IF(ISBLANK(F15),"Introducir Resultado",IF(F15>=E15,"Meta Conseguida","Meta Non Conseguida")))) -> Meta Conseguida | K15: =+IF(AND(ISBLANK(I15),ISBLANK(J15)),"Introducir Meta e Resultado",IF(ISBLANK(I15),"Introducir Meta",IF(ISBLANK(J15),"Introducir Resultado",IF(J15>=I15,"Meta Conseguida","Meta Non Conseguida")))) -> Introducir Meta e Resultado | O15: =+IF(AND(ISBLANK(M15),ISBLANK(N15)),"Introducir Meta e Resultado",IF(ISBLANK(M15),"Introducir Meta",IF(ISBLANK(N15),"Introducir Resultado",IF(N15>=M15,"Meta Conseguida","Meta Non Conseguida")))) -> Introducir Meta e Resultado
A16: I31 | B16: Nº Titulacións en proceso de Seguimento | C16: DO-0102: Seguimento e mellora das titulacións | D16: Só cubrir o Resultado, é un indicador informativo Indicar o Nº de titulacións que se imparten no centro que estan en proceso de seguimento da ACSUG | E16: 0 | F16: 0 | G16: =+IF(ISBLANK(F16),"Introducir Resultado","Indicador Completado") -> Indicador Completado | I16: ---- | K16: =+IF(ISBLANK(J16),"Introducir Resultado","Indicador Completado") -> Introducir Resultado | M16: ---- | O16: =+IF(ISBLANK(N16),"Introducir Resultado","Indicador Completado") -> Introducir Resultado
A17: I32 | B17: Nº Titulacións en proceso de extinción ou suspensión | C17: DO-0103: Suspensión e extinción dunha titulación | D17: Só cubrir o Resultado, é un indicador informativo Indicar o Nº de titulacións que se impartiron no centro no curso pasado, que están nun proceso de suspensión ou extinción | E17: 0 | F17: 0 | G17: =+IF(ISBLANK(F17),"Introducir Resultado","Indicador Completado") -> Indicador Completado | I17: ---- | K17: =+IF(ISBLANK(J17),"Introducir Resultado","Indicador Completado") -> Introducir Resultado | M17: ---- | O17: =+IF(ISBLANK(N17),"Introducir Resultado","Indicador Completado") -> Introducir Resultado
A18: I33 | B18: Nº Accións de promoción realizadas | C18: DO-0202 Promoción das titulacións | D18: Só cubrir o Resultado, é un indicador informativo Indicar o Nº de accións de promoción realizadas segundo o plan de promoción previsto polo centro e as súas titulacións. | E18: 2 | F18: 2 | G18: =+IF(ISBLANK(F18),"Introducir Resultado","Indicador Completado") -> Indicador Completado | I18: ---- | K18: =+IF(ISBLANK(J18),"Introducir Resultado","Indicador Completado") -> Introducir Resultado | M18: ---- | O18: =+IF(ISBLANK(N18),"Introducir Resultado","Indicador Completado") -> Introducir Resultado
A19: I34 | B19: Nº Accións de mellora definidas neste curso | C19: DO-0102: Seguimento e mellora das titulacións | D19: Só cubrir o Resultado, é un indicador informativo Nº de melloras rexistradas asociadas ao centro na aplicación SGIC neste curso | E19: 0 | F19: 0 | G19: =+IF(ISBLANK(F19),"Introducir Resultado","Indicador Completado") -> Indicador Completado | I19: ---- | K19: =+IF(ISBLANK(J19),"Introducir Resultado","Indicador Completado") -> Introducir Resultado | M19: ---- | O19: =+IF(ISBLANK(N19),"Introducir Resultado","Indicador Completado") -> Introducir Resultado
A20: I37 | B20: Grao de Satisfacción do estudantado co PAT | C20: DO-0203: Orientación do estudantado e atención ás NEAE | D20: Cubrir Meta e Resultado Indicar o Grao de satisfacción do estudantado co PAT, mediante unha enquisa vosa. No caso de utilizar a enquisa do Anexo IV-A da "Guía para a elaboración do PAT", incluiríase o valor do ítem 4 " Valore o grao de utilidade do PAT" | E20: 2 | F20: 2 | G20: =+IF(AND(ISBLANK(E20),ISBLANK(F20)),"Introducir Meta e Resultado",IF(ISBLANK(E20),"Introducir Meta",IF(ISBLANK(F20),"Introducir Resultado",IF(F20>=E20,"Meta Conseguida","Meta Non Conseguida")))) -> Meta Conseguida | K20: =+IF(AND(ISBLANK(I20),ISBLANK(J20)),"Introducir Meta e Resultado",IF(ISBLANK(I20),"Introducir Meta",IF(ISBLANK(J20),"Introducir Resultado",IF(J20>=I20,"Meta Conseguida","Meta Non Conseguida")))) -> Introducir Meta e Resultado | O20: =+IF(AND(ISBLANK(M20),ISBLANK(N20)),"Introducir Meta e Resultado",IF(ISBLANK(M20),"Introducir Meta",IF(ISBLANK(N20),"Introducir Resultado",IF(N20>=M20,"Meta Conseguida","Meta Non Conseguida")))) -> Introducir Meta e Resultado
A21: I40 | B21: Nº de procedementos actualizados no curso académico | C21: XD-01: Control dos documentos e dos rexistros | D21: Só cubrir o Resultado, é un indicador informativo Indicar o Nº de procedementos actualizados neste curso | E21: 0 | F21: 0 | G21: =+IF(ISBLANK(F21),"Introducir Resultado","Indicador Completado") -> Indicador Completado | I21: ---- | K21: =+IF(ISBLANK(J21),"Introducir Resultado","Indicador Completado") -> Introducir Resultado | M21: ---- | O21: =+IF(ISBLANK(N21),"Introducir Resultado","Indicador Completado") -> Introducir Resultado
A22: I41 | B22: % Rexistros en estado completado na aplicación SGIC | C22: XD-01: Control dos documentos e dos rexistros | D22: Cubrir Meta e Resultado Indicar a % de rexistros co estado "Completado" na aplicación SGIC do curso pasado | E22: 0 | F22: 0 | G22: =+IF(AND(ISBLANK(E22),ISBLANK(F22)),"Introducir Meta e Resultado",IF(ISBLANK(E22),"Introducir Meta",IF(ISBLANK(F22),"Introducir Resultado",IF(F22>=E22,"Meta Conseguida","Meta Non Conseguida")))) -> Meta Conseguida | K22: =+IF(AND(ISBLANK(I22),ISBLANK(J22)),"Introducir Meta e Resultado",IF(ISBLANK(I22),"Introducir Meta",IF(ISBLANK(J22),"Introducir Resultado",IF(J22>=I22,"Meta Conseguida","Meta Non Conseguida")))) -> Introducir Meta e Resultado | O22: =+IF(AND(ISBLANK(M22),ISBLANK(N22)),"Introducir Meta e Resultado",IF(ISBLANK(M22),"Introducir Meta",IF(ISBLANK(N22),"Introducir Resultado",IF(N22>=M22,"Meta Conseguida","Meta Non Conseguida")))) -> Introducir Meta e Resultado
A24: Indicadores do programa estratéxico de centro
A26: I50 | B26: Indicadores do programa estratexico do centro | C26: DE-01: Programación e desenvolvemento estratéxico | D26: Só Cubrir a Meta entre os valores [0-10] Nº dos obxectivos I50-1 ata I50-10 que se acadan | E26: =+COUNTA(G27:G36)-COUNTIF(G27:G36,"Non hai indicador")-COUNTIF(G27:G36,"Introducir Meta e Resultado") -> 10 | F26: =+COUNTIF(G27:G36,"Meta Conseguida") -> 10 | G26: =+IF(F26=0,"Ningunha Meta Alcanzada",IF(F26=E26,"Meta Totalmente Alcanzada",IF(F26>0,"Meta Parcialmente Alcanzada"))) -> Meta Totalmente Alcanzada | I26: =+COUNTA(K27:K36)-COUNTIF(K27:K36,"Non hai indicador")-COUNTIF(K27:K36,"Introducir Meta e Resultado") -> 0 | J26: =+COUNTIF(K27:K36,"Meta Conseguida") -> 0 | K26: =+IF(J26=0,"Ningunha Meta Alcanzada",IF(J26=I26,"Meta Totalmente Alcanzada",IF(J26>0,"Meta Parcialmente Alcanzada"))) -> Ningunha Meta Alcanzada | M26: =+COUNTA(O27:O36)-COUNTIF(O27:O36,"Non hai indicador")-COUNTIF(O27:O36,"Introducir Meta e Resultado") -> 0 | N26: =+COUNTIF(O27:O36,"Meta Conseguida") -> 0 | O26: =+IF(N26=0,"Ningunha Meta Alcanzada",IF(N26=M26,"Meta Totalmente Alcanzada",IF(N26>0,"Meta Parcialmente Alcanzada"))) -> Ningunha Meta Alcanzada
A27: I50-1 | B27: Indicador 1 | C27: DE-01: Programación e desenvolvemento estratéxico | D27: Este indicador está establecido polo centro, e está asociado a esta titulación. Indicar o resultado e a meta asociada. | E27: 0 | F27: 0 | G27: =+IF(AND(ISBLANK(E27),ISBLANK(F27)),"Introducir Meta e Resultado",IF(ISBLANK(E27),"Introducir Meta",IF(ISBLANK(F27),"Introducir Resultado",IF(F27>=E27,"Meta Conseguida","Meta Non Conseguida")))) -> Meta Conseguida | K27: =+IF(AND(ISBLANK(I27),ISBLANK(J27)),"Introducir Meta e Resultado",IF(ISBLANK(I27),"Introducir Meta",IF(ISBLANK(J27),"Introducir Resultado",IF(J27>=I27,"Meta Conseguida","Meta Non Conseguida")))) -> Introducir Meta e Resultado | O27: =+IF(AND(ISBLANK(M27),ISBLANK(N27)),"Introducir Meta e Resultado",IF(ISBLANK(M27),"Introducir Meta",IF(ISBLANK(N27),"Introducir Resultado",IF(N27>=M27,"Meta Conseguida","Meta Non Conseguida")))) -> Introducir Meta e Resultado
A28: I50-2 | B28: Indicador 2 | C28: DE-01: Programación e desenvolvemento estratéxico | D28: Este indicador está establecido polo centro, e está asociado ao centro. Indicar o resultado e a meta asociada. | E28: 101 | F28: 108 | G28: =+IF(AND(ISBLANK(E28),ISBLANK(F28)),"Introducir Meta e Resultado",IF(ISBLANK(E28),"Introducir Meta",IF(ISBLANK(F28),"Introducir Resultado",IF(F28>=E28,"Meta Conseguida","Meta Non Conseguida")))) -> Meta Conseguida | K28: =+IF(AND(ISBLANK(I28),ISBLANK(J28)),"Introducir Meta e Resultado",IF(ISBLANK(I28),"Introducir Meta",IF(ISBLANK(J28),"Introducir Resultado",IF(J28>=I28,"Meta Conseguida","Meta Non Conseguida")))) -> Introducir Meta e Resultado | O28: =+IF(AND(ISBLANK(M28),ISBLANK(N28)),"Introducir Meta e Resultado",IF(ISBLANK(M28),"Introducir Meta",IF(ISBLANK(N28),"Introducir Resultado",IF(N28>=M28,"Meta Conseguida","Meta Non Conseguida")))) -> Introducir Meta e Resultado
A29: I50-3 | B29: Indicador 3 | C29: DE-01: Programación e desenvolvemento estratéxico | D29: Este indicador está establecido polo centro, e está asociado ao centro. Indicar o resultado e a meta asociada. | E29: 93 | F29: 93 | G29: =+IF(AND(ISBLANK(E29),ISBLANK(F29)),"Introducir Meta e Resultado",IF(ISBLANK(E29),"Introducir Meta",IF(ISBLANK(F29),"Introducir Resultado",IF(F29>=E29,"Meta Conseguida","Meta Non Conseguida")))) -> Meta Conseguida | K29: =+IF(AND(ISBLANK(I29),ISBLANK(J29)),"Introducir Meta e Resultado",IF(ISBLANK(I29),"Introducir Meta",IF(ISBLANK(J29),"Introducir Resultado",IF(J29>=I29,"Meta Conseguida","Meta Non Conseguida")))) -> Introducir Meta e Resultado | O29: =+IF(AND(ISBLANK(M29),ISBLANK(N29)),"Introducir Meta e Resultado",IF(ISBLANK(M29),"Introducir Meta",IF(ISBLANK(N29),"Introducir Resultado",IF(N29>=M29,"Meta Conseguida","Meta Non Conseguida")))) -> Introducir Meta e Resultado
A30: I50-4 | B30: Indicador 4 | C30: DE-01: Programación e desenvolvemento estratéxico | D30: Este indicador está establecido polo centro, e está asociado ao centro. Indicar o resultado e a meta asociada. | E30: 132 | F30: 140 | G30: =+IF(AND(ISBLANK(E30),ISBLANK(F30)),"Introducir Meta e Resultado",IF(ISBLANK(E30),"Introducir Meta",IF(ISBLANK(F30),"Introducir Resultado",IF(F30>=E30,"Meta Conseguida","Meta Non Conseguida")))) -> Meta Conseguida | K30: =+IF(AND(ISBLANK(I30),ISBLANK(J30)),"Introducir Meta e Resultado",IF(ISBLANK(I30),"Introducir Meta",IF(ISBLANK(J30),"Introducir Resultado",IF(J30>=I30,"Meta Conseguida","Meta Non Conseguida")))) -> Introducir Meta e Resultado | O30: =+IF(AND(ISBLANK(M30),ISBLANK(N30)),"Introducir Meta e Resultado",IF(ISBLANK(M30),"Introducir Meta",IF(ISBLANK(N30),"Introducir Resultado",IF(N30>=M30,"Meta Conseguida","Meta Non Conseguida")))) -> Introducir Meta e Resultado
A31: I50-5 | B31: Indicador 5 | C31: DE-01: Programación e desenvolvemento estratéxico | D31: Este indicador está establecido polo centro, e está asociado ao centro. Indicar o resultado e a meta asociada. | E31: 2 | F31: 3 | G31: =+IF(AND(ISBLANK(E31),ISBLANK(F31)),"Introducir Meta e Resultado",IF(ISBLANK(E31),"Introducir Meta",IF(ISBLANK(F31),"Introducir Resultado",IF(F31>=E31,"Meta Conseguida","Meta Non Conseguida")))) -> Meta Conseguida | K31: =+IF(AND(ISBLANK(I31),ISBLANK(J31)),"Introducir Meta e Resultado",IF(ISBLANK(I31),"Introducir Meta",IF(ISBLANK(J31),"Introducir Resultado",IF(J31>=I31,"Meta Conseguida","Meta Non Conseguida")))) -> Introducir Meta e Resultado | O31: =+IF(AND(ISBLANK(M31),ISBLANK(N31)),"Introducir Meta e Resultado",IF(ISBLANK(M31),"Introducir Meta",IF(ISBLANK(N31),"Introducir Resultado",IF(N31>=M31,"Meta Conseguida","Meta Non Conseguida")))) -> Introducir Meta e Resultado
A32: I50-6 | B32: Indicador 6 | C32: DE-01: Programación e desenvolvemento estratéxico | D32: Este indicador está establecido polo centro, e está asociado ao centro. Indicar o resultado e a meta asociada. | E32: 3 | F32: 3 | G32: =+IF(AND(ISBLANK(E32),ISBLANK(F32)),"Introducir Meta e Resultado",IF(ISBLANK(E32),"Introducir Meta",IF(ISBLANK(F32),"Introducir Resultado",IF(F32>=E32,"Meta Conseguida","Meta Non Conseguida")))) -> Meta Conseguida | K32: =+IF(AND(ISBLANK(I32),ISBLANK(J32)),"Introducir Meta e Resultado",IF(ISBLANK(I32),"Introducir Meta",IF(ISBLANK(J32),"Introducir Resultado",IF(J32>=I32,"Meta Conseguida","Meta Non Conseguida")))) -> Introducir Meta e Resultado | O32: =+IF(AND(ISBLANK(M32),ISBLANK(N32)),"Introducir Meta e Resultado",IF(ISBLANK(M32),"Introducir Meta",IF(ISBLANK(N32),"Introducir Resultado",IF(N32>=M32,"Meta Conseguida","Meta Non Conseguida")))) -> Introducir Meta e Resultado
A33: I50-7 | B33: Indicador 7 | C33: DE-01: Programación e desenvolvemento estratéxico | D33: Este indicador está establecido polo centro, e está asociado ao centro. Indicar o resultado e a meta asociada. | E33: 2 | F33: 3 | G33: =+IF(AND(ISBLANK(E33),ISBLANK(F33)),"Introducir Meta e Resultado",IF(ISBLANK(E33),"Introducir Meta",IF(ISBLANK(F33),"Introducir Resultado",IF(F33>=E33,"Meta Conseguida","Meta Non Conseguida")))) -> Meta Conseguida | K33: =+IF(AND(ISBLANK(I33),ISBLANK(J33)),"Introducir Meta e Resultado",IF(ISBLANK(I33),"Introducir Meta",IF(ISBLANK(J33),"Introducir Resultado",IF(J33>=I33,"Meta Conseguida","Meta Non Conseguida")))) -> Introducir Meta e Resultado | O33: =+IF(AND(ISBLANK(M33),ISBLANK(N33)),"Introducir Meta e Resultado",IF(ISBLANK(M33),"Introducir Meta",IF(ISBLANK(N33),"Introducir Resultado",IF(N33>=M33,"Meta Conseguida","Meta Non Conseguida")))) -> Introducir Meta e Resultado
A34: I50-8 | B34: Indicador 8 | C34: DE-01: Programación e desenvolvemento estratéxico | D34: Este indicador está establecido polo centro, e está asociado ao centro. Indicar o resultado e a meta asociada. | E34: 2 | F34: 3 | G34: =+IF(AND(ISBLANK(E34),ISBLANK(F34)),"Introducir Meta e Resultado",IF(ISBLANK(E34),"Introducir Meta",IF(ISBLANK(F34),"Introducir Resultado",IF(F34>=E34,"Meta Conseguida","Meta Non Conseguida")))) -> Meta Conseguida | K34: =+IF(AND(ISBLANK(I34),ISBLANK(J34)),"Introducir Meta e Resultado",IF(ISBLANK(I34),"Introducir Meta",IF(ISBLANK(J34),"Introducir Resultado",IF(J34>=I34,"Meta Conseguida","Meta Non Conseguida")))) -> Introducir Meta e Resultado | O34: =+IF(AND(ISBLANK(M34),ISBLANK(N34)),"Introducir Meta e Resultado",IF(ISBLANK(M34),"Introducir Meta",IF(ISBLANK(N34),"Introducir Resultado",IF(N34>=M34,"Meta Conseguida","Meta Non Conseguida")))) -> Introducir Meta e Resultado
A35: I50-9 | B35: Indicador 9 | C35: DE-01: Programación e desenvolvemento estratéxico | D35: Este indicador está establecido polo centro, e está asociado ao centro. Indicar o resultado e a meta asociada. | E35: 19 | F35: 20 | G35: =+IF(AND(ISBLANK(E35),ISBLANK(F35)),"Introducir Meta e Resultado",IF(ISBLANK(E35),"Introducir Meta",IF(ISBLANK(F35),"Introducir Resultado",IF(F35>=E35,"Meta Conseguida","Meta Non Conseguida")))) -> Meta Conseguida | K35: =+IF(AND(ISBLANK(I35),ISBLANK(J35)),"Introducir Meta e Resultado",IF(ISBLANK(I35),"Introducir Meta",IF(ISBLANK(J35),"Introducir Resultado",IF(J35>=I35,"Meta Conseguida","Meta Non Conseguida")))) -> Introducir Meta e Resultado | O35: =+IF(AND(ISBLANK(M35),ISBLANK(N35)),"Introducir Meta e Resultado",IF(ISBLANK(M35),"Introducir Meta",IF(ISBLANK(N35),"Introducir Resultado",IF(N35>=M35,"Meta Conseguida","Meta Non Conseguida")))) -> Introducir Meta e Resultado
A36: I50-10 | B36: Indicador 10 | C36: DE-01: Programación e desenvolvemento estratéxico | D36: Este indicador está establecido polo centro, e está asociado ao centro. Indicar o resultado e a meta asociada. | E36: 4.5 | F36: 4.7 | G36: =+IF(AND(ISBLANK(E36),ISBLANK(F36)),"Introducir Meta e Resultado",IF(ISBLANK(E36),"Introducir Meta",IF(ISBLANK(F36),"Introducir Resultado",IF(F36>=E36,"Meta Conseguida","Meta Non Conseguida")))) -> Meta Conseguida | K36: =+IF(AND(ISBLANK(I36),ISBLANK(J36)),"Introducir Meta e Resultado",IF(ISBLANK(I36),"Introducir Meta",IF(ISBLANK(J36),"Introducir Resultado",IF(J36>=I36,"Meta Conseguida","Meta Non Conseguida")))) -> Introducir Meta e Resultado | O36: =+IF(AND(ISBLANK(M36),ISBLANK(N36)),"Introducir Meta e Resultado",IF(ISBLANK(M36),"Introducir Meta",IF(ISBLANK(N36),"Introducir Resultado",IF(N36>=M36,"Meta Conseguida","Meta Non Conseguida")))) -> Introducir Meta e Resultado

Sheet Resumo
A1: Facultade de Belas Artes | D1: Nº Obxectivos conseguidos | F1: =+GBBAA!F11+Centro!F6 -> 77 | H1: Nº Obxectivos conseguidos | J1: =+GBBAA!J11+Centro!J6 -> 0 | L1: Nº Obxectivos conseguidos | N1: =+GBBAA!N11+Centro!N6 -> 0 | AA1: a | BA1: a | BE1: a
A2: Panel de indicadores- Cadro de mando | D2: % Obxectivos conseguidos | F2: =+IFERROR((GBBAA!F11+Centro!F6)/(GBBAA!E11+Centro!E6),0) -> 1 | H2: % Obxectivos conseguidos | J2: =+IFERROR((GBBAA!J11+Centro!J6)/(GBBAA!I11+Centro!I6),0) -> 0 | L2: % Obxectivos conseguidos | N2: =+IFERROR((GBBAA!N11+Centro!N6)/(GBBAA!M11+Centro!M6),0) -> 0 | AA2: =+$F$5 -> Grao en Belas Artes | BA2: =+$G$5 -> 0 | BE2: =+$G$5 -> 0
A4: Indicadores | C4: Procedimientos asociados | D4: =+Centro!E4 -> Curso 23-24 | H4: =+Centro!I4 -> Curso X+1 | L4: =+Centro!M4 -> Curso X+2 | AA4: =+$D$4 -> Curso 23-24 | BA4: =+$H$4 -> Curso X+1 | BE4: =+$H$4 -> Curso X+1
A5: Cod | B5: Denominación Indicador | C5: Denominación | D5: % Consecución | E5: Centro | F5: Grao en Belas Artes | H5: % Consecución | I5: Centro | J5: Grao en Belas Artes | L5: % Consecución | M5: Centro | N5: Grao en Belas Artes | AA5: Consecución | BA5: Consecución | BE5: Consecución
A6: Indicadores dos Programas de Calidade
A7: =+GBBAA!A7 -> I1-I2 | B7: =+GBBAA!B7 -> Nº Estudantes de novo ingreso (Grao e Máster) | C7: =+GBBAA!C7 -> AC-01: Acceso, evolución e Expedición de Titulos Oficiais | D7: =+AVERAGE(AA7:AA7) -> 1 | E7: ----- | F7: =+IF(GBBAA!$G$7="Meta Conseguida","OK","NO OK") -> OK | H7: =+AVERAGE(BA7:BA7) -> 0 | I7: ----- | J7: =+IF(GBBAA!K$7="Meta Conseguida","OK","NO OK") -> NO OK | L7: =+AVERAGE(BE7:BE7) -> 0 | M7: ----- | N7: =+IF(GBBAA!O$7="Meta Conseguida","OK","NO OK") -> NO OK | AA7: =+IF($F$7="NO OK",0,1) -> 1 | BA7: =+IF(J7="NO OK",0,1) -> 0 | BE7: =+IF(N7="NO OK",0,1) -> 0
A8: =+GBBAA!A8 -> I3 | B8: =+GBBAA!B8 -> Indicadores de mobilidade do estudantado | C8: =+GBBAA!C8 -> DO-0205: Xestión da mobilidade | D8: =+AVERAGE(AA8:AA8) -> 1 | E8: ----- | F8: =+IFERROR(IF(GBBAA!$F$8/GBBAA!$E$8=1,"OK",IF(GBBAA!$F$8=0,"NO OK","PARCIAL")),"NO OK") -> OK | H8: =+AVERAGE(BA8:BA8) -> 0 | I8: ----- | J8: =+IFERROR(IF(GBBAA!J$8/GBBAA!I$8=1,"OK",IF(GBBAA!J$8=0,"NO OK","PARCIAL")),"NO OK") -> NO OK | L8: =+AVERAGE(BE8:BE8) -> 0 | M8: ----- | N8: =+IFERROR(IF(GBBAA!N$8/GBBAA!M$8=1,"OK",IF(GBBAA!N$8=0,"NO OK","PARCIAL")),"NO OK") -> NO OK | AA8: =+IFERROR(GBBAA!$F$8/GBBAA!$E$8,0) -> 1 | BA8: =+IFERROR(GBBAA!J$8/GBBAA!I$8,0) -> 0 | BE8: =+IFERROR(GBBAA!N$8/GBBAA!M$8,0) -> 0
A9: =+GBBAA!A11 -> I4 | B9: =+GBBAA!B11 -> Resultados dos indicadores do SGC | C9: DE-02 Seguimento e Medición; Este indicador mostra os resultados do conxunto dos indicadores do cadro de mando | D9: =+AVERAGE(AA9:AA9) -> 1 | E9: ----- | F9: =+IFERROR(IF(GBBAA!$F$11/GBBAA!$E$11=1,"OK",IF(GBBAA!$F$11=0,"NO OK","PARCIAL")),"NO OK") -> OK | H9: =+AVERAGE(BA9:BA9) -> 0 | I9: ----- | J9: =+IFERROR(IF(GBBAA!J$11/GBBAA!I$11=1,"OK",IF(GBBAA!J$11=0,"NO OK","PARCIAL")),"NO OK") -> NO OK | L9: =+AVERAGE(BE9:BE9) -> 0 | M9: ----- | N9: =+IFERROR(IF(GBBAA!N$11/GBBAA!M$11=1,"OK",IF(GBBAA!N$11=0,"NO OK","PARCIAL")),"NO OK") -> NO OK | AA9: =+IFERROR(GBBAA!$F$11/GBBAA!$E$11,0) -> 1 | BA9: =+IFERROR(GBBAA!J11/GBBAA!I11,0) -> 0 | BE9: =+IFERROR(GBBAA!N11/GBBAA!M11,0) -> 0
A10: =+GBBAA!A12 -> I5 | B10: =+GBBAA!B12 -> Indicadores de formación do PDI | C10: =+GBBAA!C12 -> PE-02 Xestión de PDI | D10: =+AVERAGE(AA10:AA10) -> 1 | E10: ----- | F10: =+IFERROR(IF(GBBAA!$F$12/GBBAA!$E$12=1,"OK",IF(GBBAA!$F$12=0,"NO OK","PARCIAL")),"NO OK") -> OK | H10: =+AVERAGE(BA10:BA10) -> 0 | I10: ----- | J10: =+IFERROR(IF(GBBAA!J$12/GBBAA!I$12=1,"OK",IF(GBBAA!J$12=0,"NO OK","PARCIAL")),"NO OK") -> NO OK | L10: =+AVERAGE(BE10:BE10) -> 0 | M10: ----- | N10: =+IFERROR(IF(GBBAA!N$12/GBBAA!M$12=1,"OK",IF(GBBAA!N$12=0,"NO OK","PARCIAL")),"NO OK") -> NO OK | AA10: =+IFERROR(GBBAA!$F$12/GBBAA!$E$12,0) -> 1 | BA10: =+IFERROR(GBBAA!J12/GBBAA!I12,0) -> 0 | BE10: =+IFERROR(GBBAA!N12/GBBAA!M12,0) -> 0
A11: =+GBBAA!A16 -> I7 | B11: =+GBBAA!B16 -> % PDI do título avaliado polo programa DOCENTIA e resultados obtidos | C11: =+GBBAA!C16 -> PE-02 Xestión de PDI | D11: =+AVERAGE(AA11:AA11) -> 1 | E11: ----- | F11: =+IFERROR(IF(GBBAA!$F$16/GBBAA!$E$16=1,"OK",IF(GBBAA!$F$16=0,"NO OK","PARCIAL")),"NO OK") -> OK | H11: =+AVERAGE(BA11:BA11) -> 0 | I11: ----- | J11: =+IFERROR(IF(GBBAA!J$16/GBBAA!I$16=1,"OK",IF(GBBAA!J$16=0,"NO OK","PARCIAL")),"NO OK") -> NO OK | L11: =+AVERAGE(BE11:BE11) -> 0 | M11: ----- | N11: =+IFERROR(IF(GBBAA!N$16/GBBAA!M$16=1,"OK",IF(GBBAA!N$16=0,"NO OK","PARCIAL")),"NO OK") -> NO OK | AA11: =+IFERROR(GBBAA!$F$16/GBBAA!$E$16,0) -> 1 | BA11: =+IFERROR(GBBAA!J$16/GBBAA!I$16,0) -> 0 | BE11: =+IFERROR(GBBAA!N$16/GBBAA!M$16,0) -> 0
A12: =+GBBAA!A20 -> I8 | B12: =+GBBAA!B20 -> Indicadores de mobilidade do PDI | C12: =+GBBAA!C20 -> PE-02 Xestión de PDI | D12: =+AVERAGE(AA12:AA12) -> 1 | E12: ----- | F12: =+IFERROR(IF(GBBAA!$F$20/GBBAA!$E$20=1,"OK",IF(GBBAA!$F$20=0,"NO OK","PARCIAL")),"NO OK") -> OK | H12: =+AVERAGE(BA12:BA12) -> 0 | I12: ----- | J12: =+IFERROR(IF(GBBAA!J$20/GBBAA!I$20=1,"OK",IF(GBBAA!J$20=0,"NO OK","PARCIAL")),"NO OK") -> NO OK | L12: =+AVERAGE(BE12:BE12) -> 0 | M12: ----- | N12: =+IFERROR(IF(GBBAA!N$20/GBBAA!M$20=1,"OK",IF(GBBAA!N$20=0,"NO OK","PARCIAL")),"NO OK") -> NO OK | AA12: =+IFERROR(GBBAA!$F$20/GBBAA!$E$20,0) -> 1 | BA12: =+IFERROR(GBBAA!J$20/GBBAA!I$20,0) -> 0 | BE12: =+IFERROR(GBBAA!N$20/GBBAA!M$20,0) -> 0
A13: =+GBBAA!A24 -> I10 | B13: =+GBBAA!B24 -> Indicadores de resultados | C13: =+GBBAA!C24 -> DE-02 Seguimento e Medición; DE-03 Revisión do sistema pola dirección | D13: =+AVERAGE(AA13:AA13) -> 1 | E13: ----- | F13: =+IFERROR(IF(GBBAA!$F$24/GBBAA!$E$24=1,"OK",IF(GBBAA!$F$24=0,"NO OK","PARCIAL")),"NO OK") -> OK | H13: =+AVERAGE(BA13:BA13) -> 0 | I13: ----- | J13: =+IFERROR(IF(GBBAA!J$24/GBBAA!I$24=1,"OK",IF(GBBAA!J$24=0,"NO OK","PARCIAL")),"NO OK") -> NO OK | L13: =+AVERAGE(BE13:BE13) -> 0 | M13: ----- | N13: =+IFERROR(IF(GBBAA!N$24/GBBAA!M$24=1,"OK",IF(GBBAA!N$24=0,"NO OK","PARCIAL")),"NO OK") -> NO OK | AA13: =+IFERROR(GBBAA!$F$24/GBBAA!$E$24,0) -> 1 | BA13: =+IFERROR(GBBAA!J$24/GBBAA!I$24,0) -> 0 | BE13: =+IFERROR(GBBAA!N$24/GBBAA!M$24,0) -> 0
A14: =+GBBAA!A37 -> I11 | B14: =+GBBAA!B37 -> Relación de Oferta / Demanda de prazas | C14: =+GBBAA!C37 -> AC-01: Acceso, evolución e Expedición de Titulos Oficiais | D14: =+AVERAGE(AA14:AA14) -> 1 | E14: ----- | F14: =+IFERROR(IF(GBBAA!$F$37/GBBAA!$E$37=1,"OK",IF(GBBAA!$F$37=0,"NO OK","PARCIAL")),"NO OK") -> OK | H14: =+AVERAGE(BA14:BA14) -> 0 | I14: ----- | J14: =+IFERROR(IF(GBBAA!J$37/GBBAA!I$37=1,"OK",IF(GBBAA!J$37=0,"NO OK","PARCIAL")),"NO OK") -> NO OK | L14: =+AVERAGE(BE14:BE14) -> 0 | M14: ----- | N14: =+IFERROR(IF(GBBAA!N$37/GBBAA!M$37=1,"OK",IF(GBBAA!N$37=0,"NO OK","PARCIAL")),"NO OK") -> NO OK | AA14: =+IFERROR(GBBAA!$F$37/GBBAA!$E$37,0) -> 1 | BA14: =+IFERROR(GBBAA!J$37/GBBAA!I$37,0) -> 0 | BE14: =+IFERROR(GBBAA!N$37/GBBAA!M$37,0) -> 0
A16: Indicadores institucionais da Universidade de Vigo
A18: =+GBBAA!A46 -> I20 | B18: =+GBBAA!B46 -> Índice das enquisas de satisfacción coas titulacións | C18: =+GBBAA!C46 -> MC-05 Medición satisfacción | D18: =+AVERAGE(AA18:AA18) -> 1 | E18: ----- | F18: =+IFERROR(IF(GBBAA!$F$46/GBBAA!$E$46=1,"OK",IF(GBBAA!$F$46=0,"NO OK","PARCIAL")),"NO OK") -> OK | H18: =+AVERAGE(BA18:BA18) -> 0 | I18: ----- | J18: =+IFERROR(IF(GBBAA!J$46/GBBAA!I$46=1,"OK",IF(GBBAA!J$46=0,"NO OK","PARCIAL")),"NO OK") -> NO OK | L18: =+AVERAGE(BE18:BE18) -> 0 | M18: ----- | N18: =+IFERROR(IF(GBBAA!N$46/GBBAA!M$46=1,"OK",IF(GBBAA!N$46=0,"NO OK","PARCIAL")),"NO OK") -> NO OK | AA18: =+IFERROR(GBBAA!$F$46/GBBAA!$E$46,0) -> 1 | BA18: =+IFERROR(GBBAA!J$46/GBBAA!I$46,0) -> 0 | BE18: =+IFERROR(GBBAA!N$46/GBBAA!M$46,0) -> 0
A19: =+GBBAA!A52 -> I21 | B19: =+GBBAA!B52 -> Taxa de abandono (Egreso) | C19: =+GBBAA!C52 -> DE-02 Seguimento e Medición; DE-03 Revisión do sistema pola dirección | D19: =+AVERAGE(AA19:AA19) -> 1 | E19: ----- | F19: =+IF(GBBAA!$G$52="Meta Conseguida","OK","NO OK") -> OK | H19: =+AVERAGE(BA19:BA19) -> 0 | I19: ----- | J19: =+IF(GBBAA!K$52="Meta Conseguida","OK","NO OK") -> NO OK | L19: =+AVERAGE(BE19:BE19) -> 0 | M19: ----- | N19: =+IF(GBBAA!O$52="Meta Conseguida","OK","NO OK") -> NO OK | AA19: =+IF($F$19="NO OK",0,1) -> 1 | BA19: =+IF(J19="NO OK",0,1) -> 0 | BE19: =+IF(N19="NO OK",0,1) -> 0
A20: =+GBBAA!A53 -> I22 | B20: =+GBBAA!B53 -> Taxa de cambio de estudo | C20: =+GBBAA!C53 -> DE-02 Seguimento e Medición; DE-03 Revisión do sistema pola dirección | D20: =+AVERAGE(AA20:AA20) -> 1 | E20: ----- | F20: =+IF(GBBAA!G53="Meta Conseguida","OK","NO OK") -> OK | H20: =+AVERAGE(BA20:BA20) -> 0 | I20: ----- | J20: =+IF(GBBAA!K$53="Meta Conseguida","OK","NO OK") -> NO OK | L20: =+AVERAGE(BE20:BE20) -> 0 | M20: ----- | N20: =+IF(GBBAA!O$53="Meta Conseguida","OK","NO OK") -> NO OK | AA20: =+IF($F$20="NO OK",0,1) -> 1 | BA20: =+IF(J20="NO OK",0,1) -> 0 | BE20: =+IF(N20="NO OK",0,1) -> 0
A21: =+GBBAA!A54 -> I23 | B21: =+GBBAA!B54 -> Índice de satisfacción cos recursos materiais e servizos | C21: =+GBBAA!C54 -> IA-01: Xestión dos recursos materiais e dos servizos | D21: =+AVERAGE(AA21:AA21) -> 1 | E21: ----- | F21: =+IFERROR(IF(GBBAA!$F$54/GBBAA!$E$54=1,"OK",IF(GBBAA!$F$54=0,"NO OK","PARCIAL")),"NO OK") -> OK | H21: =+AVERAGE(BA21:BA21) -> 0 | I21: ----- | J21: =+IFERROR(IF(GBBAA!J$54/GBBAA!I$54=1,"OK",IF(GBBAA!J$54=0,"NO OK","PARCIAL")),"NO OK") -> NO OK | L21: =+AVERAGE(BE21:BE21) -> 0 | M21: ----- | N21: =+IFERROR(IF(GBBAA!N$54/GBBAA!M$54=1,"OK",IF(GBBAA!N$54=0,"NO OK","PARCIAL")),"NO OK") -> NO OK | AA21: =+IFERROR(GBBAA!$F$54/GBBAA!$E$54,0) -> 1 | BA21: =+IFERROR(GBBAA!J$54/GBBAA!I$54,0) -> 0 | BE21: =+IFERROR(GBBAA!N$54/GBBAA!M$54,0) -> 0
A22: =+GBBAA!A59 -> I24 | B22: =+GBBAA!B59 -> Índice de satisfacción coa orientación recibida no centro | C22: =+GBBAA!C59 -> DO-0203: Orientación do estudantado e atención ás NEAE | D22: =+AVERAGE(AA22:AA22) -> 1 | E22: ----- | F22: =+IFERROR(IF(GBBAA!$F$59/GBBAA!$E$59=1,"OK",IF(GBBAA!$F$59=0,"NO OK","PARCIAL")),"NO OK") -> OK | H22: =+AVERAGE(BA22:BA22) -> 0 | I22: ----- | J22: =+IFERROR(IF(GBBAA!J$59/GBBAA!I$59=1,"OK",IF(GBBAA!J$59=0,"NO OK","PARCIAL")),"NO OK") -> NO OK | L22: =+AVERAGE(BE22:BE22) -> 0 | M22: ----- | N22: =+IFERROR(IF(GBBAA!N$59/GBBAA!M$59=1,"OK",IF(GBBAA!N$59=0,"NO OK","PARCIAL")),"NO OK") -> NO OK | AA22: =+IFERROR(GBBAA!$F$59/GBBAA!$E$59,0) -> 1 | BA22: =+IFERROR(GBBAA!J$59/GBBAA!I$59,0) -> 0 | BE22: =+IFERROR(GBBAA!N$59/GBBAA!M$59,0) -> 0
A23: =+GBBAA!A64 -> I25 | B23: =+GBBAA!B64 -> % Alumnado en prácticas académicas | C23: =+GBBAA!C64 -> DO-0204: Xestión das prácticas académicas | D23: =+AVERAGE(AA23:AA23) -> 1 | E23: ----- | F23: =+IF(GBBAA!$G$64="Meta Conseguida","OK","NO OK") -> OK | H23: =+AVERAGE(BA23:BA23) -> 0 | I23: ----- | J23: =+IF(GBBAA!K$64="Meta Conseguida","OK","NO OK") -> NO OK | L23: =+AVERAGE(BE23:BE23) -> 0 | M23: ----- | N23: =+IF(GBBAA!O$64="Meta Conseguida","OK","NO OK") -> NO OK | AA23: =+IF($F$23="NO OK",0,1) -> 1 | BA23: =+IF(J23="NO OK",0,1) -> 0 | BE23: =+IF(N23="NO OK",0,1) -> 0
A24: =+GBBAA!A65 -> I26 | B24: =+GBBAA!B65 -> Índice de satisfacción coa promoción da titulación e a información pública na web | C24: =+GBBAA!C65 -> DO-0301 Información Pública | D24: =+AVERAGE(AA24:AA24) -> 1 | E24: ----- | F24: =+IFERROR(IF(GBBAA!$F$65/GBBAA!$E$65=1,"OK",IF(GBBAA!$F$65=0,"NO OK","PARCIAL")),"NO OK") -> OK | H24: =+AVERAGE(BA24:BA24) -> 0 | I24: ----- | J24: =+IFERROR(IF(GBBAA!J$65/GBBAA!I$65=1,"OK",IF(GBBAA!J$65=0,"NO OK","PARCIAL")),"NO OK") -> NO OK | L24: =+AVERAGE(BE24:BE24) -> 0 | M24: ----- | N24: =+IFERROR(IF(GBBAA!N$65/GBBAA!M$65=1,"OK",IF(GBBAA!N$65=0,"NO OK","PARCIAL")),"NO OK") -> NO OK | AA24: =+IFERROR(GBBAA!$F$65/GBBAA!$E$65,0) -> 1 | BA24: =+IFERROR(GBBAA!J$65/GBBAA!I$65,0) -> 0 | BE24: =+IFERROR(GBBAA!N$65/GBBAA!M$65,0) -> 0
A25: =+Centro!A10 -> I27 | B25: =+Centro!B10 -> Nº Queixas recibidas | C25: =+Centro!C10 -> MC-02: Xestión das queixas, suxestións e parabéns | D25: =+AVERAGE(AA25:AA25) -> 1 | E25: =+IF(Centro!$G$10="Meta Conseguida","OK","NO OK") -> OK | F25: =+E25 -> OK | H25: =+AVERAGE(BA25:BA25) -> 0 | I25: =+IF(Centro!K$10="Meta Conseguida","OK","NO OK") -> NO OK | J25: =+I25 -> NO OK | L25: =+AVERAGE(BE25:BE25) -> 0 | M25: =+IF(Centro!O$10="Meta Conseguida","OK","NO OK") -> NO OK | N25: =+M25 -> NO OK | AA25: =+IF($F$25="NO OK",0,1) -> 1 | BA25: =+IF(J25="NO OK",0,1) -> 0 | BE25: =+IF(N25="NO OK",0,1) -> 0
A26: =+Centro!A11 -> I28 | B26: =+Centro!B11 -> % de Titulacións que renovaron a súa acreditación | C26: =+Centro!C11 -> DO-0101: Deseño, verificación, modificación e acreditación das titulacións oficiais | D26: =+AVERAGE(AA26:AA26) -> 1 | E26: =+IF(Centro!$G$11="Meta Conseguida","OK","NO OK") -> OK | F26: =+E26 -> OK | H26: =+AVERAGE(BA26:BA26) -> 0 | I26: =+IF(Centro!K$11="Meta Conseguida","OK","NO OK") -> NO OK | J26: =+I26 -> NO OK | L26: =+AVERAGE(BE26:BE26) -> 0 | M26: =+IF(Centro!O$10="Meta Conseguida","OK","NO OK") -> NO OK | N26: =+M26 -> NO OK | AA26: =+IF($F$26="NO OK",0,1) -> 1 | BA26: =+IF(J26="NO OK",0,1) -> 0 | BE26: =+IF(N26="NO OK",0,1) -> 0
A27: =+Centro!A15 -> I30 | B27: =+Centro!B15 -> % Titulacións con avaliación favorable en Seguimento | C27: =+Centro!C15 -> DO-0102: Seguimento e mellora das titulacións | D27: =+AVERAGE(AA27:AA27) -> 1 | E27: =+IF(Centro!$G$15="Meta Conseguida","OK","NO OK") -> OK | F27: =+E27 -> OK | H27: =+AVERAGE(BA27:BA27) -> 0 | I27: =+IF(Centro!K$15="Meta Conseguida","OK","NO OK") -> NO OK | J27: =+I27 -> NO OK | L27: =+AVERAGE(BE27:BE27) -> 0 | M27: =+IF(Centro!O$15="Meta Conseguida","OK","NO OK") -> NO OK | N27: =+M27 -> NO OK | AA27: =+IF($F$27="NO OK",0,1) -> 1 | BA27: =+IF(J27="NO OK",0,1) -> 0 | BE27: =+IF(N27="NO OK",0,1) -> 0
A28: =+GBBAA!A71 -> I35 | B28: =+GBBAA!B71 -> Nota media do acceso | C28: =+GBBAA!C71 -> DO-0202 Promoción das titulacións | D28: =+AVERAGE(AA28:AA28) -> 1 | E28: ----- | F28: =+IF(GBBAA!$G$71="Meta Conseguida","OK","NO OK") -> OK | H28: =+AVERAGE(BA28:BA28) -> 0 | I28: ----- | J28: =+IF(GBBAA!K$71="Meta Conseguida","OK","NO OK") -> NO OK | L28: =+AVERAGE(BE28:BE28) -> 0 | M28: ----- | N28: =+IF(GBBAA!O$71="Meta Conseguida","OK","NO OK") -> NO OK | AA28: =+IF($F$28="NO OK",0,1) -> 1 | BA28: =+IF(J28="NO OK",0,1) -> 0 | BE28: =+IF(N28="NO OK",0,1) -> 0
A29: =+Centro!A20 -> I37 | B29: =+Centro!B20 -> Grao de Satisfacción do estudantado co PAT | C29: =+Centro!C20 -> DO-0203: Orientación do estudantado e atención ás NEAE | D29: =+AVERAGE(AA29:AA29) -> 1 | E29: =+IF(Centro!$G$20="Meta Conseguida","OK","NO OK") -> OK | F29: =+IF(GBBAA!G$73="Meta Conseguida","OK","NO OK") -> OK | H29: =+AVERAGE(BA29:BA29) -> 0 | I29: =+IF(Centro!K$20="Meta Conseguida","OK","NO OK") -> NO OK | J29: =+IF(GBBAA!K$73="Meta Conseguida","OK","NO OK") -> NO OK | L29: =+AVERAGE(BE29:BE29) -> 0 | M29: =+IF(Centro!O$20="Meta Conseguida","OK","NO OK") -> NO OK | N29: =+IF(GBBAA!O$73="Meta Conseguida","OK","NO OK") -> NO OK | AA29: =+COUNTIF($E29:$F29,"OK")/+COUNTA($E29:$F29) -> 1 | BA29: =+COUNTIF(I29:J29,"OK")/+COUNTA(I29:J29) -> 0 | BE29: =+COUNTIF(M29:N29,"OK")/+COUNTA(M29:N29) -> 0
A30: =+GBBAA!A74 -> I38 | B30: =+GBBAA!B74 -> Grao de satisfacción das Persoas Tituladas coas Prácticas | C30: =+GBBAA!C74 -> DO-0204: Xestión das prácticas académicas | D30: =+AVERAGE(AA30:AA30) -> 1 | E30: ----- | F30: =+IF(GBBAA!$G$74="Meta Conseguida","OK","NO OK") -> OK | H30: =+AVERAGE(BA30:BA30) -> 0 | I30: ----- | J30: =+IF(GBBAA!K$74="Meta Conseguida","OK","NO OK") -> NO OK | L30: =+AVERAGE(BE30:BE30) -> 0 | M30: ----- | N30: =+IF(GBBAA!O$74="Meta Conseguida","OK","NO OK") -> NO OK | AA30: =+IF($F$30="NO OK",0,1) -> 1 | BA30: =+IF(J30="NO OK",0,1) -> 0 | BE30: =+IF(N30="NO OK",0,1) -> 0
A31: =+GBBAA!A75 -> I39 | B31: =+GBBAA!B75 -> Grao de satisfacción cos RRHH | C31: =+GBBAA!C75 -> PE-01 Xestión do PAS | D31: =+AVERAGE(AA31:AA31) -> 1 | E31: ----- | F31: =+IFERROR(IF(GBBAA!$F$75/GBBAA!$E$75=1,"OK",IF(GBBAA!$F$75=0,"NO OK","PARCIAL")),"NO OK") -> OK | H31: =+AVERAGE(BA31:BA31) -> 0 | I31: ----- | J31: =+IFERROR(IF(GBBAA!J$75/GBBAA!I$75=1,"OK",IF(GBBAA!J$75=0,"NO OK","PARCIAL")),"NO OK") -> NO OK | L31: =+AVERAGE(BE31:BE31) -> 0 | M31: ----- | N31: =+IFERROR(IF(GBBAA!N$75/GBBAA!M$75=1,"OK",IF(GBBAA!N$75=0,"NO OK","PARCIAL")),"NO OK") -> NO OK | AA31: =+IFERROR(GBBAA!$F$75/GBBAA!$E$75,0) -> 1 | BA31: =+IFERROR(GBBAA!J$75/GBBAA!I$75,0) -> 0 | BE31: =+IFERROR(GBBAA!N$75/GBBAA!M$75,0) -> 0
A32: =+Centro!A22 -> I41 | B32: =+Centro!B22 -> % Rexistros en estado completado na aplicación SGIC | C32: =+Centro!C22 -> XD-01: Control dos documentos e dos rexistros | D32: =+AVERAGE(AA32:AA32) -> 1 | E32: =+IF(Centro!$G$22="Meta Conseguida","OK","NO OK") -> OK | F32: =+E32 -> OK | H32: =+AVERAGE(BA32:BA32) -> 0 | I32: =+IF(Centro!K$22="Meta Conseguida","OK","NO OK") -> NO OK | J32: =+I$32 -> NO OK | L32: =+AVERAGE(BE32:BE32) -> 0 | M32: =+IF(Centro!O$22="Meta Conseguida","OK","NO OK") -> NO OK | N32: =+M$32 -> NO OK | AA32: =+IF(F32="NO OK",0,1) -> 1 | BA32: =+IF(J32="NO OK",0,1) -> 0 | BE32: =+IF(N32="NO OK",0,1) -> 0
A33: =+GBBAA!A80 -> I42 | B33: =+GBBAA!B80 -> % Accións de Mellora finalizadas en prazo | C33: =+GBBAA!C80 -> XD-01: Control dos documentos e dos rexistros | D33: =+AVERAGE(AA33:AA33) -> 1 | E33: ----- | F33: =+IF(GBBAA!$G$80="Meta Conseguida","OK","NO OK") -> OK | H33: =+AVERAGE(BA33:BA33) -> 0 | I33: ----- | J33: =+IF(GBBAA!K$80="Meta Conseguida","OK","NO OK") -> NO OK | L33: =+AVERAGE(BE33:BE33) -> 0 | M33: ----- | N33: =+IF(GBBAA!O$80="Meta Conseguida","OK","NO OK") -> NO OK | AA33: =+IF(F33="NO OK",0,1) -> 1 | BA33: =+IF(J33="NO OK",0,1) -> 0 | BE33: =+IF(N33="NO OK",0,1) -> 0
A34: =+GBBAA!A81 -> I43 | B34: =+GBBAA!B81 -> Resultados EAD | C34: =+GBBAA!C81 -> PE-02 Xestión de PDI | D34: =+AVERAGE(AA34:AA34) -> 1 | E34: ----- | F34: =+IF(GBBAA!$G$81="Meta Conseguida","OK","NO OK") -> OK | H34: =+AVERAGE(BA34:BA34) -> 0 | I34: ----- | J34: =+IF(GBBAA!K$81="Meta Conseguida","OK","NO OK") -> NO OK | L34: =+AVERAGE(BE34:BE34) -> 0 | M34: ----- | N34: =+IF(GBBAA!O$81="Meta Conseguida","OK","NO OK") -> NO OK | AA34: =+IF(F34="NO OK",0,1) -> 1 | BA34: =+IF(J34="NO OK",0,1) -> 0 | BE34: =+IF(N34="NO OK",0,1) -> 0
A35: =+GBBAA!A82 -> I44 | B35: =+GBBAA!B82 -> Índice de satisfacción coa organización e o desenvolvemento | C35: =+GBBAA!C82 -> DO-0201 Planificación e desenvolvemento da ensinanza | D35: =+AVERAGE(AA35:AA35) -> 1 | E35: ----- | F35: =+IFERROR(IF(GBBAA!$F$82/GBBAA!$E$82=1,"OK",IF(GBBAA!$F$82=0,"NO OK","PARCIAL")),"NO OK") -> OK | H35: =+AVERAGE(BA35:BA35) -> 0 | I35: ----- | J35: =+IFERROR(IF(GBBAA!J$82/GBBAA!I$82=1,"OK",IF(GBBAA!J$82=0,"NO OK","PARCIAL")),"NO OK") -> NO OK | L35: =+AVERAGE(BE35:BE35) -> 0 | M35: ----- | N35: =+IFERROR(IF(GBBAA!N$82/GBBAA!M$82=1,"OK",IF(GBBAA!N$82=0,"NO OK","PARCIAL")),"NO OK") -> NO OK | AA35: =+IFERROR(GBBAA!$F$82/GBBAA!$E$82,0) -> 1 | BA35: =+IFERROR(GBBAA!J$82/GBBAA!I$82,0) -> 0 | BE35: =+IFERROR(GBBAA!N$82/GBBAA!M$82,0) -> 0
A37: Indicadores do programa estratéxico de centro
A39: I50 | B39: Indicadores do programa estratexico do centro | C39: DE-01: Programación e desenvolvemento estratéxico | D39: =IFERROR(AA39,0) -> 1 | E39: =+IFERROR(IF(Centro!F$26/Centro!E$26=1,"OK",IF(Centro!F$26/Centro!E$26=0,"NO OK","PARCIAL")),"NO OK") -> OK | F39: =+IFERROR(IF(GBBAA!F92/GBBAA!E92=1,"OK",IF(GBBAA!F92=0,"NO OK","PARCIAL")),"NO OK") -> OK | H39: =IFERROR(BA39,0) -> 1 | I39: =+IFERROR(IF(Centro!J$26/Centro!I$26=1,"OK",IF(Centro!J$26/Centro!I$26=0,"NO OK","PARCIAL")),"NO OK") -> NO OK | J39: =+IFERROR(IF(GBBAA!J92/GBBAA!I92=1,"OK",IF(GBBAA!J92=0,"NO OK","PARCIAL")),"NO OK") -> NO OK | L39: =IFERROR(BE39,0) -> 1 | M39: =+IFERROR(IF(Centro!N$26/Centro!M$26=1,"OK",IF(Centro!N$26/Centro!M$26=0,"NO OK","PARCIAL")),"NO OK") -> NO OK | N39: =+IFERROR(IF(GBBAA!N92/GBBAA!M92=1,"OK",IF(GBBAA!N92=0,"NO OK","PARCIAL")),"NO OK") -> NO OK | AA39: =+(Centro!$F$26/Centro!$E$26+GBBAA!$F$92/GBBAA!$E$92)/COUNTA(E$39:F$39) -> 1 | BA39: =+(Centro!$F$26/Centro!$E$26+GBBAA!$F$92/GBBAA!$E$92)/COUNTA(I$39:J$39) -> 1 | BE39: =+(Centro!$F$26/Centro!$E$26+GBBAA!$F$92/GBBAA!$E$92)/COUNTA(M$39:N$39) -> 1

Sheet Procedementos
A2: Panel de indicadores- Cadro de mando dos Procedementos de Calidade
H4: Resultados
E5: Cod | F5: Denominación Indicador | G5: Denominación | H5: =+Centro!E4 -> Curso 23-24 | J5: =+Centro!I4 -> Curso X+1 | L5: =+Centro!M4 -> Curso X+2
A6: Procesos | H6: =+AVERAGE(H7,H21,H49) -> 1 | J6: =+AVERAGE(J7,J21,J49) -> 0.083333333 | L6: =+AVERAGE(L7,L21,L49) -> 0.083333333
B7: Procesos Estratéxicos | H7: =+AVERAGE(H8,H16) -> 1 | J7: =+AVERAGE(J8,J16) -> 0.25 | L7: =+AVERAGE(L8,L16) -> 0.25
C8: Dirección Estratéxica (DE) | H8: =+AVERAGE(H9,H11) -> 1 | J8: =+AVERAGE(J9,J11) -> 0.5 | L8: =+AVERAGE(L9,L11) -> 0.5
D9: DE-01: Programación estratéxica | H9: =+H10 -> 1 | J9: =+J10 -> 1 | L9: =+L10 -> 1
E10: =+Resumo!A39 -> I50 | F10: =+Resumo!B39 -> Indicadores do programa estratexico do centro | G10: =+Resumo!C39 -> DE-01: Programación e desenvolvemento estratéxico | H10: =+Resumo!D39 -> 1 | J10: =+Resumo!H39 -> 1 | L10: =+Resumo!L39 -> 1
D11: DE-02: Seguimento e medición e DE-03: Revisión do sistema (IRD) | H11: =+AVERAGE(H12:H15) -> 1 | J11: =+AVERAGE(J12:J15) -> 0 | L11: =+AVERAGE(L12:L15) -> 0
E12: =+Resumo!A9 -> I4 | F12: =+Resumo!B9 -> Resultados dos indicadores do SGC | G12: =+Resumo!C9 -> DE-02 Seguimento e Medición; Este indicador mostra os resultados do conxunto dos indicadores do cadro de mando | H12: =+Resumo!D9 -> 1 | J12: =+Resumo!H9 -> 0 | L12: =+Resumo!L9 -> 0
E13: =+Resumo!A13 -> I10 | F13: =+Resumo!B13 -> Indicadores de resultados | G13: =+Resumo!C13 -> DE-02 Seguimento e Medición; DE-03 Revisión do sistema pola dirección | H13: =+Resumo!D13 -> 1 | J13: =+Resumo!H13 -> 0 | L13: =+Resumo!L13 -> 0
E14: =+Resumo!A19 -> I21 | F14: =+Resumo!B19 -> Taxa de abandono (Egreso) | G14: =+Resumo!C19 -> DE-02 Seguimento e Medición; DE-03 Revisión do sistema pola dirección | H14: =+Resumo!D19 -> 1 | J14: =+Resumo!H19 -> 0 | L14: =+Resumo!L19 -> 0
E15: =+Resumo!A20 -> I22 | F15: =+Resumo!B20 -> Taxa de cambio de estudo | G15: =+Resumo!C20 -> DE-02 Seguimento e Medición; DE-03 Revisión do sistema pola dirección | H15: =+Resumo!D20 -> 1 | J15: =+Resumo!H20 -> 0 | L15: =+Resumo!L20 -> 0
C16: Xestión da Calidade e mellora continua (MC) | H16: =+AVERAGE(H17,H19) -> 1 | J16: =+AVERAGE(J17,J19) -> 0 | L16: =+AVERAGE(L17,L19) -> 0
D17: MC-02 Xestión QSPs | H17: =+H18 -> 1 | J17: =+J18 -> 0 | L17: =+L18 -> 0
E18: =+Resumo!A25 -> I27 | F18: =+Resumo!B25 -> Nº Queixas recibidas | G18: =+Resumo!C25 -> MC-02: Xestión das queixas, suxestións e parabéns | H18: =+Resumo!D25 -> 1 | J18: =+Resumo!H25 -> 0 | L18: =+Resumo!L25 -> 0
D19: MC-05 Medición satisfacción | H19: =+H20 -> 1 | J19: =+J20 -> 0 | L19: =+L20 -> 0
E20: =+Resumo!A18 -> I20 | F20: =+Resumo!B18 -> Índice das enquisas de satisfacción coas titulacións | G20: =+Resumo!C18 -> MC-05 Medición satisfacción | H20: =+Resumo!D18 -> 1 | J20: =+Resumo!H18 -> 0 | L20: =+Resumo!L18 -> 0
B21: Procesos Chave | H21: =+AVERAGE(H29,H22,H42,H45) -> 1 | J21: =+AVERAGE(J29,J22,J42,J45) -> 0 | L21: =+AVERAGE(L29,L22,L42,L45) -> 0
C22: DO-01: Xestión dos programas formativos | H22: =+AVERAGE(H23,H25) -> 1 | J22: =+AVERAGE(J23,J25) -> 0 | L22: =+AVERAGE(L23,L25) -> 0
D23: DO-0101 Titulacións | H23: =+H24 -> 1 | J23: =+J24 -> 0 | L23: =+L24 -> 0
E24: =+Resumo!A26 -> I28 | F24: =+Resumo!B26 -> % de Titulacións que renovaron a súa acreditación | G24: =+Resumo!C26 -> DO-0101: Deseño, verificación, modificación e acreditación das titulacións oficiais | H24: =+Resumo!D26 -> 1 | J24: =+Resumo!H26 -> 0 | L24: =+Resumo!L26 -> 0
D25: DO-0102 Seguimento | H25: =+H26 -> 1 | J25: =+J26 -> 0 | L25: =+L26 -> 0
E26: =+Resumo!A27 -> I30 | F26: =+Resumo!B27 -> % Titulacións con avaliación favorable en Seguimento | G26: =+Resumo!C27 -> DO-0102: Seguimento e mellora das titulacións | H26: =+Resumo!D27 -> 1 | J26: =+Resumo!H27 -> 0 | L26: =+Resumo!L27 -> 0
D27: DO-0103 Extinción | H27: ----- | J27: ----- | L27: -----
E28: =+Centro!A17 -> I32 | F28: =+Centro!B17 -> Nº Titulacións en proceso de extinción ou suspensión | G28: =+Centro!C17 -> DO-0103: Suspensión e extinción dunha titulación | H28: ----- | J28: ----- | L28: -----
C29: DO-02:Planificación e desenvolvemento do ensino | H29: =+AVERAGE(H30,H32,H34,H37,H40) -> 1 | J29: =+AVERAGE(J30,J32,J34,J37,J40) -> 0 | L29: =+AVERAGE(L30,L32,L34,L37,L40) -> 0
D30: DO-0201 Planificación | H30: =+H31 -> 1 | J30: =+J31 -> 0 | L30: =+L31 -> 0
E31: =+Resumo!A35 -> I44 | F31: =+Resumo!B35 -> Índice de satisfacción coa organización e o desenvolvemento | G31: =+Resumo!C35 -> DO-0201 Planificación e desenvolvemento da ensinanza | H31: =+Resumo!D35 -> 1 | J31: =+Resumo!H35 -> 0 | L31: =+Resumo!L35 -> 0
D32: DO-0202 Promoción | H32: =+H33 -> 1 | J32: =+J33 -> 0 | L32: =+L33 -> 0
E33: =+Resumo!A28 -> I35 | F33: =+Resumo!B28 -> Nota media do acceso | G33: =+Resumo!C28 -> DO-0202 Promoción das titulacións | H33: =+Resumo!D28 -> 1 | J33: =+Resumo!H28 -> 0 | L33: =+Resumo!L28 -> 0
D34: DO-0203 Orientación | H34: =+AVERAGE(H35:H36) -> 1 | J34: =+AVERAGE(J35:J36) -> 0 | L34: =+AVERAGE(L35:L36) -> 0
E35: =+Resumo!A22 -> I24 | F35: =+Resumo!B22 -> Índice de satisfacción coa orientación recibida no centro | G35: =+Resumo!C22 -> DO-0203: Orientación do estudantado e atención ás NEAE | H35: =+Resumo!D22 -> 1 | J35: =+Resumo!H22 -> 0 | L35: =+Resumo!L22 -> 0
E36: =+Resumo!A29 -> I37 | F36: =+Resumo!B29 -> Grao de Satisfacción do estudantado co PAT | G36: =+Resumo!C29 -> DO-0203: Orientación do estudantado e atención ás NEAE | H36: =+Resumo!D29 -> 1 | J36: =+Resumo!H29 -> 0 | L36: =+Resumo!L29 -> 0
D37: DO-0204 Prácticas | H37: =+AVERAGE(H38:H39) -> 1 | J37: =+AVERAGE(J38:J39) -> 0 | L37: =+AVERAGE(L38:L39) -> 0
E38: =+Resumo!A23 -> I25 | F38: =+Resumo!B23 -> % Alumnado en prácticas académicas | G38: =+Resumo!C23 -> DO-0204: Xestión das prácticas académicas | H38: =+Resumo!D23 -> 1 | J38: =+Resumo!H23 -> 0 | L38: =+Resumo!L23 -> 0
E39: =+Resumo!A30 -> I38 | F39: =+Resumo!B30 -> Grao de satisfacción das Persoas Tituladas coas Prácticas | G39: =+Resumo!C30 -> DO-0204: Xestión das prácticas académicas | H39: =+Resumo!D30 -> 1 | J39: =+Resumo!H30 -> 0 | L39: =+Resumo!L30 -> 0
D40: DO-0205 Mobilidade | H40: =+H41 -> 1 | J40: =+J41 -> 0 | L40: =+L41 -> 0
E41: =+Resumo!A8 -> I3 | F41: =+Resumo!B8 -> Indicadores de mobilidade do estudantado | G41: =+Resumo!C8 -> DO-0205: Xestión da mobilidade | H41: =+Resumo!D8 -> 1 | J41: =+Resumo!H8 -> 0 | L41: =+Resumo!L8 -> 0
C42: DO-03: Información pública e rendemento de contas | H42: =+H43 -> 1 | J42: =+J43 -> 0 | L42: =+L43 -> 0
D43: DO-0301: Información pública e rendemento de contas | H43: =+H44 -> 1 | J43: =+J44 -> 0 | L43: =+L44 -> 0
E44: =+Resumo!A24 -> I26 | F44: =+Resumo!B24 -> Índice de satisfacción coa promoción da titulación e a información pública na web | G44: =+Resumo!C24 -> DO-0301 Información Pública | H44: =+Resumo!D24 -> 1 | J44: =+Resumo!H24 -> 0 | L44: =+Resumo!L24 -> 0
C45: Xestión Académica (AC) | H45: =+H46 -> 1 | J45: =+J46 -> 0 | L45: =+L46 -> 0
D46: AC-01: Acceso, Evolución e Expedición de Titulos Oficiais | H46: =+AVERAGE(H47:H48) -> 1 | J46: =+AVERAGE(J47:J48) -> 0 | L46: =+AVERAGE(L47:L48) -> 0
E47: =+Resumo!A7 -> I1-I2 | F47: =+Resumo!B7 -> Nº Estudantes de novo ingreso (Grao e Máster) | G47: =+Resumo!C7 -> AC-01: Acceso, evolución e Expedición de Titulos Oficiais | H47: =+Resumo!D7 -> 1 | J47: =+Resumo!H7 -> 0 | L47: =+Resumo!L7 -> 0
E48: =+Resumo!A14 -> I11 | F48: =+Resumo!B14 -> Relación de Oferta / Demanda de prazas | G48: =+Resumo!C14 -> AC-01: Acceso, evolución e Expedición de Titulos Oficiais | H48: =+Resumo!D14 -> 1 | J48: =+Resumo!H14 -> 0 | L48: =+Resumo!L14 -> 0
B49: Procesos Soporte | H49: =+AVERAGE(H50,H58,H62) -> 1 | J49: =+AVERAGE(J50,J58,J62) -> 0 | L49: =+AVERAGE(L50,L58,L62) -> 0
C50: Xestión do persoal (PE) | H50: =+AVERAGE(H51,H53) -> 1 | J50: =+AVERAGE(J51,J53) -> 0 | L50: =+AVERAGE(L51,L53) -> 0
D51: PE-01 PAS | H51: =+AVERAGE(H52:H52) -> 1 | J51: =+AVERAGE(J52:J52) -> 0 | L51: =+AVERAGE(L52:L52) -> 0
E52: =+Resumo!A31 -> I39 | F52: =+Resumo!B31 -> Grao de satisfacción cos RRHH | G52: =+Resumo!C31 -> PE-01 Xestión do PAS | H52: =+Resumo!D31 -> 1 | J52: =+Resumo!H31 -> 0 | L52: =+Resumo!L31 -> 0
D53: PE-02 PDI | H53: =+AVERAGE(H54:H57) -> 1 | J53: =+AVERAGE(J54:J57) -> 0 | L53: =+AVERAGE(L54:L57) -> 0
E54: =+Resumo!A10 -> I5 | F54: =+Resumo!B10 -> Indicadores de formación do PDI | G54: =+Resumo!C10 -> PE-02 Xestión de PDI | H54: =+Resumo!D10 -> 1 | J54: =+Resumo!H10 -> 0 | L54: =+Resumo!L10 -> 0
E55: =+Resumo!A11 -> I7 | F55: =+Resumo!B11 -> % PDI do título avaliado polo programa DOCENTIA e resultados obtidos | G55: =+Resumo!C11 -> PE-02 Xestión de PDI | H55: =+Resumo!D11 -> 1 | J55: =+Resumo!H11 -> 0 | L55: =+Resumo!L11 -> 0
E56: =+Resumo!A12 -> I8 | F56: =+Resumo!B12 -> Indicadores de mobilidade do PDI | G56: =+Resumo!C12 -> PE-02 Xestión de PDI | H56: =+Resumo!D12 -> 1 | J56: =+Resumo!H12 -> 0 | L56: =+Resumo!L12 -> 0
E57: =+Resumo!A34 -> I43 | F57: =+Resumo!B34 -> Resultados EAD | G57: =+Resumo!C34 -> PE-02 Xestión de PDI | H57: =+Resumo!D34 -> 1 | J57: =+Resumo!H34 -> 0 | L57: =+Resumo!L34 -> 0
C58: Xestión Documental (XD) | H58: =+H59 -> 1 | J58: =+J59 -> 0 | L58: =+L59 -> 0
D59: XD-01 Documentos e Rexistros | H59: =+AVERAGE(H60:H61) -> 1 | J59: =+AVERAGE(J60:J61) -> 0 | L59: =+AVERAGE(L60:L61) -> 0
E60: =+Resumo!A32 -> I41 | F60: =+Resumo!B32 -> % Rexistros en estado completado na aplicación SGIC | G60: =+Resumo!C32 -> XD-01: Control dos documentos e dos rexistros | H60: =+Resumo!D32 -> 1 | J60: =+Resumo!H32 -> 0 | L60: =+Resumo!L32 -> 0
E61: =+Resumo!A33 -> I42 | F61: =+Resumo!B33 -> % Accións de Mellora finalizadas en prazo | G61: =+Resumo!C33 -> XD-01: Control dos documentos e dos rexistros | H61: =+Resumo!D33 -> 1 | J61: =+Resumo!H33 -> 0 | L61: =+Resumo!L33 -> 0
C62: Xestión da infraestrutura (IA) | H62: =+H63 -> 1 | J62: =+J63 -> 0 | L62: =+L63 -> 0
D63: IA-01 Recursos e servizos | H63: =+H64 -> 1 | J63: =+J64 -> 0 | L63: =+L64 -> 0
E64: =+Resumo!A21 -> I23 | F64: =+Resumo!B21 -> Índice de satisfacción cos recursos materiais e servizos | G64: =+Resumo!C21 -> IA-01: Xestión dos recursos materiais e dos servizos | H64: =+Resumo!D21 -> 1 | J64: =+Resumo!H21 -> 0 | L64: =+Resumo!L21 -> 0

Sheet Anexos
B2: I7-3 | C2: Resultados do PDI avaliado | D2: PE-02 Xestión de PDI | M2: I10-7 I10-10 | O2: Taxa de Rendemento por materia Taxa de éxito por materia | P2: DE-02 Seguimento e Medición; DE-03 Revisión do sistema pola dirección | S2: https://secretaria.uvigo.gal/uv/web/transparencia/informe/show/5/51/64 | AB2: I7-3 | AC2: Resultados do PDI avaliado | AD2: PE-02 Xestión de PDI | AM2: I10-7 I10-10 | AO2: Taxa de Rendemento por materia Taxa de éxito por materia | AP2: DE-02 Seguimento e Medición; DE-03 Revisión do sistema pola dirección | AS2: https://secretaria.uvigo.gal/uv/web/transparencia/informe/show/5/51/64 | BB2: I7-3 | BC2: Resultados do PDI avaliado | BD2: PE-02 Xestión de PDI | BM2: I10-7 I10-10 | BO2: Taxa de Rendemento por materia Taxa de éxito por materia | BP2: DE-02 Seguimento e Medición; DE-03 Revisión do sistema pola dirección | BS2: https://secretaria.uvigo.gal/uv/web/transparencia/informe/show/5/51/64
U3: =IFERROR(+COUNTIF(U6:U50,"SI")/(COUNTIF(U6:U50,"SI")+COUNTIF(U6:U50,"Non")),0) -> 1 | V3: =IFERROR(+COUNTIF(V6:V50,"SI")/(COUNTIF(V6:V50,"SI")+COUNTIF(V6:V50,"Non")),0) -> 0.078947368 | AU3: =IFERROR(+COUNTIF(AU6:AU50,"SI")/(COUNTIF(AU6:AU50,"SI")+COUNTIF(AU6:AU50,"Non")),0) -> 1 | AV3: =IFERROR(+COUNTIF(AV6:AV50,"SI")/(COUNTIF(AV6:AV50,"SI")+COUNTIF(AV6:AV50,"Non")),0) -> 1 | BU3: =IFERROR(+COUNTIF(BU6:BU50,"SI")/(COUNTIF(BU6:BU50,"SI")+COUNTIF(BU6:BU50,"Non")),0) -> 0 | BV3: =IFERROR(+COUNTIF(BV6:BV50,"SI")/(COUNTIF(BV6:BV50,"SI")+COUNTIF(BV6:BV50,"Non")),0) -> 0
B4: Titulación | D4: Excelente | F4: Notable | H4: Favorable | J4: Desfavorable | M4: Titulación | P4: Curso | Q4: Taxa de éxito | R4: Taxa de Rendemento | S4: Meta Taxa de éxito | T4: Meta Taxa de Rendemento | U4: Acada a meta de éxito | V4: Acada a meta de Rto. | AB4: Titulación | AD4: Excelente | AF4: Notable | AH4: Favorable | AJ4: Desfavorable | AM4: Titulación | AP4: Curso | AQ4: Taxa de éxito | AR4: Taxa de Rendemento | AS4: Meta Taxa de éxito | AT4: Meta Taxa de Rendemento | AU4: Acada a meta de éxito | AV4: Acada a meta de Rto. | BB4: Titulación | BD4: Excelente | BF4: Notable | BH4: Favorable | BJ4: Desfavorable | BM4: Titulación | BP4: Curso | BQ4: Taxa de éxito | BR4: Taxa de Rendemento | BS4: Meta Taxa de éxito | BT4: Meta Taxa de Rendemento | BU4: Acada a meta de éxito | BV4: Acada a meta de Rto.
D5: Nº | E5: % | F5: Nº | G5: % | H5: Nº | I5: % | J5: Nº | K5: % | AD5: Nº | AE5: % | AF5: Nº | AG5: % | AH5: Nº | AI5: % | AJ5: Nº | AK5: % | BD5: Nº | BE5: % | BF5: Nº | BG5: % | BH5: Nº | BI5: % | BJ5: Nº | BK5: %
B6: P01G010V01 | C6: Grao en Belas Artes | D6: 1 | E6: 0.015151515 | F6: 0 | G6: 0 | H6: 0 | I6: 0 | J6: 0 | K6: 0 | M6: Grado en Bellas Artes | N6: 19247 | O6: Antropología: Antropología del arte | P6: 2023/24 | Q6: 0.80620155 | R6: 0.64596273 | S6: 0.80620155 | T6: 0.73758865 | U6: =+IF(Q6=0,"----",IF(Q6>=S6,"SI","NON")) -> SI | V6: =+IF(R6=0,"----",IF(R6>=T6,"SI","NON")) -> NON | AB6: P01G010V01 | AC6: Grao en Belas Artes | AM6: Grado en Bellas Artes | AN6: 19247 | AO6: Antropología: Antropología del arte | AP6: 2022/2023 | AQ6: 0.85950413 | AR6: 0.83870968 | AU6: =+IF(AQ6=0,"----",IF(AQ6>=AS6,"SI","NON")) -> SI | AV6: =+IF(AR6=0,"----",IF(AR6>=AT6,"SI","NON")) -> SI | BB6: P01G010V01 | BC6: Grao en Belas Artes | BM6: Grado en Bellas Artes | BN6: 19247 | BO6: Antropología: Antropología del arte | BU6: =+IF(BQ6=0,"----",IF(BQ6>=BS6,"SI","NON")) -> ---- | BV6: =+IF(BR6=0,"----",IF(BR6>=BT6,"SI","NON")) -> ----
N7: 19248 | O7: Expresión artística: Dibujo-Forma | P7: 2023/24 | Q7: 1 | R7: 0.78289474 | S7: 1 | T7: 0.89473684 | U7: =+IF(Q7=0,"----",IF(Q7>=S7,"SI","NON")) -> SI | V7: =+IF(R7=0,"----",IF(R7>=T7,"SI","NON")) -> NON | AN7: 19248 | AO7: Expresión artística: Dibujo-Forma | AP7: 2022/2023 | AQ7: 1 | AR7: 0.95081967 | AU7: =+IF(AQ7=0,"----",IF(AQ7>=AS7,"SI","NON")) -> SI | AV7: =+IF(AR7=0,"----",IF(AR7>=AT7,"SI","NON")) -> SI | BN7: 19248 | BO7: Expresión artística: Dibujo-Forma | BU7: =+IF(BQ7=0,"----",IF(BQ7>=BS7,"SI","NON")) -> ---- | BV7: =+IF(BR7=0,"----",IF(BR7>=BT7,"SI","NON")) -> ----
N8: 19249 | O8: Informática: Técnicas informáticas | P8: 2023/24 | Q8: 1 | R8: 0.71518987 | S8: 1 | T8: 0.81884058 | U8: =+IF(Q8=0,"----",IF(Q8>=S8,"SI","NON")) -> SI | V8: =+IF(R8=0,"----",IF(R8>=T8,"SI","NON")) -> NON | AN8: 19249 | AO8: Informática: Técnicas informáticas | AP8: 2022/2023 | AQ8: 0.95798319 | AR8: 0.93442623 | AU8: =+IF(AQ8=0,"----",IF(AQ8>=AS8,"SI","NON")) -> SI | AV8: =+IF(AR8=0,"----",IF(AR8>=AT8,"SI","NON")) -> SI | BN8: 19249 | BO8: Informática: Técnicas informáticas | BU8: =+IF(BQ8=0,"----",IF(BQ8>=BS8,"SI","NON")) -> ---- | BV8: =+IF(BR8=0,"----",IF(BR8>=BT8,"SI","NON")) -> ----
N9: 19250 | O9: Técnicas pictóricas | P9: 2023/24 | Q9: 1 | R9: 0.79084967 | S9: 1 | T9: 0.90298507 | U9: =+IF(Q9=0,"----",IF(Q9>=S9,"SI","NON")) -> SI | V9: =+IF(R9=0,"----",IF(R9>=T9,"SI","NON")) -> NON | AN9: 19250 | AO9: Técnicas pictóricas | AP9: 2022/2023 | AQ9: 1 | AR9: 0.952 | AU9: =+IF(AQ9=0,"----",IF(AQ9>=AS9,"SI","NON")) -> SI | AV9: =+IF(AR9=0,"----",IF(AR9>=AT9,"SI","NON")) -> SI | BN9: 19250 | BO9: Técnicas pictóricas | BU9: =+IF(BQ9=0,"----",IF(BQ9>=BS9,"SI","NON")) -> ---- | BV9: =+IF(BR9=0,"----",IF(BR9>=BT9,"SI","NON")) -> ----
N10: 19251 | O10: Expresión artística: Materia-Color | P10: 2023/24 | Q10: 0.95762712 | R10: 0.72435897 | S10: 0.95762712 | T10: 0.81884058 | U10: =+IF(Q10=0,"----",IF(Q10>=S10,"SI","NON")) -> SI | V10: =+IF(R10=0,"----",IF(R10>=T10,"SI","NON")) -> NON | AN10: 19251 | AO10: Expresión artística: Materia-Color | AP10: 2022/2023 | AQ10: 0.96551724 | AR10: 0.86153846 | AU10: =+IF(AQ10=0,"----",IF(AQ10>=AS10,"SI","NON")) -> SI | AV10: =+IF(AR10=0,"----",IF(AR10>=AT10,"SI","NON")) -> SI | BN10: 19251 | BO10: Expresión artística: Materia-Color | BU10: =+IF(BQ10=0,"----",IF(BQ10>=BS10,"SI","NON")) -> ---- | BV10: =+IF(BR10=0,"----",IF(BR10>=BT10,"SI","NON")) -> ----
N11: 19252 | O11: Historia: Historia del arte | P11: 2023/24 | Q11: 0.88721805 | R11: 0.70658683 | S11: 0.88721805 | T11: 0.7972973 | U11: =+IF(Q11=0,"----",IF(Q11>=S11,"SI","NON")) -> SI | V11: =+IF(R11=0,"----",IF(R11>=T11,"SI","NON")) -> NON | AN11: 19252 | AO11: Historia: Historia del arte | AP11: 2022/2023 | AQ11: 0.88596491 | AR11: 0.78294574 | AU11: =+IF(AQ11=0,"----",IF(AQ11>=AS11,"SI","NON")) -> SI | AV11: =+IF(AR11=0,"----",IF(AR11>=AT11,"SI","NON")) -> SI | BN11: 19252 | BO11: Historia: Historia del arte | BU11: =+IF(BQ11=0,"----",IF(BQ11>=BS11,"SI","NON")) -> ---- | BV11: =+IF(BR11=0,"----",IF(BR11>=BT11,"SI","NON")) -> ----
N12: 19253 | O12: Técnicas escultóricas | P12: 2023/24 | Q12: 1 | R12: 0.70807453 | S12: 1 | T12: 0.8028169 | U12: =+IF(Q12=0,"----",IF(Q12>=S12,"SI","NON")) -> SI | V12: =+IF(R12=0,"----",IF(R12>=T12,"SI","NON")) -> NON | AN12: 19253 | AO12: Técnicas escultóricas | AP12: 2022/2023 | AQ12: 1 | AR12: 0.87301587 | AU12: =+IF(AQ12=0,"----",IF(AQ12>=AS12,"SI","NON")) -> SI | AV12: =+IF(AR12=0,"----",IF(AR12>=AT12,"SI","NON")) -> SI | BN12: 19253 | BO12: Técnicas escultóricas | BU12: =+IF(BQ12=0,"----",IF(BQ12>=BS12,"SI","NON")) -> ---- | BV12: =+IF(BR12=0,"----",IF(BR12>=BT12,"SI","NON")) -> ----
N13: 19254 | O13: Técnicas fotográficas | P13: 2023/24 | Q13: 0.9 | R13: 0.675 | S13: 0.9 | T13: 0.76595745 | U13: =+IF(Q13=0,"----",IF(Q13>=S13,"SI","NON")) -> SI | V13: =+IF(R13=0,"----",IF(R13>=T13,"SI","NON")) -> NON | AN13: 19254 | AO13: Técnicas fotográficas | AP13: 2022/2023 | AQ13: 0.89655172 | AR13: 0.7761194 | AU13: =+IF(AQ13=0,"----",IF(AQ13>=AS13,"SI","NON")) -> SI | AV13: =+IF(AR13=0,"----",IF(AR13>=AT13,"SI","NON")) -> SI | BN13: 19254 | BO13: Técnicas fotográficas | BU13: =+IF(BQ13=0,"----",IF(BQ13>=BS13,"SI","NON")) -> ---- | BV13: =+IF(BR13=0,"----",IF(BR13>=BT13,"SI","NON")) -> ----
N14: 19255 | O14: Expresión gráfica: Sistemas de representación | P14: 2023/24 | Q14: 0.96078431 | R14: 0.86725664 | S14: 0.96078431 | T14: 0.86725664 | U14: =+IF(Q14=0,"----",IF(Q14>=S14,"SI","NON")) -> SI | V14: =+IF(R14=0,"----",IF(R14>=T14,"SI","NON")) -> SI | AN14: 19255 | AO14: Expresión gráfica: Sistemas de representación | AP14: 2022/2023 | AQ14: 0.76767677 | AR14: 0.69724771 | AU14: =+IF(AQ14=0,"----",IF(AQ14>=AS14,"SI","NON")) -> SI | AV14: =+IF(AR14=0,"----",IF(AR14>=AT14,"SI","NON")) -> SI | BN14: 19255 | BO14: Expresión gráfica: Sistemas de representación | BU14: =+IF(BQ14=0,"----",IF(BQ14>=BS14,"SI","NON")) -> ---- | BV14: =+IF(BR14=0,"----",IF(BR14>=BT14,"SI","NON")) -> ----
N15: 19256 | O15: Psicología: Psicología del arte | P15: 2023/24 | Q15: 0.96907216 | R15: 0.88679245 | S15: 0.96907216 | T15: 0.90384615 | U15: =+IF(Q15=0,"----",IF(Q15>=S15,"SI","NON")) -> SI | V15: =+IF(R15=0,"----",IF(R15>=T15,"SI","NON")) -> NON | AN15: 19256 | AO15: Psicología: Psicología del arte | AP15: 2022/2023 | AQ15: 0.98979592 | AR15: 0.85087719 | AU15: =+IF(AQ15=0,"----",IF(AQ15>=AS15,"SI","NON")) -> SI | AV15: =+IF(AR15=0,"----",IF(AR15>=AT15,"SI","NON")) -> SI | BN15: 19256 | BO15: Psicología: Psicología del arte | BU15: =+IF(BQ15=0,"----",IF(BQ15>=BS15,"SI","NON")) -> ---- | BV15: =+IF(BR15=0,"----",IF(BR15>=BT15,"SI","NON")) -> ----
N16: 19257 | O16: Arte, lenguaje y representación | P16: 2023/24 | Q16: 0.98969072 | R16: 0.86486486 | S16: 0.98969072 | T16: 0.86486486 | U16: =+IF(Q16=0,"----",IF(Q16>=S16,"SI","NON")) -> SI | V16: =+IF(R16=0,"----",IF(R16>=T16,"SI","NON")) -> SI | AN16: 19257 | AO16: Arte, lenguaje y representación | AP16: 2022/2023 | AQ16: 0.96116505 | AR16: 0.80487805 | AU16: =+IF(AQ16=0,"----",IF(AQ16>=AS16,"SI","NON")) -> SI | AV16: =+IF(AR16=0,"----",IF(AR16>=AT16,"SI","NON")) -> SI | BN16: 19257 | BO16: Arte, lenguaje y representación | BU16: =+IF(BQ16=0,"----",IF(BQ16>=BS16,"SI","NON")) -> ---- | BV16: =+IF(BR16=0,"----",IF(BR16>=BT16,"SI","NON")) -> ----
N17: 19258 | O17: Escultura | P17: 2023/24 | Q17: 0.97826087 | R17: 0.81081081 | S17: 0.97826087 | T17: 0.83333333 | U17: =+IF(Q17=0,"----",IF(Q17>=S17,"SI","NON")) -> SI | V17: =+IF(R17=0,"----",IF(R17>=T17,"SI","NON")) -> NON | AN17: 19258 | AO17: Escultura | AP17: 2022/2023 | AQ17: 1 | AR17: 0.87068966 | AU17: =+IF(AQ17=0,"----",IF(AQ17>=AS17,"SI","NON")) -> SI | AV17: =+IF(AR17=0,"----",IF(AR17>=AT17,"SI","NON")) -> SI | BN17: 19258 | BO17: Escultura | BU17: =+IF(BQ17=0,"----",IF(BQ17>=BS17,"SI","NON")) -> ---- | BV17: =+IF(BR17=0,"----",IF(BR17>=BT17,"SI","NON")) -> ----
N18: 19259 | O18: Técnicas gráficas | P18: 2023/24 | Q18: 0.96808511 | R18: 0.85849057 | S18: 0.96808511 | T18: 0.875 | U18: =+IF(Q18=0,"----",IF(Q18>=S18,"SI","NON")) -> SI | V18: =+IF(R18=0,"----",IF(R18>=T18,"SI","NON")) -> NON | AN18: 19259 | AO18: Técnicas gráficas | AP18: 2022/2023 | AQ18: 0.91509434 | AR18: 0.8362069 | AU18: =+IF(AQ18=0,"----",IF(AQ18>=AS18,"SI","NON")) -> SI | AV18: =+IF(AR18=0,"----",IF(AR18>=AT18,"SI","NON")) -> SI | BN18: 19259 | BO18: Técnicas gráficas | BU18: =+IF(BQ18=0,"----",IF(BQ18>=BS18,"SI","NON")) -> ---- | BV18: =+IF(BR18=0,"----",IF(BR18>=BT18,"SI","NON")) -> ----
... N43: 19284 | O43: Trabajo de Fin de Grado | P43: 2023/24 | Q43: 0.99019608 | R43: 0.72661871 | S43: 0.99019608 | T43: 0.74264706 | U43: =+IF(Q43=0,"----",IF(Q43>=S43,"SI","NON")) -> SI | V43: =+IF(R43=0,"----",IF(R43>=T43,"SI","NON")) -> NON | AN43: 19284 | AO43: Trabajo de Fin de Grado | AP43: 2022/2023 | AQ43: 0.96190476 | AR43: 0.82113821 | AU43: =+IF(AQ43=0,"----",IF(AQ43>=AS43,"SI","NON")) -> SI | AV43: =+IF(AR43=0,"----",IF(AR43>=AT43,"SI","NON")) -> SI | BN43: 19284 | BO43: Trabajo de Fin de Grado | BU43: =+IF(BQ43=0,"----",IF(BQ43>=BS43,"SI","NON")) -> ---- | BV43: =+IF(BR43=0,"----",IF(BR43>=BT43,"SI","NON")) -> ----

Sheet Mapa
X2: =+Procedementos!H5 -> Curso 23-24 | Y2: =+Procedementos!J5 -> Curso X+1
C3: =+CONCATENATE("MAPA DE PROCESOS DO CENTRO DO ",Centro!E4) -> MAPA DE PROCESOS DO CENTRO DO Curso 23-24 | X3: =+Procedementos!$H$6 -> 1
Q5: PROCESOS ESTRATÉXICOS | AJ5: PROCESOS ESTRATÉXICOS | AK5: =+Procedementos!$H$7 -> 1
D6: DIRECCIÓN ESTRATÉXICA (DE) | L6: XESTIÓN DA CALIDADE E MELLORA CONTINUA (MC) | X6: =+Procedementos!$H$8 -> 1 | Y6: =+Procedementos!#REF! -> #REF! | AE6: XESTIÓN DA CALIDADE E MELLORA CONTINUA (MC) | AF6: =+Procedementos!$H$16 -> 1
D8: DE-01: Programación e desenvolvemento estratéxico | F8: DE-02 Seguimento e Medición | H8: DE-03 Revisión do sistema pola dirección | L8: MC-02: Xestión das queixas, suxestións e parabéns | N8: MC-05 Medición satisfacción dos grupos interese | X8: =+Procedementos!$H$9 -> 1 | Y8: DE-02 Seguimento e Medición | Z8: =+Procedementos!$H$11 -> 1 | AA8: DE-03 Revisión do sistema pola dirección | AB8: =+Procedementos!$H$11 -> 1 | AE8: MC-02: Xestión das queixas, suxestións e parabéns | AF8: =+Procedementos!$H$17 -> 1 | AG8: MC-05 Medición satisfacción dos grupos interese | AH8: =+Procedementos!$H$19 -> 1
Q11: PROCESOS CLAVE | AJ11: PROCESOS CLAVE | AK11: =+Procedementos!$H$21 -> 1
D12: DOCENCIA (DO) | L12: XESTIÓN ACADÉMICA (AC) | X12: =+AVERAGE(Procedementos!H22,Procedementos!H29,Procedementos!H42) -> 1 | AE12: XESTIÓN ACADÉMICA (AC) | AF12: =+Procedementos!$H$45 -> 1
D14: DO-0101: Deseño, verificación, modificación e acreditación das titulacións oficiais | F14: DO-0201 Planificación e desenvolvemento da ensinanza | H14: DO-0204: Xestión das prácticas académicas | L14: AC-01: Acceso, evolución e Expedición de Titulos Oficiais | X14: =+Procedementos!$H$23 -> 1 | Y14: DO-0201 Planificación e desenvolvemento da ensinanza | Z14: =+Procedementos!$H$30 -> 1 | AA14: DO-0204: Xestión das prácticas académicas | AB14: =+Procedementos!$H$37 -> 1 | AE14: AC-01: Acceso, evolución e Expedición de Titulos Oficiais | AF14: =+Procedementos!$H$46 -> 1
D16: DO-0102: Seguimento e mellora das titulacións | F16: DO-0202 Promoción das titulacións | H16: DO-0205: Xestión da mobilidade | X16: =+Procedementos!$H$25 -> 1 | Y16: DO-0202 Promoción das titulacións | Z16: =+Procedementos!$H$32 -> 1 | AA16: DO-0205: Xestión da mobilidade | AB16: =+Procedementos!$H$40 -> 1
D18: DO-0103: Suspensión e extinción dunha titulación | F18: DO-0203: Orientación do estudantado e atención ás NEAE | H18: DO-0301 Información Pública | X18: =+Procedementos!$H$27 -> ----- | Y18: DO-0203: Orientación do estudantado e atención ás NEAE | Z18: =+Procedementos!$H$34 -> 1 | AA18: DO-0301 Información Pública | AB18: =+Procedementos!$H$43 -> 1
Q21: PROCESOS SOPORTE | AJ21: PROCESOS SOPORTE | AK21: =+Procedementos!$H$49 -> 1
D22: XESTIÓN DO PERSOAL (PE) | H22: XESTIÓN DOCUMENTAL (XD) | L22: XESTIÓN DA INFRAESTRUTURA (IA) | X22: =+Procedementos!$H$50 -> 1 | AA22: XESTIÓN DOCUMENTAL (XD) | AB22: =+Procedementos!$H$58 -> 1 | AE22: XESTIÓN DA INFRAESTRUTURA (IA) | AF22: =+Procedementos!$H$62 -> 1
D24: PE-01 Xestión do PAS | H24: XD-01: Control dos documentos e dos rexistros | L24: IA-01: Xestión dos recursos materiais e dos servizos | X24: =+Procedementos!$H$51 -> 1 | AA24: XD-01: Control dos documentos e dos rexistros | AB24: =+Procedementos!$H$59 -> 1 | AE24: IA-01: Xestión dos recursos materiais e dos servizos | AF24: =+Procedementos!$H$63 -> 1
D26: PE-02 Xestión de PDI | X26: =+Procedementos!$H$53 -> 1
D31: Lenda de cores | F31: ≥75% Obxectivos acadados | H31: ≥50% Obxectivos acadados | L31: ≥25% Obxectivos acadados | N31: <25% Obxectivos acadados | Q31: 0% Obxectivos acadados
X50: =+Procedementos!J34 -> 0 | Y50: =+Procedementos!J34 -> 0
C51: =+CONCATENATE("MAPA DE PROCESOS DO CENTRO DO ",Centro!I4) -> MAPA DE PROCESOS DO CENTRO DO Curso X+1 | X51: =+Procedementos!$J$6 -> 0.083333333
Q53: PROCESOS ESTRATÉXICOS | AJ53: PROCESOS ESTRATÉXICOS | AK53: =+Procedementos!$J$7 -> 0.25
D54: DIRECCIÓN ESTRATÉXICA (DE) | L54: XESTIÓN DA CALIDADE E MELLORA CONTINUA (MC) | X54: =+Procedementos!$J$8 -> 0.5 | Y54: =+Procedementos!#REF! -> #REF! | AE54: XESTIÓN DA CALIDADE E MELLORA CONTINUA (MC) | AF54: =+Procedementos!$J$16 -> 0
D56: DE-01: Programación e desenvolvemento estratéxico | F56: DE-02 Seguimento e Medición | H56: DE-03 Revisión do sistema pola dirección | L56: MC-02: Xestión das queixas, suxestións e parabéns | N56: MC-05 Medición satisfacción dos grupos interese | X56: =+Procedementos!$J$9 -> 1 | Y56: DE-02 Seguimento e Medición | Z56: =+Procedementos!$J$11 -> 0 | AA56: DE-03 Revisión do sistema pola dirección | AB56: =+Procedementos!$J$11 -> 0 | AE56: MC-02: Xestión das queixas, suxestións e parabéns | AF56: =+Procedementos!$J$17 -> 0 | AG56: MC-05 Medición satisfacción dos grupos interese | AH56: =+Procedementos!$J$19 -> 0
Q59: PROCESOS CLAVE | AJ59: PROCESOS CLAVE | AK59: =+Procedementos!$J$21 -> 0
D60: DOCENCIA (DO) | L60: XESTIÓN ACADÉMICA (AC) | X60: =+AVERAGE(Procedementos!$J$22,Procedementos!$J$29,Procedementos!$J$42) -> 0 | AE60: XESTIÓN ACADÉMICA (AC) | AF60: =+Procedementos!$J$45 -> 0
D62: DO-0101: Deseño, verificación, modificación e acreditación das titulacións oficiais | F62: DO-0201 Planificación e desenvolvemento da ensinanza | H62: DO-0204: Xestión das prácticas académicas | L62: AC-01: Acceso, evolución e Expedición de Titulos Oficiais | X62: =+Procedementos!$J$23 -> 0 | Y62: DO-0201 Planificación e desenvolvemento da ensinanza | Z62: =+Procedementos!$J$30 -> 0 | AA62: DO-0204: Xestión das prácticas académicas | AB62: =+Procedementos!$J$37 -> 0 | AE62: AC-01: Acceso, evolución e Expedición de Titulos Oficiais | AF62: =+Procedementos!$J$46 -> 0
D64: DO-0102: Seguimento e mellora das titulacións | F64: DO-0202 Promoción das titulacións | H64: DO-0205: Xestión da mobilidade | X64: =+Procedementos!$J$25 -> 0 | Y64: DO-0202 Promoción das titulacións | Z64: =+Procedementos!$J$32 -> 0 | AA64: DO-0205: Xestión da mobilidade | AB64: =+Procedementos!$J$40 -> 0
D66: DO-0103: Suspensión e extinción dunha titulación | F66: DO-0203: Orientación do estudantado e atención ás NEAE | H66: DO-0301 Información Pública | X66: =+Procedementos!$H$27 -> ----- | Y66: DO-0203: Orientación do estudantado e atención ás NEAE | Z66: =+Procedementos!$H$34 -> 1 | AA66: DO-0301 Información Pública | AB66: =+Procedementos!$H$43 -> 1
Q69: PROCESOS SOPORTE | AJ69: PROCESOS SOPORTE | AK69: =+Procedementos!$H$49 -> 1
D70: XESTIÓN DO PERSOAL (PE) | H70: XESTIÓN DOCUMENTAL (XD) | L70: XESTIÓN DA INFRAESTRUTURA (IA) | X70: =+Procedementos!$H$50 -> 1 | AA70: XESTIÓN DOCUMENTAL (XD) | AB70: =+Procedementos!$H$58 -> 1 | AE70: XESTIÓN DA INFRAESTRUTURA (IA) | AF70: =+Procedementos!$H$62 -> 1
D72: PE-01 Xestión do PAS | H72: XD-01: Control dos documentos e dos rexistros | L72: IA-01: Xestión dos recursos materiais e dos servizos | X72: =+Procedementos!$H$51 -> 1 | AA72: XD-01: Control dos documentos e dos rexistros | AB72: =+Procedementos!$H$59 -> 1 | AE72: IA-01: Xestión dos recursos materiais e dos servizos | AF72: =+Procedementos!$H$63 -> 1
D74: PE-02 Xestión de PDI | X74: =+Procedementos!$H$53 -> 1
D79: Lenda de cores | F79: ≥75% Obxectivos acadados | H79: ≥50% Obxectivos acadados | L79: ≥25% Obxectivos acadados | N79: <25% Obxectivos acadados | Q79: 0% Obxectivos acadados
C101: =+CONCATENATE("MAPA DE PROCESOS DO CENTRO ",Centro!M4) -> MAPA DE PROCESOS DO CENTRO Curso X+2 | W101: Procesos | X101: =+Procedementos!$L$6 -> 0.083333333
Q103: PROCESOS ESTRATÉXICOS | AJ103: PROCESOS ESTRATÉXICOS | AK103: =+Procedementos!$L$7 -> 0.25
D104: DIRECCIÓN ESTRATÉXICA (DE) | L104: XESTIÓN DA CALIDADE E MELLORA CONTINUA (MC) | W104: DIRECCIÓN ESTRATÉXICA (DE) | X104: =+Procedementos!$L$7 -> 0.25 | AE104: XESTIÓN DA CALIDADE E MELLORA CONTINUA (MC) | AF104: =+Procedementos!$L$16 -> 0
D106: DE-01: Programación e desenvolvemento estratéxico | F106: DE-02 Seguimento e Medición | H106: DE-03 Revisión do sistema pola dirección | L106: MC-02: Xestión das queixas, suxestións e parabéns | N106: MC-05 Medición satisfacción dos grupos interese | W106: DE-01: Programación e desenvolvemento estratéxico | X106: =+Procedementos!$L$9 -> 1 | Y106: DE-02 Seguimento e Medición | Z106: =+Procedementos!$L$11 -> 0 | AA106: DE-03 Revisión do sistema pola dirección | AB106: =+Procedementos!$L$11 -> 0 | AE106: MC-02: Xestión das queixas, suxestións e parabéns | AF106: =+Procedementos!$L$17 -> 0 | AG106: MC-05 Medición satisfacción dos grupos interese | AH106: =+Procedementos!$L$19 -> 0
Q109: PROCESOS CLAVE | AJ109: PROCESOS CLAVE | AK109: =+Procedementos!$L$21 -> 0
D110: DOCENCIA (DO) | L110: XESTIÓN ACADÉMICA (AC) | W110: DOCENCIA (DO) | X110: =+AVERAGE(Procedementos!$L$22,Procedementos!$L$29,Procedementos!$L$42) -> 0 | AE110: XESTIÓN ACADÉMICA (AC) | AF110: =+Procedementos!$L$45 -> 0
D112: DO-0101: Deseño, verificación, modificación e acreditación das titulacións oficiais | F112: DO-0201 Planificación e desenvolvemento da ensinanza | H112: DO-0204: Xestión das prácticas académicas | L112: AC-01: Acceso, evolución e Expedición de Titulos Oficiais | W112: DO-0101: Deseño, verificación, modificación e acreditación das titulacións oficiais | X112: =+Procedementos!$L$23 -> 0 | Y112: DO-0201 Planificación e desenvolvemento da ensinanza | Z112: =+Procedementos!$L$30 -> 0 | AA112: DO-0204: Xestión das prácticas académicas | AB112: =+Procedementos!$L$37 -> 0 | AE112: AC-01: Acceso, evolución e Expedición de Titulos Oficiais | AF112: =+Procedementos!$L$46 -> 0
D114: DO-0102: Seguimento e mellora das titulacións | F114: DO-0202 Promoción das titulacións | H114: DO-0205: Xestión da mobilidade | W114: DO-0102: Seguimento e mellora das titulacións | X114: =+Procedementos!$L$25 -> 0 | Y114: DO-0202 Promoción das titulacións | Z114: =+Procedementos!$L$32 -> 0 | AA114: DO-0205: Xestión da mobilidade | AB114: =+Procedementos!$L$40 -> 0
D116: DO-0103: Suspensión e extinción dunha titulación | F116: DO-0203: Orientación do estudantado e atención ás NEAE | H116: DO-0301 Información Pública | W116: DO-0103: Suspensión e extinción dunha titulación | X116: =+Procedementos!$L$27 -> ----- | Y116: DO-0203: Orientación do estudantado e atención ás NEAE | Z116: =+Procedementos!$L$34 -> 0 | AA116: DO-0301 Información Pública | AB116: =+Procedementos!$L$43 -> 0
Q119: PROCESOS SOPORTE | AJ119: PROCESOS SOPORTE | AK119: =+Procedementos!$L$49 -> 0
D120: XESTIÓN DO PERSOAL (PE) | H120: XESTIÓN DOCUMENTAL (XD) | L120: XESTIÓN DA INFRAESTRUTURA (IA) | W120: XESTIÓN DO PERSOAL (PE) | X120: =+Procedementos!$L$50 -> 0 | AA120: XESTIÓN DOCUMENTAL (XD) | AB120: =+Procedementos!$L$58 -> 0 | AE120: XESTIÓN DA INFRAESTRUTURA (IA) | AF120: =+Procedementos!$L$62 -> 0
D122: PE-01 Xestión do PAS | H122: XD-01: Control dos documentos e dos rexistros | L122: IA-01: Xestión dos recursos materiais e dos servizos | W122: PE-01 Xestión do PAS | X122: =+Procedementos!$L$51 -> 0 | AA122: XD-01: Control dos documentos e dos rexistros | AB122: =+Procedementos!$L$59 -> 0 | AE122: IA-01: Xestión dos recursos materiais e dos servizos | AF122: =+Procedementos!$L$63 -> 0
D124: PE-02 Xestión de PDI | W124: PE-02 Xestión de PDI | X124: =+Procedementos!$L$53 -> 0
D129: Lenda de cores | F129: ≥75% Obxectivos acadados | H129: ≥50% Obxectivos acadados | L129: ≥25% Obxectivos acadados | N129: <25% Obxectivos acadados | Q129: 0% Obxectivos acadados
